Workbook

Sheet Instructions
A1: INSTRUCTIONS
A2: Gather the following reports:
A3: 1 - DebtBook Audit Notes Report - for Leases (If your agency has capitalizable leases)
A4: Ensure you are within the Leases module of DebtBook and navigate to Reporting --> Audit Notes --> Create Notes
A13: Input the following parameters & click Next:
A24: Give your report a name
A26: Select your profile
A29: 06/30/20XX for the current fiscal year
A32: Export Format = Charts Only
A34: Source Scheduled
A38: Click "Create Export"
A60: From the list of Exports, find your report and under "Actions" click "Export"
... A84: 3 - See each of the subsequent three tabs for the disclosure forms that require input related to Leases and/or SBITA related disclosure forms to see which sections of the DebtBook Audit Notes reports can be used when completing these disclosure forms.

Sheet Capital Asset Disclosure
A1: Capital Assets - Summary of Activity Disclosure
A3: Capital Assets
A4: Account | B4: GL | C4: Beginning Balance from AFRS | D4: DR Additions | E4: CR Deletions | F4: Adjustments | G4: Calculated Ending Balance | H4: Ending Balance from AFRS | I4: Difference (Must be Zero) | J4: Comment | K4: From Activity (Rollforward Schedule) - either Lease OR Subscription
A5: 997 - General Capital Assets | B5: 2610 - Lease Asset - Land | C5: 7372898 | D5: ='Lease-Activity (Rollforward)'!K22 -> 0 | E5: =-'Lease-Activity (Rollforward)'!L22 -> 0 | F5: 0 | G5: =SUM(C5:F5) -> 7372898 | H5: 7372898 | I5: =G5-H5 -> 0 | K5: Lease-Activity (Rollfoward) Tab - "Total Land Lease Assets" line - DR = Additions; CR = Reductions
A6: 997 - General Capital Assets | B6: 2630 - Lease Asset - Building | C6: 20603095 | D6: ='Lease-Activity (Rollforward)'!K16 -> 709487 | E6: =-'Lease-Activity (Rollforward)'!L16 -> -608276 | F6: 0 | G6: =SUM(C6:F6) -> 20704306 | H6: 20704306 | I6: =G6-H6 -> 0 | K6: Lease-Activity (Rollfoward) Tab - "Total Building Lease Assets" line - DR = Additions; CR = Reductions
A7: 997 - General Capital Assets | B7: 2650 - Lease Asset - Equipment | C7: 221743 | D7: ='Lease-Activity (Rollforward)'!K26 -> 0 | E7: =-'Lease-Activity (Rollforward)'!L26 -> 0 | F7: 0 | G7: =SUM(C7:F7) -> 221743 | H7: 221743 | I7: =G7-H7 -> 0 | K7: Lease-Activity (Rollfoward) Tab - "Total Equipment Lease Assets" or "Total Other Lease Assets" line - DR = Additions; CR = Reductions
A8: 997 - General Capital Assets | B8: 2670 - Subscription IT Asset | C8: 7567230 | D8: ='SBITA-Activity (Rollforward)'!K15 -> 5519697 | E8: =-'SBITA-Activity (Rollforward)'!L15 -> 0 | F8: 0 | G8: =SUM(C8:F8) -> 13086927 | H8: 13086927 | I8: =G8-H8 -> 0 | K8: SBITA-Activity (Rollfoward) Tab - "Total Subscription Assets" line - DR = Additions; CR = Reductions
A10: Depreciation/Amortization and Allowance for Depreciation/Amortization
A11: Account | B11: GL | C11: Beginning Balance from AFRS | D11: DR | E11: CR | F11: Adjustments | G11: Calculated Ending Balance | H11: Ending Balance from AFRS | I11: Difference (Must be Zero) | J11: Comment | K11: From Activity (Rollforward Schedule) - either Lease OR Subscription
A12: 997 - General Capital Assets | B12: 2620 - Allow for Amort - Land Lease Asset | C12: -2334733 | D12: ='Lease-Activity (Rollforward)'!L43 -> 0 | E12: =-'Lease-Activity (Rollforward)'!K43 -> -778244 | F12: 0 | G12: =SUM(C12:F12) -> -3112977 | H12: -3112978 | I12: =G12-H12 -> 1 | K12: Lease-Activity (Rollfoward) Tab - "Total Land Lease Accumulated Amortization" line - DR = Reductions; CR = Additions
A13: 997 - General Capital Assets | B13: 2640 - Allow for Amort - Bldg Lease Asset | C13: -12982835 | D13: ='Lease-Activity (Rollforward)'!L37 -> 398977 | E13: =-'Lease-Activity (Rollforward)'!K37 -> -4355056 | F13: 0 | G13: =SUM(C13:F13) -> -16938914 | H13: -16938914 | I13: =G13-H13 -> 0 | K13: Lease-Activity (Rollfoward) Tab - "Total Building Lease Accumulated Amortization" line - DR = Reductions; CR = Additions
A14: 997 - General Capital Assets | B14: 2660 - Allow for Amort - Equipment Lease Asset | C14: -147829 | D14: ='Lease-Activity (Rollforward)'!L47 -> 0 | E14: =-'Lease-Activity (Rollforward)'!K47 -> -49276 | F14: 0 | G14: =SUM(C14:F14) -> -197105 | H14: -197105 | I14: =G14-H14 -> 0 | K14: Lease-Activity (Rollfoward) Tab - "Total Equipment Lease Accumulated Amortization" line - DR = Reductions; CR = Additions
A15: 997 - General Capital Assets | B15: 2680 - Allow for Amort - Subscription IT Asset | C15: -5288054 | D15: ='SBITA-Activity (Rollforward)'!L23 -> 0 | E15: =-'SBITA-Activity (Rollforward)'!K23 -> -3441756 | F15: 0 | G15: =SUM(C15:F15) -> -8729810 | H15: -8729810 | I15: =G15-H15 -> 0 | K15: SBITA-Activity (Rollfoward) Tab - "Total Subscription Accumulated Amortization" or "Total Other Lease Accumulated Amortization" line - DR = Reductions; CR = Additions
A18: Notes:
A19: Agencies with Internal Service & Proprietary activity will need to use the "Fund" tab for the specific accounts. In those situations you may need to sumarize multiple funds for the 997 activity
A20: Allocation adjustment activity can show as an increase or decrease on the DebtBook Audit Notes report. Those amounts should not be included as increases or decreases but should listed in the "Adjustments" column and NET to zero for the agency

Sheet Lease&SBITA Disclosure
A1: Lease and SBITA Disclosure
A3: Leases:
A4: 2. Right-to-Use Lease Agreement Future Payments (state agency is lessee) - Principal and Interest to Maturity: For leases paid to external entities (not state agencies) having initial
A5: noncancelable lease terms in excess of one year, report the future payments, by principal and interest, as of June 30, for each of the five succeeding fiscal years and in five-year
A6: increments thereafter. Reporting should be limited to existing leases.
C8: Governmental and Internal Service fund type accounts | E8: Enterprise fund type accounts
B9: Fiscal Year | C9: Principal | D9: Interest | E9: Principal | F9: Interest | G9: From Lease-Lessee Footnote Tab
B10: 2026 | C10: ='Lease-Lessee Footnote'!C28 -> 2766320 | D10: ='Lease-Lessee Footnote'!D28 -> 118343 | E10: ='Lease-Lessee Footnote'!C21 -> 0 | F10: ='Lease-Lessee Footnote'!D21 -> 0
B11: 2027 | C11: ='Lease-Lessee Footnote'!C29 -> 2318889 | D11: ='Lease-Lessee Footnote'!D29 -> 89119 | E11: ='Lease-Lessee Footnote'!C22 -> 0 | F11: ='Lease-Lessee Footnote'!D22 -> 0
B12: 2028 | C12: ='Lease-Lessee Footnote'!C30 -> 1398892 | D12: ='Lease-Lessee Footnote'!D30 -> 62245 | E12: ='Lease-Lessee Footnote'!C23 -> 0 | F12: ='Lease-Lessee Footnote'!D23 -> 0
B13: 2029 | C13: ='Lease-Lessee Footnote'!C31 -> 499383 | D13: ='Lease-Lessee Footnote'!D31 -> 45970 | E13: ='Lease-Lessee Footnote'!C24 -> 0 | F13: ='Lease-Lessee Footnote'!D24 -> 0
B14: 2030 | C14: ='Lease-Lessee Footnote'!C32 -> 389906 | D14: ='Lease-Lessee Footnote'!D32 -> 33948 | E14: 0 | F14: 0
B15: 2031-2035 | C15: ='Lease-Lessee Footnote'!C33 -> 1314543 | D15: ='Lease-Lessee Footnote'!D33 -> 64410 | E15: 0 | F15: 0
B16: 2036-2040 | C16: ='[1]Lease - Future Pmts'!C27 -> 0 | D16: ='[1]Lease - Future Pmts'!D27 -> 0 | E16: 0 | F16: 0
B17: 2041-2045 | C17: ='[1]Lease - Future Pmts'!C28 -> 0 | D17: ='[1]Lease - Future Pmts'!D28 -> 0 | E17: 0 | F17: 0
B18: 2046-2050 | C18: ='[2]Lease - Lessee Footnote'!C35 -> 0 | D18: ='[2]Lease - Lessee Footnote'!D35 -> 0 | E18: 0 | F18: 0
B19: 2051-2055 | C19: 0 | D19: ='[2]Lease - Lessee Footnote'!D36 -> 0 | E19: 0 | F19: 0
B20: 2056-2060 | C20: 0 | D20: 0 | E20: 0 | F20: 0
B21: 2061-2065 | C21: 0 | D21: 0 | E21: 0 | F21: 0
B22: 2066-2070 | C22: 0 | D22: 0 | E22: 0 | F22: 0
B23: Thereafter | C23: 0 | D23: 0 | E23: 0 | F23: 0
B24: Total | C24: =SUM(C10:C23) -> 8687933 | D24: =SUM(D10:D23) -> 414035 | E24: =SUM(E10:E23) -> 0 | F24: =SUM(F10:F23) -> 0
A26: Subscription-Based IT Arrangements (SBITAs):
A27: 6. SBITA Future Payments (state agency is lessee) - Principal and Interest to Maturity: SBITAs paid to external entities (not state agencies) having initial noncancelable subscription
A28: terms in excess of one year, report the future payments, by principal and interest, as of June 30, for each of the five succeeding fiscal years and in five-year increments thereafter.
A29: Reporting should be limited to existing contracts.
C31: Governmental and Internal Service fund type accounts | E31: Enterprise fund type accounts
B32: Fiscal Year | C32: Principal | D32: Interest | E32: Principal | F32: Interest | G32: From Subscription - Footnote Tab
B33: 2026 | C33: ='Subscription - Footnote'!C26 -> 3704267 | D33: ='Subscription - Footnote'!D26 -> 131285 | E33: ='Subscription - Footnote'!C19 -> 0 | F33: ='Subscription - Footnote'!D19 -> 0
B34: 2027 | C34: ='Subscription - Footnote'!C27 -> 810840 | D34: ='Subscription - Footnote'!D27 -> 8048 | E34: ='Subscription - Footnote'!C20 -> 0 | F34: ='Subscription - Footnote'!D20 -> 0
B35: 2028 | C35: 0 | D35: 0 | E35: ='Subscription - Footnote'!C21 -> 0 | F35: ='Subscription - Footnote'!D21 -> 0
B36: 2029 | C36: 0 | D36: 0 | E36: ='Subscription - Footnote'!C22 -> 0 | F36: ='Subscription - Footnote'!D22 -> 0
B37: 2030 | C37: 0 | D37: 0 | E37: 0 | F37: 0
B38: 2031-2035 | C38: 0 | D38: 0 | E38: 0 | F38: 0
B39: 2036-2040 | C39: 0 | D39: 0 | E39: 0 | F39: 0
B40: 2041-2045 | C40: 0 | D40: 0 | E40: 0 | F40: 0
B41: 2046-2050 | C41: 0 | D41: 0 | E41: 0 | F41: 0
B42: 2051-2055 | C42: 0 | D42: 0 | E42: 0 | F42: 0
B43: 2056-2060 | C43: 0 | D43: 0 | E43: 0 | F43: 0
B44: 2061-2065 | C44: 0 | D44: 0 | E44: 0 | F44: 0
...

Sheet LiabilitiesbyMajorClass Disc
A1: Liabilities by Major Class - Summary of Activity Disclosure
A3: Account | B3: Major Class | C3: GL Code | D3: Beginning Balance From AFRS | E3: DR Decreases | F3: CR Increases | G3: Adjustments | H3: Calculated Ending Balance | I3: Ending Balance from AFRS | J3: Difference (Must be zero) | K3: Comment
A4: 999 - General Long Term Obligations | B4: Right-to-Use Lease Liability | C4: 5174/5274 | D4: -13520600 | E4: ='Lease-Activity (Rollforward)'!E28 -> 5542153 | F4: =-'Lease-Activity (Rollforward)'!D28 -> -709487 | G4: 0 | H4: =SUM(D4:G4) -> -8687934 | I4: -8687934 | J4: =H4-I4 -> 0 | L4: Lease-Activity (Rollfoward) Tab - "Total Lease Liability" line - DR = Reductions; CR = Additions
A5: 999 - General Long Term Obligations | B5: Subscription Information Technology Liability | C5: 5175/5275 | D5: -1593278 | E5: ='SBITA-Activity (Rollforward)'!E15 -> 2597867 | F5: =-'SBITA-Activity (Rollforward)'!D15 -> -5519697 | G5: 0 | H5: =SUM(D5:G5) -> -4515108 | I5: -4515108 | J5: =H5-I5 -> 0 | L5: SBITA-Activity (Rollfoward) Tab - "Total Subscription Liability" line - DR = Reductions; CR = Additions
A10: Notes:
A11: Agencies with Internal Service & Proprietary activity will need to use the "Fund" tab for the specific accounts. In those situations you may need to sumarize multiple funds for the 999 activity
A12: Allocation adjustment activity can show as an increase or decrease on the DebtBook Audit Notes report. Those amounts should not be included as increases or decreases but should listed in the "Adjustments" column and NET to zero for the agency

Sheet Lease-Lessee Footnote
B1: 405 - DEPARTMENT OF TRANSPORTATION
B2: NOTES TO FINANCIAL STATEMENTS
B3: YEAR ENDED 6/30/2025
B5: Leases Payable
B7: Amount of Lease Assets by Major Classes of Underlying Asset
C9: As of Fiscal Year-end
B10: Asset Class | C10: Lease Asset Value | D10: Accumulated Amortization
B11: Buildings | C11: 20704306 | D11: 16938914
B12: Other | C12: 221743 | D12: 197105
B13: Land | C13: 7372898 | D13: 3112978
B14: Total Leases | C14: =SUM(C11:C13) -> 28298947 | D14: =SUM(D11:D13) -> 20248997
B17: Principal and Interest Requirements to Maturity
C19: Business-Type Activities
B20: Fiscal Year | C20: Principal Payments | D20: Interest Payments | E20: Total Payments
B21: 2027
B22: 2028
B23: 2029
B24: 2030
C26: Governmental Activities
B27: Fiscal Year | C27: Principal Payments | D27: Interest Payments | E27: Total Payments
B28: 2026 | C28: 2766320 | D28: 118343 | E28: 2884663
B29: 2027 | C29: 2318889 | D29: 89119 | E29: 2408008
B30: 2028 | C30: 1398892 | D30: 62245 | E30: 1461137
B31: 2029 | C31: 499383 | D31: 45970 | E31: 545353
B32: 2030 | C32: 389906 | D32: 33948 | E32: 423854
B33: 2031 - 2035 | C33: 1314543 | D33: 64410 | E33: 1378953

Sheet Lease-Activity (Rollforward)
B1: 405 - DEPARTMENT OF TRANSPORTATION
B2: NOTES TO FINANCIAL STATEMENTS
B3: YEAR ENDED 6/30/2025
B5: Activity (Rollforward Schedule)
B7: GOVERNMENTAL ACTIVITIES: | C7: Balance as of | F7: Balance as of | G7: Short-Term Balance as of | I7: GOVERNMENTAL ACTIVITIES: | J7: Balance as of | M7: Balance as of
C8: 45474 | D8: Additions | E8: Reductions | F8: 45838 | G8: 45838 | J8: 45474 | K8: Additions | L8: Reductions | M8: 45838
B9: Lease Liability | I9: Lease Assets
B10: Buildings | I10: Buildings
B11: SRL 17-0021 | C11: 3815451 | D11: 0 | E11: 1094206 | F11: 2721245 | G11: 1137833 | I11: SRL 17-0021 | J11: 5998774 | K11: 0 | L11: 0 | M11: 5998774
B12: SRL 18-0133 | C12: 34339 | D12: 709487 | E12: 110843 | F12: 632983 | G12: 139561 | I12: SRL 18-0133 | J12: 440826 | K12: 709487 | L12: 0 | M12: 1150312
B13: SRL 19-0150 | C13: 3559821 | D13: 0 | E13: 3049010 | F13: 510811 | G13: 510811 | I13: SRL 19-0150 | J13: 12555075 | K13: 0 | L13: 0 | M13: 12555075
B14: SRL 21-0049 | C14: 266714 | D14: 0 | E14: 266714 | F14: 0 | G14: 0 | I14: SRL 21-0049 | J14: 608276 | K14: 0 | L14: 608276 | M14: 0
B15: SRL 22-0107 | C15: 666002 | D15: 0 | E15: 202876 | F15: 463125 | G15: 204689 | I15: SRL 22-0107 | J15: 1000144 | K15: 0 | L15: 0 | M15: 1000144
B16: Total Building Lease Liability | C16: =SUM(C11:C15) -> 8342327 | D16: =SUM(D11:D15) -> 709487 | E16: =SUM(E11:E15) -> 4723649 | F16: =SUM(F11:F15) -> 4328164 | G16: =SUM(G11:G15) -> 1992894 | I16: Total Building Lease Assets | J16: =SUM(J11:J15) -> 20603095 | K16: =SUM(K11:K15) -> 709487 | L16: =SUM(L11:L15) -> 608276 | M16: =SUM(M11:M15) -> 20704305
B18: Land | I18: Land
B19: Anacortes 2008 | C19: 1816800 | D19: 0 | E19: 448157 | F19: 1368643 | G19: 452162 | I19: Anacortes 2008 | J19: 3139921 | K19: 0 | L19: 0 | M19: 3139921
B20: Kingston 2000 | C20: 1999720 | D20: 0 | E20: 163073 | F20: 1836647 | G20: 166581 | I20: Kingston 2000 | J20: 2473006 | K20: 0 | L20: 0 | M20: 2473006
B21: Sidney 2012 | C21: 1305938 | D21: 0 | E21: 151457 | F21: 1154481 | G21: 154683 | I21: Sidney 2012 | J21: 1759971 | K21: 0 | L21: 0 | M21: 1759971
B22: Total Land Lease Liability | C22: =SUM(C19:C21) -> 5122458 | D22: =SUM(D19:D21) -> 0 | E22: =SUM(E19:E21) -> 762687 | F22: =SUM(F19:F21) -> 4359771 | G22: =SUM(G19:G21) -> 773426 | I22: Total Land Lease Assets | J22: =SUM(J19:J21) -> 7372898 | K22: =SUM(K19:K21) -> 0 | L22: =SUM(L19:L21) -> 0 | M22: =SUM(M19:M21) -> 7372898
B24: Other | I24: Other
B25: DOT - Wireless Lease 0P01262 0 | C25: 55817 | D25: 0 | E25: 55817 | F25: 0 | G25: 0 | I25: DOT - Wireless Lease 0P01262 0 | J25: 221743 | K25: 0 | L25: 0 | M25: 221743
B26: Total Other Lease Liability | C26: =SUM(C25:C25) -> 55817 | D26: =SUM(D25:D25) -> 0 | E26: =SUM(E25:E25) -> 55817 | F26: =SUM(F25:F25) -> 0 | G26: =SUM(G25:G25) -> 0 | I26: Total Other Lease Assets | J26: =SUM(J25:J25) -> 221743 | K26: =SUM(K25:K25) -> 0 | L26: =SUM(L25:L25) -> 0 | M26: =SUM(M25:M25) -> 221743
B28: Total Lease Liability | C28: =C16+C22+C26 -> 13520602 | D28: =D16+D22+D26 -> 709487 | E28: =E16+E22+E26 -> 5542153 | F28: =F16+F22+F26 -> 8687935 | G28: =G16+G22+G26 -> 2766320 | I28: Total Lease Assets | J28: =J16+J22+J26 -> 28197736 | K28: =K16+K22+K26 -> 709487 | L28: =L16+L22+L26 -> 608276 | M28: =M16+M22+M26 -> 28298946
I30: Lease Accumulated Amortization
I31: Buildings
I32: SRL 17-0021 | J32: 2841525 | K32: 947175 | L32: 0 | M32: 3788699
I33: SRL 18-0133 | J33: 406916 | K33: 140347 | L33: 0 | M33: 547263
I34: SRL 19-0150 | J34: 9039654 | K34: 3013218 | L34: 0 | M34: 12052872
I35: SRL 21-0049 | J35: 344690 | K35: 54287 | L35: 398977 | M35: 0
I36: SRL 22-0107 | J36: 350050 | K36: 200029 | L36: 0 | M36: 550079
I37: Total Building Lease Accumulated Amortization | J37: =SUM(J32:J36) -> 12982835 | K37: =SUM(K32:K36) -> 4355056 | L37: =SUM(L32:L36) -> 398977 | M37: =SUM(M32:M36) -> 16938913
I39: Land
I40: Anacortes 2008 | J40: 1345680 | K40: 448560 | L40: 0 | M40: 1794240
I41: Kingston 2000 | J41: 529930 | K41: 176643 | L41: 0 | M41: 706573
I42: Sidney 2012 | J42: 459123 | K42: 153041 | L42: 0 | M42: 612164
I43: Total Land Lease Accumulated Amortization | J43: =SUM(J40:J42) -> 2334733 | K43: =SUM(K40:K42) -> 778244 | L43: =SUM(L40:L42) -> 0 | M43: =SUM(M40:M42) -> 3112977
I45: Other
I46: DOT - Wireless Lease 0P01262 0 | J46: 147829 | K46: 49276 | L46: 0 | M46: 197105
I47: Total Other Lease Accumulated Amortization | J47: =SUM(J46:J46) -> 147829 | K47: =SUM(K46:K46) -> 49276 | L47: =SUM(L46:L46) -> 0 | M47: =SUM(M46:M46) -> 197105
I49: Total Lease Accumulated Amortization | J49: =J37+J43+J47 -> 15465397 | K49: =K37+K43+K47 -> 5182576 | L49: =L37+L43+L47 -> 398977 | M49: =M37+M43+M47 -> 20248995
...

Sheet Lease-Fund (Rollforward)
B1: 405 - DEPARTMENT OF TRANSPORTATION
B2: NOTES TO FINANCIAL STATEMENTS
B3: YEAR ENDED 6/30/2025
B5: Fund (Rollforward Schedule)
B7: 099 - PUGET SOUND CAPITAL CONSTRUCTION ACTIVITIES: | C7: Balance as of | F7: Balance as of | G7: Short-Term Balance as of | I7: 099 - PUGET SOUND CAPITAL CONSTRUCTION ACTIVITIES: | J7: Balance as of | M7: Balance as of
C8: 45474 | D8: Additions | E8: Reductions | F8: 45838 | G8: 45838 | J8: 45474 | K8: Additions | L8: Reductions | M8: 45838
B9: Lease Liability | I9: Lease Assets
B10: Buildings | I10: Buildings
B11: SRL 19-0150 | C11: 3559821 | D11: 0 | E11: 3049010 | F11: 510811 | G11: 510811 | I11: SRL 19-0150 | J11: 12555075 | K11: 0 | L11: 0 | M11: 12555075
B12: Total Building Lease Liability | C12: =SUM(C11:C11) -> 3559821 | D12: =SUM(D11:D11) -> 0 | E12: =SUM(E11:E11) -> 3049010 | F12: =SUM(F11:F11) -> 510811 | G12: =SUM(G11:G11) -> 510811 | I12: Total Building Lease Assets | J12: =SUM(J11:J11) -> 12555075 | K12: =SUM(K11:K11) -> 0 | L12: =SUM(L11:L11) -> 0 | M12: =SUM(M11:M11) -> 12555075
B14: Total Lease Liability | C14: =C12 -> 3559821 | D14: =D12 -> 0 | E14: =E12 -> 3049010 | F14: =F12 -> 510811 | G14: =G12 -> 510811 | I14: Total Lease Assets | J14: =J12 -> 12555075 | K14: =K12 -> 0 | L14: =L12 -> 0 | M14: =M12 -> 12555075
I16: Lease Accumulated Amortization
I17: Buildings
I18: SRL 19-0150 | J18: 9039654 | K18: 3013218 | L18: 0 | M18: 12052872
I19: Total Building Lease Accumulated Amortization | J19: =SUM(J18:J18) -> 9039654 | K19: =SUM(K18:K18) -> 3013218 | L19: =SUM(L18:L18) -> 0 | M19: =SUM(M18:M18) -> 12052872
I21: Total Lease Accumulated Amortization | J21: =J19 -> 9039654 | K21: =K19 -> 3013218 | L21: =L19 -> 0 | M21: =M19 -> 12052872
I22: Total 099 - Puget Sound Capital Construction Lease Assets, Net | J22: =J14-J21 -> 3515421 | K22: =K14-K21 -> -3013218 | L22: =L14-L21 -> 0 | M22: =M14-M21 -> 502203
B24: 108 - MOTOR VEHICLE ACCOUNT ACTIVITIES: | C24: Balance as of | F24: Balance as of | G24: Short-Term Balance as of | I24: 108 - MOTOR VEHICLE ACCOUNT ACTIVITIES: | J24: Balance as of | M24: Balance as of
C25: 45474 | D25: Additions | E25: Reductions | F25: 45838 | G25: 45838 | J25: 45474 | K25: Additions | L25: Reductions | M25: 45838
B26: Lease Liability | I26: Lease Assets
B27: Buildings | I27: Buildings
B28: SRL 18-0133 | C28: 34339 | D28: 709487 | E28: 110843 | F28: 632983 | G28: 139561 | I28: SRL 18-0133 | J28: 440826 | K28: 709487 | L28: 0 | M28: 1150312
B29: SRL 21-0049 | C29: 266714 | D29: 0 | E29: 266714 | F29: 0 | G29: 0 | I29: SRL 21-0049 | J29: 608276 | K29: 0 | L29: 608276 | M29: 0
B30: SRL 22-0107 | C30: 666002 | D30: 0 | E30: 202876 | F30: 463125 | G30: 204689 | I30: SRL 22-0107 | J30: 1000144 | K30: 0 | L30: 0 | M30: 1000144
B31: Total Building Lease Liability | C31: =SUM(C28:C30) -> 967055 | D31: =SUM(D28:D30) -> 709487 | E31: =SUM(E28:E30) -> 580433 | F31: =SUM(F28:F30) -> 1096108 | G31: =SUM(G28:G30) -> 344250 | I31: Total Building Lease Assets | J31: =SUM(J28:J30) -> 2049246 | K31: =SUM(K28:K30) -> 709487 | L31: =SUM(L28:L30) -> 608276 | M31: =SUM(M28:M30) -> 2150456
B33: Other | I33: Other
B34: DOT - Wireless Lease 0P01262 0 | C34: 55817 | D34: 0 | E34: 55817 | F34: 0 | G34: 0 | I34: DOT - Wireless Lease 0P01262 0 | J34: 221743 | K34: 0 | L34: 0 | M34: 221743
B35: Total Other Lease Liability | C35: =SUM(C34:C34) -> 55817 | D35: =SUM(D34:D34) -> 0 | E35: =SUM(E34:E34) -> 55817 | F35: =SUM(F34:F34) -> 0 | G35: =SUM(G34:G34) -> 0 | I35: Total Other Lease Assets | J35: =SUM(J34:J34) -> 221743 | K35: =SUM(K34:K34) -> 0 | L35: =SUM(L34:L34) -> 0 | M35: =SUM(M34:M34) -> 221743
B37: Total Lease Liability | C37: =C31+C35 -> 1022872 | D37: =D31+D35 -> 709487 | E37: =E31+E35 -> 636250 | F37: =F31+F35 -> 1096108 | G37: =G31+G35 -> 344250 | I37: Total Lease Assets | J37: =J31+J35 -> 2270989 | K37: =K31+K35 -> 709487 | L37: =L31+L35 -> 608276 | M37: =M31+M35 -> 2372199
I39: Lease Accumulated Amortization
I40: Buildings
I41: SRL 18-0133 | J41: 406916 | K41: 140347 | L41: 0 | M41: 547263
I42: SRL 21-0049 | J42: 344690 | K42: 54287 | L42: 398977 | M42: 0
I43: SRL 22-0107 | J43: 350050 | K43: 200029 | L43: 0 | M43: 550079
I44: Total Building Lease Accumulated Amortization | J44: =SUM(J41:J43) -> 1101656 | K44: =SUM(K41:K43) -> 394663 | L44: =SUM(L41:L43) -> 398977 | M44: =SUM(M41:M43) -> 1097342
I46: Other
I47: DOT - Wireless Lease 0P01262 0 | J47: 147829 | K47: 49276 | L47: 0 | M47: 197105
I48: Total Other Lease Accumulated Amortization | J48: =SUM(J47:J47) -> 147829 | K48: =SUM(K47:K47) -> 49276 | L48: =SUM(L47:L47) -> 0 | M48: =SUM(M47:M47) -> 197105
I50: Total Lease Accumulated Amortization | J50: =J44+J48 -> 1249485 | K50: =K44+K48 -> 443939 | L50: =L44+L48 -> 398977 | M50: =M44+M48 -> 1294447
I51: Total 108 - Motor Vehicle Account Lease Assets, Net | J51: =J37-J50 -> 1021504 | K51: =K37-K50 -> 265548 | L51: =L37-L50 -> 209299 | M51: =M37-M50 -> 1077752
...

Sheet Subscription - Footnote
B1: 405 - DEPARTMENT OF TRANSPORTATION
B2: NOTES TO FINANCIAL STATEMENTS
B3: YEAR ENDED 6/30/2025
B5: Subscriptions Payable
B7: Amount of Subscription Assets by Major Classes of Underlying Asset
C9: As of Fiscal Year-end
B10: Asset Class | C10: Subscription Asset Value | D10: Accumulated Amortization
B11: Software | C11: 13086927 | D11: 8729810
B12: Total Subscriptions | C12: =SUM(C11:C11) -> 13086927 | D12: =SUM(D11:D11) -> 8729810
B15: Principal and Interest Requirements to Maturity
C17: Business-Type Activities
B18: Fiscal Year | C18: Principal Payments | D18: Interest Payments | E18: Total Payments
B19: 2027
B20: 2028
B21: 2029
B22: 2030
C24: Governmental Activities
B25: Fiscal Year | C25: Principal Payments | D25: Interest Payments | E25: Total Payments
B26: 2026 | C26: 3704267 | D26: 131285 | E26: 3835552
B27: 2027 | C27: 810840 | D27: 8048 | E27: 818888

Sheet SBITA-Activity (Rollforward)
B1: 405 - DEPARTMENT OF TRANSPORTATION
B2: NOTES TO FINANCIAL STATEMENTS
B3: YEAR ENDED 6/30/2025
B5: Activity (Rollforward Schedule)
B7: GOVERNMENTAL ACTIVITIES: | C7: Balance as of | F7: Balance as of | G7: Short-Term Balance as of | I7: GOVERNMENTAL ACTIVITIES: | J7: Balance as of | M7: Balance as of
C8: 45474 | D8: Additions | E8: Reductions | F8: 45838 | G8: 45838 | J8: 45474 | K8: Additions | L8: Reductions | M8: 45838
B9: Subscription Liability | I9: Subscription Assets
B10: Software | I10: Software
B11: EAM - K1424 | C11: 1060161 | D11: 0 | E11: 520350 | F11: 539811 | G11: 539811 | I11: EAM - K1424 | J11: 2784003 | K11: 0 | L11: 0 | M11: 2784003
B12: Oracle K1436 | C12: 533117 | D12: 5519697 | E12: 2077517 | F12: 3975297 | G12: 3164456 | I12: Oracle K1436 | J12: 4783226 | K12: 5519697 | L12: 0 | M12: 10302923
B13: Total Software Subscription Liability | C13: =SUM(C11:C12) -> 1593278 | D13: =SUM(D11:D12) -> 5519697 | E13: =SUM(E11:E12) -> 2597867 | F13: =SUM(F11:F12) -> 4515108 | G13: =SUM(G11:G12) -> 3704267 | I13: Total Software Subscription Assets | J13: =SUM(J11:J12) -> 7567229 | K13: =SUM(K11:K12) -> 5519697 | L13: =SUM(L11:L12) -> 0 | M13: =SUM(M11:M12) -> 13086926
B15: Total Subscription Liability | C15: =C13 -> 1593278 | D15: =D13 -> 5519697 | E15: =E13 -> 2597867 | F15: =F13 -> 4515108 | G15: =G13 -> 3704267 | I15: Total Subscription Assets | J15: =J13 -> 7567229 | K15: =K13 -> 5519697 | L15: =L13 -> 0 | M15: =M13 -> 13086926
I17: Subscription Accumulated Amortization
I18: Software
I19: EAM - K1424 | J19: 1113601 | K19: 835201 | L19: 0 | M19: 1948802
I20: Oracle K1436 | J20: 4174452 | K20: 2606555 | L20: 0 | M20: 6781007
I21: Total Software Subscription Accumulated Amortization | J21: =SUM(J19:J20) -> 5288053 | K21: =SUM(K19:K20) -> 3441756 | L21: =SUM(L19:L20) -> 0 | M21: =SUM(M19:M20) -> 8729809
I23: Total Subscription Accumulated Amortization | J23: =J21 -> 5288053 | K23: =K21 -> 3441756 | L23: =L21 -> 0 | M23: =M21 -> 8729809
I24: Total Governmental Subscription Assets, Net | J24: =J15-J23 -> 2279176 | K24: =K15-K23 -> 2077941 | L24: =L15-L23 -> 0 | M24: =M15-M23 -> 4357117

Sheet SBITA-Fund (Rollforward)
B1: 405 - DEPARTMENT OF TRANSPORTATION
B2: NOTES TO FINANCIAL STATEMENTS
B3: YEAR ENDED 6/30/2025
B5: Fund (Rollforward Schedule)
B7: 099 - PUGET SOUND CAPITAL CONSTRUCTION ACTIVITIES: | C7: Balance as of | F7: Balance as of | G7: Short-Term Balance as of | I7: 099 - PUGET SOUND CAPITAL CONSTRUCTION ACTIVITIES: | J7: Balance as of | M7: Balance as of
C8: 45474 | D8: Additions | E8: Reductions | F8: 45838 | G8: 45838 | J8: 45474 | K8: Additions | L8: Reductions | M8: 45838
B9: Subscription Liability | I9: Subscription Assets
B10: Software | I10: Software
B11: EAM - K1424 | C11: 530081 | D11: 0 | E11: 521444 | F11: 8637 | G11: 8637 | I11: EAM - K1424 | J11: 1392002 | K11: 0 | L11: 1347458 | M11: 44544
B12: Total Software Subscription Liability | C12: =SUM(C11:C11) -> 530081 | D12: =SUM(D11:D11) -> 0 | E12: =SUM(E11:E11) -> 521444 | F12: =SUM(F11:F11) -> 8637 | G12: =SUM(G11:G11) -> 8637 | I12: Total Software Subscription Assets | J12: =SUM(J11:J11) -> 1392002 | K12: =SUM(K11:K11) -> 0 | L12: =SUM(L11:L11) -> 1347458 | M12: =SUM(M11:M11) -> 44544
B14: Total Subscription Liability | C14: =C12 -> 530081 | D14: =D12 -> 0 | E14: =E12 -> 521444 | F14: =F12 -> 8637 | G14: =G12 -> 8637 | I14: Total Subscription Assets | J14: =J12 -> 1392002 | K14: =K12 -> 0 | L14: =L12 -> 1347458 | M14: =M12 -> 44544
I16: Subscription Accumulated Amortization
I17: Software
I18: EAM - K1424 | J18: 556801 | K18: 13363 | L18: 538983 | M18: 31181
I19: Total Software Subscription Accumulated Amortization | J19: =SUM(J18:J18) -> 556801 | K19: =SUM(K18:K18) -> 13363 | L19: =SUM(L18:L18) -> 538983 | M19: =SUM(M18:M18) -> 31181
I21: Total Subscription Accumulated Amortization | J21: =J19 -> 556801 | K21: =K19 -> 13363 | L21: =L19 -> 538983 | M21: =M19 -> 31181
I22: Total 099 - Puget Sound Capital Construction Subscription Assets, Net | J22: =J14-J21 -> 835201 | K22: =K14-K21 -> -13363 | L22: =L14-L21 -> 808475 | M22: =M14-M21 -> 13363
B24: 109 - PUGET SOUND FERRY OPERATIONS ACCT ACTIVITIES: | C24: Balance as of | F24: Balance as of | G24: Short-Term Balance as of | I24: 109 - PUGET SOUND FERRY OPERATIONS ACCT ACTIVITIES: | J24: Balance as of | M24: Balance as of
C25: 45474 | D25: Additions | E25: Reductions | F25: 45838 | G25: 45838 | J25: 45474 | K25: Additions | L25: Reductions | M25: 45838
B26: Subscription Liability | I26: Subscription Assets
B27: Software | I27: Software
B28: EAM - K1424 | C28: 530081 | D28: 513118 | E28: 512024 | F28: 531174 | G28: 531174 | I28: EAM - K1424 | J28: 1392002 | K28: 1347458 | L28: 0 | M28: 2739459
B29: Total Software Subscription Liability | C29: =SUM(C28:C28) -> 530081 | D29: =SUM(D28:D28) -> 513118 | E29: =SUM(E28:E28) -> 512024 | F29: =SUM(F28:F28) -> 531174 | G29: =SUM(G28:G28) -> 531174 | I29: Total Software Subscription Assets | J29: =SUM(J28:J28) -> 1392002 | K29: =SUM(K28:K28) -> 1347458 | L29: =SUM(L28:L28) -> 0 | M29: =SUM(M28:M28) -> 2739459
B31: Total Subscription Liability | C31: =C29 -> 530081 | D31: =D29 -> 513118 | E31: =E29 -> 512024 | F31: =F29 -> 531174 | G31: =G29 -> 531174 | I31: Total Subscription Assets | J31: =J29 -> 1392002 | K31: =K29 -> 1347458 | L31: =L29 -> 0 | M31: =M29 -> 2739459
I33: Subscription Accumulated Amortization
I34: Software
I35: EAM - K1424 | J35: 556801 | K35: 1360821 | L35: 0 | M35: 1917622
I36: Total Software Subscription Accumulated Amortization | J36: =SUM(J35:J35) -> 556801 | K36: =SUM(K35:K35) -> 1360821 | L36: =SUM(L35:L35) -> 0 | M36: =SUM(M35:M35) -> 1917622
I38: Total Subscription Accumulated Amortization | J38: =J36 -> 556801 | K38: =K36 -> 1360821 | L38: =L36 -> 0 | M38: =M36 -> 1917622
I39: Total 109 - Puget Sound Ferry Operations Acct Subscription Assets, Net | J39: =J31-J38 -> 835201 | K39: =K31-K38 -> -13363 | L39: =L31-L38 -> 0 | M39: =M31-M38 -> 821837
B41: 09H - TRANSPORTATION PARTNERSHIP ACCOUNT ACTIVITIES: | C41: Balance as of | F41: Balance as of | G41: Short-Term Balance as of | I41: 09H - TRANSPORTATION PARTNERSHIP ACCOUNT ACTIVITIES: | J41: Balance as of | M41: Balance as of
C42: 45474 | D42: Additions | E42: Reductions | F42: 45838 | G42: 45838 | J42: 45474 | K42: Additions | L42: Reductions | M42: 45838
B43: Subscription Liability | I43: Subscription Assets
B44: Software | I44: Software
B45: Oracle K1436 | C45: 266558 | D45: 596127 | E45: 433354 | F45: 429332 | G45: 341761 | I45: Oracle K1436 | J45: 2391613 | K45: 596127 | L45: 1875025 | M45: 1112716
B46: Total Software Subscription Liability | C46: =SUM(C45:C45) -> 266558 | D46: =SUM(D45:D45) -> 596127 | E46: =SUM(E45:E45) -> 433354 | F46: =SUM(F45:F45) -> 429332 | G46: =SUM(G45:G45) -> 341761 | I46: Total Software Subscription Assets | J46: =SUM(J45:J45) -> 2391613 | K46: =SUM(K45:K45) -> 596127 | L46: =SUM(L45:L45) -> 1875025 | M46: =SUM(M45:M45) -> 1112716
B48: Total Subscription Liability | C48: =C46 -> 266558 | D48: =D46 -> 596127 | E48: =E46 -> 433354 | F48: =F46 -> 429332 | G48: =G46 -> 341761 | I48: Total Subscription Assets | J48: =J46 -> 2391613 | K48: =K46 -> 596127 | L48: =L46 -> 1875025 | M48: =M46 -> 1112716
I50: Subscription Accumulated Amortization
I51: Software
I52: Oracle K1436 | J52: 2087226 | K52: 281508 | L52: 1636385 | M52: 732349
...
