{"text_format":"1","workbook":"xlsx","n_sheets":4,"sheets":["Information","FundSplits","FundSplitsDB","ActiveFunds"],"not_rendered":{"charts":0,"images":0,"macros":1,"external_links":2,"defined_names":40,"comments":0,"pivot_tables":0},"unopened":[],"bounds":{"document_bytes":16777216,"sheet_cells":100000,"rows_first":2000,"rows_last":500,"rows_between":2000,"halvings":0,"cell_chars":16384,"cell_head_chars":4096},"cells_cut":0,"cells_raw":0,"read":"whole","date_system":"1900"}

{"sheet":"Information","index":0,"n_rows":14,"n_cols":1,"rows_kept":14,"cut":false,"hidden":false,"merged":[]}
[]
["Central Service Fund Splits "]
["Information and Instructions"]
[]
["1.  Fund splits currently on the sheet are the final fund splits from the 2022 Supplemental model"]
["2.  To view a specific agencies splits choose the agency in the drop down box"]
["3.  The top choice in the drop down box will be to view all agencies."]
["4.  You will only be able to update, edit or delete a fund split at the agency level.  If all agencies are chosen it is view only and edits cannot be made."]
["5.  Agencies fund splits begin on row 10.  You will be able to delete or clear any row starting at row 10 and below.  Unlike the previous fund split sheet deleting is allowed"]
["6.  Once you have selected an agency there will be drop down selections that needs to be filled out in columns F, G, H, and I.  These will be smart lists that only apply to the specific agency."]
["7.  Each column starting in column J through column S will need to have a fund split that equals 100% for the agency.  All columns will need to be filled unlike the previous sheet where blanks were ok.  "]
["    This will simplyfy formulas in the model.  If an agency has only one split for all services then you will just need to copy the split to all columns."]
["8.  Program and Subprogram detail is only needed for certain agencies.  The drop down will display a blank if the agency does not need program/subprogram detail."]
["9.  Please send updated fund split information to your assigned budget assistant with a copy to the central service model budget assistant."]

{"sheet":"FundSplits","index":1,"n_rows":372,"n_cols":19,"rows_kept":372,"cut":false,"hidden":false,"merged":[]}
[1,{"$f":"LEFT(VLOOKUP(A1,ActiveFunds!$G$4:$H$150,2,0),3)","v":"All"},null,{"$f":"VLOOKUP(A1,ActiveFunds!$G$4:$H$150,2,0)","v":"All Agencies"},null,"Central Service Fund Splits"]
[null,"DuplicateCheck"]
[]
[null,null,null,null,null,null,null,null,{"$f":"IF(AND(LEFT(F10,3)=\"300\",LEFT(G10,3)=\"030\"),$AA$5:$AA$8,IF(AND(LEFT(F10,3)=\"300\",LEFT(G10,3)=\"040\"),$AA$9:$AA$11,\"\"))","v":""}]
[]
[{"$f":"LEFT(F6,3)","v":""},{"$f":"TRIM(LEFT(G6,3))","v":""},{"$f":"TRIM(LEFT(H6,4))","v":""},{"$f":"LEFT(I6,3)","v":""},{"$f":"MID(I6,5,1)","v":""},null,null,{"$f":"IF(AND(LEFT(F10,3)=\"300\",LEFT(G10,3)=\"030\"),ActiveFunds!$Z$5:$Z$8,IF(AND(LEFT(F10,3)=\"300\",LEFT(G102,3)=\"040\"),ActiveFunds!$Z$9:$Z$12,\"\"))","v":""},null,"All Columns by Agency must equal 100%"]
["Agency Code","Program Code","Subprogram Code","Account","AppType","Agency","Program","Subprogram (only used for DSHS in Program 030 and 040)","Account and Approp Title","Auditor","AttGen","OAH","Facilities & Services Only","CTS","Debt Services ","Workers' Comp","All Other","Risk Mgmt Division","Self Insurance"]
[null,null,null,null,null,"Percent Totals (only applies when one agency chosen)",null,null,null,{"$f":"IF(AgyChoice=1,\"\",SUM(J9:J980))","v":""},"","","","","","","","",""]
["011","","","001","1","011-House of Representatives",null,null,"001-1 General Fund-State",1,1,1,1,1,1,1,1,1,1]
["012","","","001","1","012-Senate",null,null,"001-1 General Fund-State",1,1,1,1,1,1,1,1,1,1]
["013","","","108","1","013-Joint Transportation Committee",null,null,"108-1 Motor Vehicle Account-State",1,1,1,1,1,1,1,1,1,1]
["014","","","553","1","014-Jt Leg Audit & Review Committee",null,null,"553-1 Performance Audits of Govt Acct-State",1,1,1,1,1,1,1,1,1,1]
["020","","","553","1","020-LEAP Committee",null,null,"553-1 Performance Audits of Govt Acct-State",1,1,1,1,1,1,1,1,1,1]
["035","","","600","1","035-Office of the State Actuary",null,null,"600-1 Dept of Retirement Systems Expense-State",1,1,1,1,1,1,1,1,1,1]
["036","","","001","1","036-State Legislative Labor Relations",null,null,"001-1 General Fund-State",1,1,1,1,1,1,1,1,1,1]
["037","","","001","1","037-Office of Legislative Support Svcs",null,null,"001-1 General Fund-State",1,1,1,1,1,1,1,1,1,1]
["038","","","001","1","038-Joint Legislative Systems Comm",null,null,"001-1 General Fund-State",1,1,1,1,1,1,1,1,1,1]
["040","","","001","1","040-Statute Law Committee",null,null,"001-1 General Fund-State",0.8,0.8,0.8,0.8,0.8,0.8,0.8,0.8,0.8,0.8]
["040","","","197","6","040-Statute Law Committee",null,null,"197-6 Statute Law Committee Publications-Non-Appropriated",0.2,0.2,0.2,0.2,0.2,0.2,0.2,0.2,0.2,0.2]
["045","","","001","1","045-Supreme Court",null,null,"001-1 General Fund-State",1,1,1,1,1,1,1,1,1,1]
["046","","","001","1","046-State Law Library",null,null,"001-1 General Fund-State",1,1,1,1,1,1,1,1,1,1]
["048","","","001","1","048-Court of Appeals",null,null,"001-1 General Fund-State",1,1,1,1,1,1,1,1,1,1]
["050","","","001","1","050-Commission on Judicial Conduct",null,null,"001-1 General Fund-State",1,1,1,1,1,1,1,1,1,1]
["055","","","001","1","055-Administrative Office of the Courts",null,null,"001-1 General Fund-State",1,1,1,1,1,1,1,1,1,1]
["056","","","16A","1","056-Office of Public Defense",null,null,"16A-1 Judicial Stabilization Trust Accoun-State",1,1,1,1,1,1,1,1,1,1]
["057","","","001","1","057-Office of Civil Legal Aid",null,null,"001-1 General Fund-State",1,1,1,1,1,1,1,1,1,1]
["075","","","001","1","075-Office of the Governor",null,null,"001-1 General Fund-State",1,1,1,1,1,1,1,1,1,1]
["080","","","001","1","080-Office of the Lieutenant Governor",null,null,"001-1 General Fund-State",1,1,1,1,1,1,1,1,1,1]
["082","","","001","1","082-Public Disclosure Commission",null,null,"001-1 General Fund-State",1,1,1,1,1,1,1,1,1,1]
["083","","","26H","1","083-Washington State Leadership Board",null,null,"26H-1 WA St Leadership Board-State",1,1,1,1,1,1,1,1,1,1]
["085","","","001","1","085-Office of the Secretary of State",null,null,"001-1 General Fund-State",0.41,0.41,0.41,0.41,0.41,0.41,0.41,0.41,0.41,0.41]
["085","","","006","1","085-Office of the Secretary of State",null,null,"006-1 Public Records Effic/Presrv/Access-State",0.11,0.11,0.11,0.11,0.11,0.11,0.11,0.11,0.11,0.11]
["085","","","14E","1","085-Office of the Secretary of State",null,null,"14E-1 WA State Heritage Center Account-State",0.13,0.13,0.13,0.13,0.13,0.13,0.13,0.13,0.13,0.13]
["085","","","407","6","085-Office of the Secretary of State",null,null,"407-6 Secretary of State's Revolving Acct-Non-Appropriated",0.22,0.22,0.22,0.22,0.22,0.22,0.22,0.22,0.22,0.22]
["085","","","441","1","085-Office of the Secretary of State",null,null,"441-1 Local Government Archives Account-State",0.13,0.13,0.13,0.13,0.13,0.13,0.13,0.13,0.13,0.13]
["086","","","001","1","086-Governor's Office of Indian Affairs",null,null,"001-1 General Fund-State",1,1,1,1,1,1,1,1,1,1]
["087","","","001","1","087-Asian-Pacific-American Affrs",null,null,"001-1 General Fund-State",1,1,1,1,1,1,1,1,1,1]
["090","","","404","1","090-Office of the State Treasurer",null,null,"404-1 State Treasurer's Service Account-State",1,1,1,1,1,1,1,1,1,1]
["091","","","001","1","091-Redistricting Commission",null,null,"001-1 General Fund-State",1,1,1,1,1,1,1,1,1,1]
["095","","","001","1","095-Office of the State Auditor",null,null,"001-1 General Fund-State",0,0,0,0,0,0,0,0,0,0]
["095","","","413","6","095-Office of the State Auditor",null,null,"413-6 Municipal Revolving Account-Non-Appropriated",0.6,0.54,0.6,0.25,0.6,0.6,0.64,0.6,0.6,0.6]
["095","","","483","1","095-Office of the State Auditor",null,null,"483-1 Auditing Services Revolving Acct-State",0.13,0.17,0.13,0.35,0.13,0.13,0.13,0.13,0.13,0.13]
["095","","","553","1","095-Office of the State Auditor",null,null,"553-1 Performance Audits of Govt Acct-State",0.02,0.01,0.02,0.01,0.02,0.02,0.02,0.02,0.02,0.02]
["095","","","553","6","095-Office of the State Auditor",null,null,"553-6 Performance Audits of Govt Acct-Non-Appropriated",0.25,0.28000000000000003,0.25,0.39,0.25,0.25,0.21,0.25,0.25,0.25]
["099","","","001","1","099-Comm Salaries for Elected Officials",null,null,"001-1 General Fund-State",1,1,1,1,1,1,1,1,1,1]
["100","","","001","1","100-Office of the Attorney General",null,null,"001-1 General Fund-State",9.5000000000000001E-2,9.5000000000000001E-2,0,9.5000000000000001E-2,9.5000000000000001E-2,9.5000000000000001E-2,9.5000000000000001E-2,9.5000000000000001E-2,9.5000000000000001E-2,9.5000000000000001E-2]
["100","","","111","1","100-Office of the Attorney General",null,null,"111-1 Public Service Revolving Account-State",1.2E-2,1.2E-2,0,1.2E-2,1.2E-2,1.2E-2,1.2E-2,1.2E-2,1.2E-2,1.2E-2]
["100","","","12F","6","100-Office of the Attorney General",null,null,"12F-6 Manufactured/Mobile Home Dispute-Non-Appropriated",3.0000000000000001E-3,3.0000000000000001E-3,0.115,3.0000000000000001E-3,3.0000000000000001E-3,3.0000000000000001E-3,3.0000000000000001E-3,3.0000000000000001E-3,3.0000000000000001E-3,3.0000000000000001E-3]
["100","","","154","1","100-Office of the Attorney General",null,null,"154-1 New Motor Vehicle Arbitration Acct-State",5.0000000000000001E-3,5.0000000000000001E-3,0,5.0000000000000001E-3,5.0000000000000001E-3,5.0000000000000001E-3,5.0000000000000001E-3,5.0000000000000001E-3,5.0000000000000001E-3,5.0000000000000001E-3]
["100","","","17L","6","100-Office of the Attorney General",null,null,"17L-6 Foreclosure Fairness Account-Non-Appropriated",1E-3,1E-3,0,1E-3,1E-3,1E-3,1E-3,1E-3,1E-3,1E-3]
["100","","","405","1","100-Office of the Attorney General",null,null,"405-1 Legal Services Revolving Account-State",0.87,0.87,0.88500000000000001,0.87,0.87,0.87,0.87,0.87,0.87,0.87]
["100","","","424","6","100-Office of the Attorney General",null,null,"424-6 Anti-Trust Revolving Account-Non-Appropriated",0.01,0.01,0,0.01,0.01,0.01,0.01,0.01,0.01,0.01]
["100","","","441","1","100-Office of the Attorney General",null,null,"441-1 Local Government Archives Account-State",3.0000000000000001E-3,3.0000000000000001E-3,null,3.0000000000000001E-3,3.0000000000000001E-3,3.0000000000000001E-3,3.0000000000000001E-3,3.0000000000000001E-3,3.0000000000000001E-3,3.0000000000000001E-3]
["100","","","828","1","100-Office of the Attorney General",null,null,"828-1 Tobacco Prevention and Control Acct-State",1E-3,1E-3,0,1E-3,1E-3,1E-3,1E-3,1E-3,1E-3,1E-3]
["101","","","001","1","101-Caseload Forecast Council",null,null,"001-1 General Fund-State",1,1,1,1,1,1,1,1,1,1]
["102","","","300","6","102-Dept of Financial Institutions",null,null,"300-6 Financial Services Regulation Acct-Non-Appropriated",1,1,1,1,1,1,1,1,1,1]
["103","","","001","1","103-Department of Commerce",null,null,"001-1 General Fund-State",0.44600000000000001,0.44600000000000001,0.44600000000000001,0.44600000000000001,0.44600000000000001,0.60299999999999998,0.44600000000000001,0.44600000000000001,0.44600000000000001,0.44600000000000001]
["103","","","001","2","103-Department of Commerce",null,null,"001-2 General Fund-Federal",0.25900000000000001,0.25900000000000001,0.25900000000000001,0.25900000000000001,0.25900000000000001,0,0.25900000000000001,0.25900000000000001,0.25900000000000001,0.25900000000000001]
["103","","","001","7","103-Department of Commerce",null,null,"001-7 General Fund-Private/Local",1.2E-2,1.2E-2,1.2E-2,1.2E-2,1.2E-2,1.6E-2,1.2E-2,1.2E-2,1.2E-2,1.2E-2]
["103","","","001","8","103-Department of Commerce",null,null,"001-8 General Fund-Federal ARRA",0,0,0,0,0,0,0,0,0,0]
["103","","","04R","1","103-Department of Commerce",null,null,"04R-1 Drinking Water Assistance Account-State",0,0,0,0,0,0,0,0,0,0]
["103","","","058","1","103-Department of Commerce",null,null,"058-1 Public Works Assistance Account-State",8.1000000000000003E-2,8.1000000000000003E-2,8.1000000000000003E-2,8.1000000000000003E-2,8.1000000000000003E-2,0.109,8.1000000000000003E-2,8.1000000000000003E-2,8.1000000000000003E-2,8.1000000000000003E-2]
["103","","","05R","1","103-Department of Commerce",null,null,"05R-1 Drinking Water Assist Admin Acct-State",0,0,0,0,0,0,0,0,0,0]
["103","","","06K","1","103-Department of Commerce",null,null,"06K-1 Lead Paint Account-State",2E-3,2E-3,2E-3,2E-3,2E-3,2E-3,2E-3,2E-3,2E-3,2E-3]
["103","","","084","1","103-Department of Commerce",null,null,"084-1 Building Code Council Account-State",0,0,0,0,0,0,0,0,0,0]
["103","","","107","1","103-Department of Commerce",null,null,"107-1 Liquor Excise Tax Account-State",1.2E-2,1.2E-2,1.2E-2,1.2E-2,1.2E-2,1.6E-2,1.2E-2,1.2E-2,1.2E-2,1.2E-2]
["103","","","10B","1","103-Department of Commerce",null,null,"10B-1 Home Security Fund Account-State",3.6999999999999998E-2,3.6999999999999998E-2,3.6999999999999998E-2,3.6999999999999998E-2,3.6999999999999998E-2,0.05,3.6999999999999998E-2,3.6999999999999998E-2,3.6999999999999998E-2,3.6999999999999998E-2]
["103","","","12C","1","103-Department of Commerce",null,null,"12C-1 Affordable Housing For All-State",6.0000000000000001E-3,6.0000000000000001E-3,6.0000000000000001E-3,6.0000000000000001E-3,6.0000000000000001E-3,8.0000000000000002E-3,6.0000000000000001E-3,6.0000000000000001E-3,6.0000000000000001E-3,6.0000000000000001E-3]
["103","","","14M","1","103-Department of Commerce",null,null,"14M-1 Finan Frd & Id Thft Crimes Inv & Pr-State",1E-3,1E-3,1E-3,1E-3,1E-3,2E-3,1E-3,1E-3,1E-3,1E-3]
["103","","","150","1","103-Department of Commerce",null,null,"150-1 Low-Income Weath/Struct Rehab Asst-State",0,0,0,0,0,1E-3,0,0,0,0]
["103","","","15A","6","103-Department of Commerce",null,null,"15A-6 Transitional Housing Oper & Rent-Non-Appropriated",0,0,0,0,0,0,0,0,0,0]
["103","","","17L","6","103-Department of Commerce",null,null,"17L-6 Foreclosure Fairness Account-Non-Appropriated",5.0000000000000001E-3,5.0000000000000001E-3,5.0000000000000001E-3,5.0000000000000001E-3,5.0000000000000001E-3,7.0000000000000001E-3,5.0000000000000001E-3,5.0000000000000001E-3,5.0000000000000001E-3,5.0000000000000001E-3]
["103","","","205","6","103-Department of Commerce",null,null,"205-6 Mobile Home Park Relocation Account-Non-Appropriated",7.0000000000000001E-3,7.0000000000000001E-3,7.0000000000000001E-3,7.0000000000000001E-3,7.0000000000000001E-3,0.01,7.0000000000000001E-3,7.0000000000000001E-3,7.0000000000000001E-3,7.0000000000000001E-3]
["103","","","263","1","103-Department of Commerce",null,null,"263-1 Community/Economic Development Fee-State",3.9E-2,3.9E-2,3.9E-2,3.9E-2,3.9E-2,5.1999999999999998E-2,3.9E-2,3.9E-2,3.9E-2,3.9E-2]
["103","","","501","1","103-Department of Commerce",null,null,"501-1 Liquor Revolving Account-State",1E-3,1E-3,1E-3,1E-3,1E-3,2E-3,1E-3,1E-3,1E-3,1E-3]
["103","","","532","1","103-Department of Commerce",null,null,"532-1 Washington Housing Trust Account-State",8.1000000000000003E-2,8.1000000000000003E-2,8.1000000000000003E-2,8.1000000000000003E-2,8.1000000000000003E-2,0.108,8.1000000000000003E-2,8.1000000000000003E-2,8.1000000000000003E-2,8.1000000000000003E-2]
["103","","","887","1","103-Department of Commerce",null,null,"887-1 Public Facility Const Loan Revolv-State",1.0999999999999999E-2,1.0999999999999999E-2,1.0999999999999999E-2,1.0999999999999999E-2,1.0999999999999999E-2,1.4E-2,1.0999999999999999E-2,1.0999999999999999E-2,1.0999999999999999E-2,1.0999999999999999E-2]
["104","","","001","1","104-Economic & Revenue Forecast Council",null,null,"001-1 General Fund-State",1,1,1,1,1,1,1,1,1,1]
["105","","","001","1","105-Office of Financial Management",null,null,"001-1 General Fund-State",0.27,0.27,0.27,0.27,0.27,0.27,0.27,0.27,0.27,0.27]
["105","","","415","1","105-Office of Financial Management",null,null,"415-1 Personnel Service Account-State",0.1,0.1,0.1,0.1,0.1,0.1,0.1,0.1,0.1,0.1]
["105","","","436","6","105-Office of Financial Management",null,null,"436-6 OFM Labor Relations Service Acct-Non-Appropriated",7.0000000000000007E-2,7.0000000000000007E-2,7.0000000000000007E-2,7.0000000000000007E-2,7.0000000000000007E-2,7.0000000000000007E-2,7.0000000000000007E-2,7.0000000000000007E-2,7.0000000000000007E-2,7.0000000000000007E-2]
["105","","","468","1","105-Office of Financial Management",null,null,"468-1 OFM Central Services-State",0.17,0.17,0.17,0.17,0.17,0.17,0.17,0.17,0.17,0.17]
["105","","","472","6","105-Office of Financial Management",null,null,"472-6 Statewide IT Systems M&O Rev Acct-Non-Appropriated",0.39,0.39,0.39,0.39,0.39,0.39,0.39,0.39,0.39,0.39]
["107","OTH","","001","1","107-WA State Health Care Authority","OTH-Health Care Auth-Other",null,"001-1 General Fund-State",0.38,0.434,0.52,0.38,0.38,0.9,0.38,0.38,0.38,0.38]
["107","OTH","","001","2","107-WA State Health Care Authority","OTH-Health Care Auth-Other",null,"001-2 General Fund-Federal",0.49399999999999999,0.35799999999999998,0.47,0.49399999999999999,0.49399999999999999,0,0.49399999999999999,0.49399999999999999,0.49399999999999999,0.49399999999999999]
["107","PEB","","418","1","107-WA State Health Care Authority","PEB-Health Care Auth-Employee Benefits",null,"418-1 St Health Care Authority Admin Acct-State",7.2999999999999995E-2,0.13400000000000001,0.01,7.2999999999999995E-2,7.2999999999999995E-2,0.1,7.2999999999999995E-2,7.2999999999999995E-2,7.2999999999999995E-2,7.2999999999999995E-2]
["107","SEB","","492","1","107-WA State Health Care Authority","SEB-School Employee Benefits Board",null,"492-1 School Employees' Insurance Account",5.2999999999999999E-2,7.3999999999999996E-2,0,5.2999999999999999E-2,5.2999999999999999E-2,0,5.2999999999999999E-2,5.2999999999999999E-2,5.2999999999999999E-2,5.2999999999999999E-2]
["110","","","484","1","110-Office of Administrative Hearings",null,null,"484-1 Administrative Hearings Revolving-State",1,1,1,1,1,1,1,1,1,1]
["116","","","578","1","116-State Lottery Commission",null,null,"578-1 Lottery Administrative Account-State",1,1,1,1,1,1,1,1,1,1]
["117","","","884","6","117-Washington State Gambling Comm",null,null,"884-6 Gambling Revolving Account-",1,1,1,1,1,1,1,1,1,1]
["118","","","001","1","118-WA State Comm on Hispanic Affairs",null,null,"001-1 General Fund-State",1,1,1,1,1,1,1,1,1,1]
["119","","","001","1","119-African-American Affairs Comm",null,null,"001-1 General Fund-State",1,1,1,1,1,1,1,1,1,1]
["120","","","001","1","120-Human Rights Commission",null,null,"001-1 General Fund-State",1,1,1,1,1,1,1,1,1,1]
["124","","","600","1","124-Department of Retirement Systems",null,null,"600-1 Dept of Retirement Systems Expense-State",0.95799999999999996,0.124,0,0.95799999999999996,0.95799999999999996,0.95799999999999996,0.95799999999999996,0.95799999999999996,0.95799999999999996,0.95799999999999996]
["124","","","874","6","124-Department of Retirement Systems",null,null,"874-6 OASI Revolving Account-Non-Appropriated",5.0000000000000001E-3,1E-3,0,5.0000000000000001E-3,5.0000000000000001E-3,5.0000000000000001E-3,5.0000000000000001E-3,5.0000000000000001E-3,5.0000000000000001E-3,5.0000000000000001E-3]
["124","","","888","6","124-Department of Retirement Systems",null,null,"888-6 Deferred Compensation Admin Account-Non-Appropriated",3.6999999999999998E-2,2.3E-2,0,3.6999999999999998E-2,3.6999999999999998E-2,3.6999999999999998E-2,3.6999999999999998E-2,3.6999999999999998E-2,3.6999999999999998E-2,3.6999999999999998E-2]
["124","","","Non","B","124-Department of Retirement Systems",null,null,"Non Budgeted Fund",0,0.85199999999999998,1,0,0,0,0,0,0,0]
["126","","","031","1","126-State Investment Board",null,null,"031-1 State Investment Board Expense Acct-State",1,1,1,1,1,1,1,1,1,1]
["140","","","001","1","140-Department of Revenue",null,null,"001-1 General Fund-State",0.89400000000000002,0.89400000000000002,0.89400000000000002,0.89400000000000002,0.89400000000000002,0.89400000000000002,0.89400000000000002,0.89400000000000002,0.89400000000000002,0.89400000000000002]
["140","","","02W","1","140-Department of Revenue",null,null,"02W-1 Timber Tax Distribution Account-State",2.1999999999999999E-2,2.1999999999999999E-2,2.1999999999999999E-2,2.1999999999999999E-2,2.1999999999999999E-2,2.1999999999999999E-2,2.1999999999999999E-2,2.1999999999999999E-2,2.1999999999999999E-2,2.1999999999999999E-2]
["140","","","03N","1","140-Department of Revenue",null,null,"03N-1 Business License Account-State",5.3999999999999999E-2,5.3999999999999999E-2,5.3999999999999999E-2,5.3999999999999999E-2,5.3999999999999999E-2,5.3999999999999999E-2,5.3999999999999999E-2,5.3999999999999999E-2,5.3999999999999999E-2,5.3999999999999999E-2]
["140","","","196","6","140-Department of Revenue",null,null,"196-6 Unclaimed Personal Property Account-Non-",0.03,0.03,0.03,0.03,0.03,0.03,0.03,0.03,0.03,0.03]
["142","","","001","1","142-Board of Tax Appeals",null,null,"001-1 General Fund-State",1,1,1,1,1,1,1,1,1,1]
["147","","","453","1","147-Minority & Women's Business Enterp",null,null,"453-1 OMWBE Enterprises Account-State",1,1,1,1,1,1,1,1,1,1]
["160","","","138","1","160-Office of Insurance Commissioner",null,null,"138-1 Insurance Commissioner's Regulatory Account-State",0.95799999999999996,0.95799999999999996,0.95799999999999996,0.95799999999999996,0.95799999999999996,0.95799999999999996,0.95799999999999996,0.95799999999999996,0.95799999999999996,0.95799999999999996]
["160","","","24P","1","160-Office of Insurance Commissioner",null,null,"24P-1 Insurance Commissioner's Fraud Account-State",4.2000000000000003E-2,4.2000000000000003E-2,4.2000000000000003E-2,4.2000000000000003E-2,4.2000000000000003E-2,4.2000000000000003E-2,4.2000000000000003E-2,4.2000000000000003E-2,4.2000000000000003E-2,4.2000000000000003E-2]
["163","","","458","1","163-Consolidated Technology Services",null,null,"458-1 Consolidated Tech Services Rev Acct-State",0.2,0.2,0.2,0.2,0.2,0.2,0.2,0.2,0.2,0.2]
["163","","","458","6","163-Consolidated Technology Services",null,null,"458-6 Consolidated Tech Services Rev Acct-Non-Appropriated",0.8,0.8,0.8,0.8,0.8,0.8,0.8,0.8,0.8,0.8]
["163","","","461","6","163-Consolidated Technology Services",null,null,"461-6 Shared IT Systems Revolving Acct-Non-Appropriated",0,0,0,0,0,0,0,0,0,0]
["163","","","472","6","163-Consolidated Technology Services",null,null,"472-6 Statewide IT Systems M&O Rev Acct-Non-Appropriated",0,0,0,0,0,0,0,0,0,0]
["165","","","02J","1","165-State Board of Accountancy",null,null,"02J-1 Certified Public Accountants' Acct-State",1,1,1,1,1,1,1,1,1,1]
["166","","","024","1","166-Bd of Reg Prof Eng & Land Surveyors",null,null,"024-1 Profess Engineers' - State",1,1,1,1,1,1,1,1,1,1]
["167","","","02K","1","167-Forensic Investigations Council",null,null,"02K-1 Death Investigations Account-State",1,1,1,1,1,1,1,1,1,1]
["179","","","045","6","179-Dept of Enterprise Services",null,null,"045-6 State Vehicle Parking Account-Non-Appropriated",8.9999999999999993E-3,0,8.0000000000000002E-3,2E-3,8.9999999999999993E-3,0,8.0000000000000002E-3,8.0000000000000002E-3,8.0000000000000002E-3,8.0000000000000002E-3]
["179","","","084","1","179-Dept of Enterprise Services",null,null,"084-1 Building Code Council Account-State",0.01,8.2000000000000003E-2,7.0000000000000001E-3,2E-3,8.0000000000000002E-3,0,7.0000000000000001E-3,7.0000000000000001E-3,7.0000000000000001E-3,7.0000000000000001E-3]
["179","","","422","6","179-Dept of Enterprise Services",null,null,"422-6 Enterprise Services Account-Non-Appropriated",0.94599999999999995,0.89600000000000002,0.95799999999999996,0.98899999999999999,0.95399999999999996,1,0.95799999999999996,0.95799999999999996,0.95799999999999996,0.95799999999999996]
["179","","","546","6","179-Dept of Enterprise Services",null,null,"546-6 Risk Management Administration Acct-Non-Appropriated",3.5000000000000003E-2,2.1999999999999999E-2,2.7E-2,7.0000000000000001E-3,2.9000000000000001E-2,0,2.7E-2,2.7E-2,2.7E-2,2.7E-2]
["185","","","169","6","185-Washington Horse Racing Commission",null,null,"169-6 Horse Racing Commission Op Account-Non Appropriated",1,1,1,1,1,1,1,1,1,1]
["190","","","608","1","190-Bd of Industrial Insurance Appeals",null,null,"608-1 Accident Account-State",0.5,0.5,0.5,0.5,0.5,0.5,0.5,0.5,0.5,0.5]
["190","","","609","1","190-Bd of Industrial Insurance Appeals",null,null,"609-1 Medical Aid Account-State",0.5,0.5,0.5,0.5,0.5,0.5,0.5,0.5,0.5,0.5]
["195","","","001","1","195-Liquor and Cannabis Board",null,null,"001-1 General Fund-State",0.01,0.01,0.01,0.01,0.01,0.01,0.01,0.01,0.01,0.01]
["195","","","315","1","195-Liquor and Cannabis Board",null,null,"315-1 Dedicated Marijuana Account-State",0.23,0.23,0.23,0.23,0.23,0.23,0.23,0.23,0.23,0.23]
["195","","","501","1","195-Liquor and Cannabis Board",null,null,"501-1 Liquor Revolving Account-State",0.76,0.76,0.76,0.76,0.76,0.76,0.76,0.76,0.76,0.76]
["205","","","025","1","205-Board of Pilotage Commissioners",null,null,"025-1 Pilotage Account-State",1,1,1,1,1,1,1,1,1,1]
["215","","","001","7","215-Utilities and Transportation Comm",null,null,"001-7 General Fund-Private/Local",0.06,0.06,0.06,0.06,0.06,0.06,0.06,0.06,0.06,0.06]
["215","","","111","1","215-Utilities and Transportation Comm",null,null,"111-1 Public Service Revolving Account-State",0.87,0.87,0.87,0.87,0.87,0.87,0.87,0.87,0.87,0.87]
["215","","","297","1","215-Utilities and Transportation Comm",null,null,"297-1 Pipeline Safety-State",7.0000000000000007E-2,7.0000000000000007E-2,7.0000000000000007E-2,7.0000000000000007E-2,7.0000000000000007E-2,7.0000000000000007E-2,7.0000000000000007E-2,7.0000000000000007E-2,7.0000000000000007E-2,7.0000000000000007E-2]
["220","","","204","1","220-Board for Volunteer Firefighters",null,null,"204-1 Vol Firefight/Resv Officer Admin-State",1,1,1,1,1,1,1,1,1,1]
["225","","","001","1","225-Washington State Patrol",null,null,"001-1 General Fund-State",0.27,0.27,0.27,0.27,0.27,0.27,0.27,0.27,0.27,0.27]
["225","","","081","1","225-Washington State Patrol",null,null,"081-1 State Patrol Highway Account-State",0.73,0.73,0.73,0.73,0.73,0.73,0.73,0.73,0.73,0.73]
["227","","","001","1","227-Criminal Justice Training Comm",null,null,"001-1 General Fund-State",1,1,1,1,1,1,1,1,1,1]
["228","","","106","1","228-WA Traffic Safety Commission",null,null,"106-1 Highway Safety Account-State",1,1,1,1,0.5,1,0.15,0.5,0.5,0.5]
["228","","","106","2","228-WA Traffic Safety Commission",null,null,"106-2 Highway Safety Account-Federal",0,0,0,0,0.5,0,0.85,0.5,0.5,0.5]
["229","","","001","1","229-Office of Independent Investigations",null,null,"001-1 General Fund-State",1,1,1,1,1,1,1,1,1,1]
["235","","","001","1","235-Department of Labor and Industries",null,null,"001-1 General Fund-State",3.0000000000000001E-3,2E-3,0,0,6.0000000000000001E-3,0,1E-3,4.0000000000000001E-3,0,0]
["235","","","095","1","235-Department of Labor and Industries",null,null,"095-1 Electrical License Account-State",3.0000000000000001E-3,1.2E-2,0.152,2.5000000000000001E-2,2.4E-2,0.13769999999999999,0.17399999999999999,1.2999999999999999E-2,0,0]
["235","","","21V","1","235-Department of Labor and Industries",null,null,"21V-1 Construction Registration Inspection Account",2E-3,0.01,0.111,1.7999999999999999E-2,1.2999999999999999E-2,5.3699999999999998E-2,7.2999999999999995E-2,5.8999999999999997E-2,0,0]
["235","","","234","1","235-Department of Labor and Industries",null,null,"234-1 Public Works Administration Acct-State",0,5.0000000000000001E-3,3.9E-2,6.0000000000000001E-3,6.0000000000000001E-3,4.7999999999999996E-3,6.0000000000000001E-3,2E-3,0,0]
["235","","","608","1","235-Department of Labor and Industries",null,null,"608-1 Accident Account-State",0.51400000000000001,0.53800000000000003,0.41399999999999998,0.51800000000000002,0.48799999999999999,0.44969999999999999,0.41899999999999998,0.41699999999999998,0.5,0.5]
["235","","","609","1","235-Department of Labor and Industries",null,null,"609-1 Medical Aid Account-State",0.47799999999999998,0.432,0.255,0.42799999999999999,0.46100000000000002,0.33660000000000001,0.30599999999999999,0.5,0.5,0.5]
["235","","","885","1","235-Department of Labor and Industries",null,null,"885-1 Plumbing Certificate Account-State",0,1E-3,1.0999999999999999E-2,2E-3,1E-3,4.4999999999999997E-3,6.0000000000000001E-3,2E-3,0,0]
["235","","","892","1","235-Department of Labor and Industries",null,null,"892-1 Pressure Systems Safety Account-State",0,0,1.7999999999999999E-2,3.0000000000000001E-3,1E-3,1.2999999999999999E-2,1.4999999999999999E-2,3.0000000000000001E-3,0,0]
["240","","","001","1","240-Department of Licensing",null,null,"001-1 General Fund-State",5.0000000000000001E-3,0,0,0,7.0000000000000001E-3,1.0999999999999999E-2,1.0999999999999999E-2,5.0000000000000001E-3,7.0000000000000001E-3,7.0000000000000001E-3]
["240","","","003","1","240-Department of Licensing",null,null,"003-1 Architects' License Account-State",3.0000000000000001E-3,0,0,0,2E-3,3.0000000000000001E-3,3.0000000000000001E-3,1E-3,3.0000000000000001E-3,3.0000000000000001E-3]
["240","","","024","1","240-Department of Licensing",null,null,"024-1 Professional Engineers' Account-State",0,0,0,0,0,0,0,0,0,0]
["240","","","026","1","240-Department of Licensing",null,null,"026-1 Real Estate Commission Account-State",2.8000000000000001E-2,0,0.29599999999999999,0,2.1999999999999999E-2,3.2000000000000001E-2,3.2000000000000001E-2,1.4E-2,3.6999999999999998E-2,3.7999999999999999E-2]
["240","","","04E","1","240-Department of Licensing",null,null,"04E-1 Uniform Commercial Code Account-State",6.0000000000000001E-3,0,0,0,1.7999999999999999E-2,8.9999999999999993E-3,8.9999999999999993E-3,7.0000000000000001E-3,4.0000000000000001E-3,4.0000000000000001E-3]
["240","","","06G","1","240-Department of Licensing",null,null,"06G-1 Real Estate Appraiser Comm Acct-State",5.0000000000000001E-3,0,4.8000000000000001E-2,0,2E-3,6.0000000000000001E-3,6.0000000000000001E-3,2E-3,6.0000000000000001E-3,6.0000000000000001E-3]
["240","","","06L","1","240-Department of Licensing",null,null,"06L-1 Business & Professions Account-State",4.8000000000000001E-2,5.5E-2,0.31,5.5E-2,3.7999999999999999E-2,0.107,0.107,2.5000000000000001E-2,6.7000000000000004E-2,6.7000000000000004E-2]
["240","","","082","1","240-Department of Licensing",null,null,"082-1 Motorcycle Safety Education Account-State",2E-3,0,0,0,2E-3,5.0000000000000001E-3,5.0000000000000001E-3,2.9000000000000001E-2,7.0000000000000001E-3,7.0000000000000001E-3]
["240","","","104","1","240-Department of Licensing",null,null,"104-1 State Wildlife Account-State",1E-3,0,0,0,1E-3,1E-3,1E-3,6.0000000000000001E-3,1E-3,1E-3]
["240","","","106","1","240-Department of Licensing",null,null,"106-1 Highway Safety Account-State",0.746,0.77,6.0000000000000001E-3,0.77,0.5,0.57699999999999996,0.57699999999999996,0.60699999999999998,0.67,0.66900000000000004]
["240","","","108","1","240-Department of Licensing",null,null,"108-1 Motor Vehicle Account-State",0.14499999999999999,0.17499999999999999,0.34,0.17499999999999999,0.34899999999999998,0.24199999999999999,0.24199999999999999,0.28999999999999998,0.189,0.188]
["240","","","14V","1","240-Department of Licensing",null,null,"14V-1 Ignition Interlock Device Revolving-State",0,0,0,0,0,0,0,0,2E-3,2E-3]
["240","","","15V","6","240-Department of Licensing",null,null,"15V-6 Funeral and Cemetery Account-Non-Appropriated",5.0000000000000001E-3,0,0,0,3.0000000000000001E-3,5.0000000000000001E-3,5.0000000000000001E-3,1E-3,4.0000000000000001E-3,4.0000000000000001E-3]
["240","","","16B","6","240-Department of Licensing",null,null,"16B-6 Landscape Architects' License Acct-Non-Appropriated",0,0,0,0,0,0,0,0,0,0]
["240","","","16M","6","240-Department of Licensing",null,null,"16M-6 Appraisal Management Company Acct-Non-Appropriated",0,0,0,0,0,0,0,0,0,0]
["240","","","201","1","240-Department of Licensing",null,null,"201-1 DOL Services Account-State",4.0000000000000001E-3,0,0,0,5.5E-2,0,0,1.2E-2,0,1E-3]
["240","","","298","6","240-Department of Licensing",null,null,"298-6 Geologists' Account-Non-Appropriated",2E-3,0,0,0,1E-3,2E-3,2E-3,1E-3,3.0000000000000001E-3,3.0000000000000001E-3]
["245","","","001","1","245-Military Department",null,null,"001-1 General Fund-State",1,1,1,1,1,1,1,1,1,1]
["275","","","001","1","275-Public Employment Relations Comm",null,null,"001-1 General Fund-State",0.51300000000000001,0.51300000000000001,0.51300000000000001,0.51300000000000001,0.51300000000000001,0.51300000000000001,0.51300000000000001,0.51300000000000001,0.51300000000000001,0.51300000000000001]
["275","","","415","1","275-Public Employment Relations Comm",null,null,"415-1 Personnel Service Account-State",0.42099999999999999,0.42099999999999999,0.42099999999999999,0.42099999999999999,0.42099999999999999,0.42099999999999999,0.42099999999999999,0.42099999999999999,0.42099999999999999,0.42099999999999999]
["275","","","455","1","275-Public Employment Relations Comm",null,null,"455-1 Higher Education Personnel Services-State",6.6000000000000003E-2,6.6000000000000003E-2,6.6000000000000003E-2,6.6000000000000003E-2,6.6000000000000003E-2,6.6000000000000003E-2,6.6000000000000003E-2,6.6000000000000003E-2,6.6000000000000003E-2,6.6000000000000003E-2]
["300","145","","001","1","300-Dept of Social and Health Services","145-Payments to Other Agencies",null,"001-1 General Fund-State",0.67300000000000004,0.71799999999999997,0.4,0.73599999999999999,0.64100000000000001,1,0.94899999999999995,0.68799999999999994,0.67800000000000005,0.71899999999999997]
["300","145","","001","2","300-Dept of Social and Health Services","145-Payments to Other Agencies",null,"001-2 General Fund-Federal",0.32700000000000001,0.28199999999999997,0.6,0.26400000000000001,0.35899999999999999,0,5.0999999999999997E-2,0.312,0.32200000000000001,0.28100000000000003]
["303","","","001","1","303-Department of Health",null,null,"001-1 General Fund-State",0.17,0.16,8.2000000000000003E-2,0.11799999999999999,0.17,0.3,0.25700000000000001,0.17,0.17,0.17]
["303","","","001","2","303-Department of Health",null,null,"001-2 General Fund-Federal",0.45,0.01,0.05,0.157,0.45,0,0.26500000000000001,0.45,0.45,0.45]
["303","","","001","7","303-Department of Health",null,null,"001-7 General Fund-Private/Local",0.2,0.11,0.09,0.115,0.2,0.38700000000000001,0.14199999999999999,0.2,0.2,0.2]
["303","","","02G","1","303-Department of Health",null,null,"02G-1 Health Professions Account-State",0.13,0.72,0.76800000000000002,0.58299999999999996,0.13,0.31,0.18099999999999999,0.13,0.13,0.13]
["303","","","03R","1","303-Department of Health",null,null,"03R-1 Safe Drinking Water Account-State",0.01,0,0.01,1.2E-2,0.01,3.0000000000000001E-3,1.4999999999999999E-2,0.01,0.01,0.01]
["303","","","04R","2","303-Department of Health",null,null,"04R-2 Drinking Water Assistance Account-Federal",0.04,0,0,1.4999999999999999E-2,0.04,0,0.114,0.04,0.04,0.04]
["303","","","15M","1","303-Department of Health",null,null,"15M-1 Biotoxin Account-State",0,0,0,0,0,0,1.0999999999999999E-2,0,0,0]
["303","","","23P","1","303-Department of Health",null,null,"23P-1 Model Toxics Oper - State          ",0,0,0,0,0,0,1.4999999999999999E-2,0,0,0]
["305","010","","001","1","305-Department of Veterans' Affairs","010-Headquarters",null,"001-1 General Fund-State",8.3500000000000005E-2,8.3000000000000004E-2,0,0.372,8.3500000000000005E-2,0.35,2E-3,8.3500000000000005E-2,2.2599999999999999E-2,1.38E-2]
["305","020","","001","1","305-Department of Veterans' Affairs","020-Field Services",null,"001-1 General Fund-State",0.15509999999999999,0.15409999999999999,0,0.628,0.15509999999999999,0.65,1.35E-2,0.15509999999999999,4.1900000000000007E-2,2.5699999999999997E-2]
["305","020","","001","2","305-Department of Veterans' Affairs","020-Field Services",null,"001-2 General Fund-Federal",0,0,0,0,0,0,3.8999999999999998E-3,0,0,0]
["305","020","","001","7","305-Department of Veterans' Affairs","020-Field Services",null,"001-7 General Fund-Private/Local",0,0,0,0,0,0,3.0999999999999999E-3,0,0,0]
["305","020","","08V","6","305-Department of Veterans' Affairs","020-Field Services",null,"08V-6 Stewardship Account",0,0,0,0,0,0,3.0999999999999999E-3,0,0,0]
["305","020","","11V","7","305-Department of Veterans' Affairs","020-Field Services",null,"11V-7 Veterans Estate Mgmt Program",0,0,0,0,0,0,6.9999999999999999E-4,0,0,0]
["305","035","","001","1","305-Department of Veterans' Affairs","035-Institutional Services",null,"001-1 General Fund-State",0.75139999999999996,0.75290000000000001,0,0,0.75139999999999996,0,0.9637,0.75139999999999996,0.92549999999999999,0.95050000000000001]
["305","035","","001","2","305-Department of Veterans' Affairs","035-Institutional Services",null,"001-2 General Fund-Federal",0,0,0,0,0,0,0,0,0,0]
["305","035","","001","7","305-Department of Veterans' Affairs","035-Institutional Services",null,"001-7 General Fund-Private/Local",0.01,0.01,0,0,0.01,0,0.01,0.01,0.01,0.01]
["307","010","","001","1","307-Dept of Children, Youth and Families","010-Children & Family Services",null,"001-1 General Fund-State",0,0,0,0,0,0,0.2135,0,0,0]
["307","010","","001","2","307-Dept of Children, Youth and Families","010-Children & Family Services",null,"001-2 General Fund-Federal",0,0,0,0,0,0,0.11550000000000001,0,0,0]
["307","020","","001","1","307-Dept of Children, Youth and Families","020-Juvenile Rehabilitation",null,"001-1 General Fund-State",0,0,0,0,0,0,0.53220000000000001,0,0,0]
["307","020","","001","2","307-Dept of Children, Youth and Families","020-Juvenile Rehabilitation",null,"001-2 General Fund-Federal",0,0,0,0,0,0,0,0,0,0]
["307","030","","001","1","307-Dept of Children, Youth and Families","030-Early Learning",null,"001-1 General Fund-State",0,0,0,0,0,0,3.2300000000000002E-2,0,0,0]
["307","030","","001","2","307-Dept of Children, Youth and Families","030-Early Learning",null,"001-2 General Fund-Federal",0,0,0,0,0,0,3.0700000000000002E-2,0,0,0]
["307","090","","001","1","307-Dept of Children, Youth and Families","090-Program Support      ",null,"001-1 General Fund-State",0.6744,0.80020000000000002,0.69430000000000003,0.69579999999999997,0.78859999999999997,1,4.8000000000000001E-2,0.72389999999999999,0.69579999999999997,0.77890000000000004]
["307","090","","001","2","307-Dept of Children, Youth and Families","090-Program Support      ",null,"001-2 General Fund-Federal",0.3256,0.19980000000000001,0.30570000000000003,0.30420000000000003,0.2114,0,2.7799999999999998E-2,0.27610000000000001,0.30420000000000003,0.22109999999999999]
["310","600","","001","1","310-Department of Corrections","600-Interagency Payments",null,"001-1 General Fund-State",1,1,1,1,1,1,1,1,1,1]
["315","","","001","1","315-Dept of Services for the Blind",null,null,"001-1 General Fund-State",0.19,0.19,0.19,0.19,0.19,0.94,0.19,0.19,0.19,0.19]
["315","","","001","2","315-Dept of Services for the Blind",null,null,"001-2 General Fund-Federal",0.75,0.75,0.75,0.75,0.75,0,0.75,0.75,0.75,0.75]
["315","","","02H","6","315-Dept of Services for the Blind",null,null,"02H-6 Business Enterprises Revolving Acct-Non-Appropriated",0.06,0.06,0.06,0.06,0.06,0.06,0.06,0.06,0.06,0.06]
["340","PCA","","001","1","340-Student Achievement Council","PCA-Policy Coordination & Administration",null,"001-1 General Fund-State",0.49199999999999999,0.49199999999999999,0.49199999999999999,0.49199999999999999,0.49199999999999999,0.503,0.49199999999999999,0.49199999999999999,0.49199999999999999,0.49199999999999999]
["340","PCA","","001","2","340-Student Achievement Council","PCA-Policy Coordination & Administration",null,"001-2 General Fund-Federal",0.01,0.01,0.01,0.01,0.01,0,0.01,0.01,0.01,0.01]
["340","SFA","","001","1","340-Student Achievement Council","SFA-Student Finanical Aid",null,"001-1 General Fund-State",3.2000000000000001E-2,3.2000000000000001E-2,3.2000000000000001E-2,3.2000000000000001E-2,3.2000000000000001E-2,0.106,3.2000000000000001E-2,3.2000000000000001E-2,3.2000000000000001E-2,3.2000000000000001E-2]
["340","SFA","","001","2","340-Student Achievement Council","SFA-Student Finanical Aid",null,"001-2 General Fund-Federal",7.4999999999999997E-2,7.4999999999999997E-2,7.4999999999999997E-2,7.4999999999999997E-2,7.4999999999999997E-2,0,7.4999999999999997E-2,7.4999999999999997E-2,7.4999999999999997E-2,7.4999999999999997E-2]
["340","SFA","","17R","1","340-Student Achievement Council","SFA-Student Finanical Aid",null,"17R-1 Aerospace Training Student Loan Acc-State",3.0000000000000001E-3,3.0000000000000001E-3,3.0000000000000001E-3,3.0000000000000001E-3,3.0000000000000001E-3,3.0000000000000001E-3,3.0000000000000001E-3,3.0000000000000001E-3,3.0000000000000001E-3,3.0000000000000001E-3]
["340","SFA","","24J","1","340-Student Achievement Council","SFA-Student Finanical Aid",null,"24J-1 Workforce Education Investment Account - State",1.9E-2,1.9E-2,1.9E-2,1.9E-2,1.9E-2,1.9E-2,1.9E-2,1.9E-2,1.9E-2,1.9E-2]
["340","SFA","","463","6","340-Student Achievement Council","SFA-Student Finanical Aid",null,"463-6 Washington College Savings Program Account",3.7999999999999999E-2,3.7999999999999999E-2,3.7999999999999999E-2,3.7999999999999999E-2,3.7999999999999999E-2,3.7999999999999999E-2,3.7999999999999999E-2,3.7999999999999999E-2,3.7999999999999999E-2,3.7999999999999999E-2]
["340","SFA","","496","6","340-Student Achievement Council","SFA-Student Finanical Aid",null,"496-6 Future Teachers Condtnl Scholarship-Non-Appropriated",3.4000000000000002E-2,3.4000000000000002E-2,3.4000000000000002E-2,3.4000000000000002E-2,3.4000000000000002E-2,3.4000000000000002E-2,3.4000000000000002E-2,3.4000000000000002E-2,3.4000000000000002E-2,3.4000000000000002E-2]
["340","SFA","","747","6","340-Student Achievement Council","SFA-Student Finanical Aid",null,"747-6 Health Prof Loan Repay/Scholar Prog-Non-Appropriated",1.7000000000000001E-2,1.7000000000000001E-2,1.7000000000000001E-2,1.7000000000000001E-2,1.7000000000000001E-2,1.7000000000000001E-2,1.7000000000000001E-2,1.7000000000000001E-2,1.7000000000000001E-2,1.7000000000000001E-2]
["340","SFA","","788","6","340-Student Achievement Council","SFA-Student Finanical Aid",null,"788-6 Adv College Tuition Payment Pgm-Non-Appropriated",0.28000000000000003,0.28000000000000003,0.28000000000000003,0.28000000000000003,0.28000000000000003,0.28000000000000003,0.28000000000000003,0.28000000000000003,0.28000000000000003,0.28000000000000003]
["341","","","548","6","341-LEOFF 2 Retirement Board",null,null,"548-6 LEOFF Plan 2 Expense Fund-Non-Appropriated",1,1,1,1,1,1,1,1,1,1]
["350","010","","001","1","350-Public Schools","010-OSPI & Statewide Programs",null,"001-1 General Fund-State",1,1,1,1,1,1,1,1,1,1]
["351","","","001","1","351-State School for the Blind",null,null,"001-1 General Fund-State",1,1,1,1,1,1,1,1,1,1]
["353","","","001","1","353-Childhood Deafness & Hearing Loss",null,null,"001-1 General Fund-State",1,1,1,1,1,1,1,1,1,1]
["354","","","001","1","354-Workforce Trng & Educ Coord Board",null,null,"001-1 General Fund-State",0.59,0.59,0.59,0.59,0.59,0.92,0.59,0.59,0.59,0.59]
["354","","","001","2","354-Workforce Trng & Educ Coord Board",null,null,"001-2 General Fund-Federal",0.33,0.33,0.33,0.33,0.33,0,0.33,0.33,0.33,0.33]
["354","","","503","6","354-Workforce Trng & Educ Coord Board",null,null,"503-6 Tuition Recovery Trust Fund-Non-Appropriated",0.08,0.08,0.08,0.08,0.08,0.08,0.08,0.08,0.08,0.08]
["355","","","001","1","355-Archaeology & Historic Preservation",null,null,"001-1 General Fund-State",1,1,1,1,1,1,1,1,1,1]
["359","","","19L","1","359-Washington Charter School Comm",null,null,"19L-1 Charter School Oversight Account-State",1,1,1,1,1,1,1,1,1,1]
["360","","","001","1","360-University of Washington",null,null,"001-1 General Fund-State",0.35,0.35,0.35,0.35,0.35,0.35,0.35,0.35,0.35,0.35]
["360","","","149","6","360-University of Washington",null,null,"149-6 Inst of Hi Ed-Operating Fees Acct-Non-Appropriated",0.65,0.65,0.65,0.65,0.65,0.65,0.65,0.65,0.65,0.65]
["365","","","001","1","365-Washington State University",null,null,"001-1 General Fund-State",0.5,0.5,0.5,0.5,0.5,0.5,0.5,0.5,0.5,0.5]
["365","","","149","6","365-Washington State University",null,null,"149-6 Inst of Hi Ed-Operating Fees Acct-Non-Appropriated",0.5,0.5,0.5,0.5,0.5,0.5,0.5,0.5,0.5,0.5]
["370","","","001","1","370-Eastern Washington University",null,null,"001-1 General Fund-State",0.52,0.52,0.52,0.52,0.52,0.52,0.52,0.52,0.52,0.52]
["370","","","149","6","370-Eastern Washington University",null,null,"149-6 Inst of Hi Ed-Operating Fees Acct-Non-Appropriated",0.48,0.48,0.48,0.48,0.48,0.48,0.48,0.48,0.48,0.48]
["375","","","001","1","375-Central Washington University",null,null,"001-1 General Fund-State",0.51,0.51,0.51,0.51,0.51,0.51,0.51,0.51,0.51,0.51]
["375","","","149","6","375-Central Washington University",null,null,"149-6 Inst of Hi Ed-Operating Fees Acct-Non-Appropriated",0.49,0.49,0.49,0.49,0.49,0.49,0.49,0.49,0.49,0.49]
["376","","","001","1","376-The Evergreen State College",null,null,"001-1 General Fund-State",0.48,0.48,0.48,0.48,0.48,0.48,0.48,0.48,0.48,0.48]
["376","","","149","6","376-The Evergreen State College",null,null,"149-6 Inst of Hi Ed-Operating Fees Acct-Non-Appropriated",0.52,0.52,0.52,0.52,0.52,0.52,0.52,0.52,0.52,0.52]
["380","","","001","1","380-Western Washington University",null,null,"001-1 General Fund-State",0.51,0.51,0.51,0.51,0.51,0.51,0.51,0.51,0.51,0.51]
["380","","","149","6","380-Western Washington University",null,null,"149-6 Inst of Hi Ed-Operating Fees Acct-Non-Appr",0.49,0.49,0.49,0.49,0.49,0.49,0.49,0.49,0.49,0.49]
["387","","","001","1","387-Washington State Arts Commission",null,null,"001-1 General Fund-State",1,1,1,1,1,1,1,1,1,1]
["390","","","001","1","390-Washington State Historical Society",null,null,"001-1 General Fund-State",1,1,1,1,1,1,1,1,1,1]
["390","","","184","6","390-Washington State Historical Society",null,null,"184-6 Local Museum Acct-Wa St Hist Soc-Non-Appropriated",0,0,0,0,0,0,0,0,0,0]
["395","","","001","1","395-East Wash State Historical Society",null,null,"001-1 General Fund-State",1,1,1,1,1,1,1,1,1,1]
["405","B00","","16J","1","405-Department of Transportation","B00-Program B - Toll Operations & Maintenance",null,"16J-1 SR 520 Corridor Account-State",0,0,0,0,0,0,1.9E-3,0,0,0]
["405","B00","","511","1","405-Department of Transportation","B00-Program B - Toll Operations & Maintenance",null,"511-1 Tacoma Narrows Toll Bridge Account-State",0,0,0,0,0,0,2.3E-3,0,0,0]
["405","B00","","595","1","405-Department of Transportation","B00-Program B - Toll Operations & Maintenance",null,"595-1 I-405 Express Toll Lanes Operations-State",0,0,0,0,0,0,3.5000000000000001E-3,0,0,0]
["405","C00","","108","1","405-Department of Transportation","C00-Program C - Information Technology",null,"108-1 Motor Vehicle Account-State",0,0,0,0,0,0,3.1300000000000001E-2,0,0,0]
["405","C00","","218","1","405-Department of Transportation","C00-Program C - Information Technology",null,"218-1 Multimodal Transportation Account-State",0,0,0,0,0,0,1.5E-3,0,0,0]
["405","D00","","108","1","405-Department of Transportation","D00-Program D - Facilities - Operating",null,"108-1 Motor Vehicle Account-State",0,0,0,0,0,0,1.3899999999999999E-2,0,0,0]
["405","F00","","039","1","405-Department of Transportation","F00-Program F - Aviation",null,"039-1 Aeronautics Account-State",0,0,0,0,0,0,1.6000000000000001E-3,0,0,0]
["405","H00","","108","1","405-Department of Transportation","H00-Program H - Program Delivery Management & Support",null,"108-1 Motor Vehicle Account-State",0,0,0,0,0,0,3.3799999999999997E-2,0,0,0]
["405","I00","","09H","1","405-Department of Transportation","I00-Program I - Improvements - Capital",null,"09H-1 Transportation Partnership Account-State",0,0,0,0,0,0,2.12E-2,0,0,0]
["405","I00","","108","1","405-Department of Transportation","I00-Program I - Improvements - Capital",null,"108-1 Motor Vehicle Account-State",0,0,0,0,0,0,2.01E-2,0,0,0]
["405","I00","","20H","1","405-Department of Transportation","I00-Program I - Improvements - Capital",null,"20H-1 Connecting Washington Account-State",0,0,0,0,0,0,0.1409,0,0,0]
["405","I00","","595","1","405-Department of Transportation","I00-Program I - Improvements - Capital",null,"595-1 I-405 Express Toll Lanes Operations-State",0,0,0,0,0,0,2.7000000000000001E-3,0,0,0]
["405","K00","","108","1","405-Department of Transportation","K00-Program K - Public Private Partnerships - Operating",null,"108-1 Motor Vehicle Account-State",0,0,0,0,0,0,3.4228728342841787E-4,0,0,0]
["405","M00","","108","1","405-Department of Transportation","M00-Program M - Highway Maintenance",null,"108-1 Motor Vehicle Account-State",0,0,0,0,0,0,0.2346,0,0,0]
["405","M00","","16J","1","405-Department of Transportation","M00-Program M - Highway Maintenance",null,"16J-1 SR 520 Corridor Account-State",0,0,0,0,0,0,2.5999999999999999E-3,0,0,0]
["405","P0C","","09H","1","405-Department of Transportation","P0C-Program P - Preservation - Capital",null,"09H-1 Transportation Partnership Account-State",0,0,0,0,0,0,3.5000000000000001E-3,0,0,0]
["405","P0C","","108","1","405-Department of Transportation","P0C-Program P - Preservation - Capital",null,"108-1 Motor Vehicle Account-State",0,0,0,0,0,0,8.6199999999999999E-2,0,0,0]
["405","P0C","","20H","1","405-Department of Transportation","P0C-Program P - Preservation - Capital",null,"20H-1 Connecting Washington Account-State",0,0,0,0,0,0,3.4200000000000001E-2,0,0,0]
["405","Q00","","108","1","405-Department of Transportation","Q00-Program Q - Traffic Operations",null,"108-1 Motor Vehicle Account-State",0,0,0,0,0,0,3.9199999999999999E-2,0,0,0]
["405","S00","","108","1","405-Department of Transportation","S00-Program S - Transp Management & Support",null,"108-1 Motor Vehicle Account-State",0,0,0,0,0,0,2.4400000000000002E-2,0,0,0]
["405","T00","","108","1","405-Department of Transportation","T00-Program T - Transportation Planning, Data and Research - Op",null,"108-1 Motor Vehicle Account-State",0,0,0,0,0,0,2.4199999999999999E-2,0,0,0]
["405","U00","","108","1","405-Department of Transportation","U00-Program U - Charges from Other Agencies",null,"108-1 Motor Vehicle Account-State",0.92,0.92,0.92,0.92,0.92,0.92,0,0.92,0.92,0.92]
["405","U00","","218","1","405-Department of Transportation","U00-Program U - Charges from Other Agencies",null,"218-1 Multimodal Transportation Account-State",0.08,0.08,0.08,0.08,0.08,0.08,0,0.08,0.08,0.08]
["405","V00","","218","1","405-Department of Transportation","V00-Program V - Public Transportation",null,"218-1 Multimodal Transportation Account-State",0,0,0,0,0,0,6.6E-3,0,0,0]
["405","W0C","","20H","1","405-Department of Transportation","W0C-Program W - Wa State Ferries-Construction - Capital",null,"20H-1 Connecting Washington Account-State",0,0,0,0,0,0,2.2200000000000001E-2,0,0,0]
["405","X00","","109","1","405-Department of Transportation","X00-Program X - Washington State Ferries - Operating",null,"109-1 Puget Sound Ferry Operations Acct-State",0,0,0,0,0,0,0.23719999999999999,0,0,0]
["405","Y00","","218","1","405-Department of Transportation","Y00-Program Y - Rail - Operating",null,"218-1 Multimodal Transportation Account-State",0,0,0,0,0,0,3.5999999999999999E-3,0,0,0]
["405","Z00","","108","1","405-Department of Transportation","Z00-Program Z - Local Programs - Operating",null,"108-1 Motor Vehicle Account-State",0,0,0,0,0,0,6.4999999999999997E-3,0,0,0]
["406","010","","108","1","406-County Road Administration Board","010-Operating",null,"108-1 Motor Vehicle Account-State",1,1,1,1,1,1,1,1,1,1]
["407","010","","144","1","407-Transportation Improvement Board","010-Operating",null,"144-1 Transportation Improvement Account-State",1,1,1,1,1,1,1,1,1,1]
["410","","","108","1","410-Transportation Commission",null,null,"108-1 Motor Vehicle Account-State",1,1,1,1,1,1,1,1,1,1]
["411","","","09E","1","411-Freight Mobility Strategic Invest",null,null,"09E-1 Freight Mobility Investment Account-State",1,1,1,1,1,1,1,1,1,1]
["460","","","001","1","460-Columbia River Gorge Commission",null,null,"001-1 General Fund-State",0.54,0.54,0.54,0.54,0.54,0.54,0.54,0.54,0.54,1]
["460","","","001","7","460-Columbia River Gorge Commission",null,null,"001-7 General Fund-Private/Local",0.46,0.46,0.46,0.46,0.46,0.46,0.46,0.46,0.46,0]
["461","","","001","1","461-Department of Ecology",null,null,"001-1 General Fund-State",0.113,0.27900000000000003,0.113,0.113,0.113,0.113,0.113,0.113,0.113,0.113]
["461","","","027","1","461-Department of Ecology",null,null,"027-1 Reclamation Account-State",8.0000000000000002E-3,1.7000000000000001E-2,8.0000000000000002E-3,8.0000000000000002E-3,8.0000000000000002E-3,8.0000000000000002E-3,8.0000000000000002E-3,8.0000000000000002E-3,8.0000000000000002E-3,8.0000000000000002E-3]
["461","","","02P","1","461-Department of Ecology",null,null,"02P-1 Flood Control Assistance Account-State",8.0000000000000002E-3,6.0000000000000001E-3,8.0000000000000002E-3,8.0000000000000002E-3,8.0000000000000002E-3,8.0000000000000002E-3,8.0000000000000002E-3,8.0000000000000002E-3,8.0000000000000002E-3,8.0000000000000002E-3]
["461","","","044","1","461-Department of Ecology",null,null,"044-1 Waste Reduct/Recycle/Litter Control-State",3.4000000000000002E-2,0.01,3.4000000000000002E-2,3.4000000000000002E-2,3.4000000000000002E-2,3.4000000000000002E-2,3.4000000000000002E-2,3.4000000000000002E-2,3.4000000000000002E-2,3.4000000000000002E-2]
["461","","","163","1","461-Department of Ecology",null,null,"163-1 Worker/Comm Right to Know",5.0000000000000001E-3,0,5.0000000000000001E-3,5.0000000000000001E-3,5.0000000000000001E-3,5.0000000000000001E-3,5.0000000000000001E-3,5.0000000000000001E-3,5.0000000000000001E-3,5.0000000000000001E-3]
["461","","","176","1","461-Department of Ecology",null,null,"176-1 Water Quality Permit Account-State",0.129,0.108,0.129,0.129,0.129,0.129,0.129,0.129,0.129,0.129]
["461","","","182","1","461-Department of Ecology",null,null,"182-1 Underground Storage Tank Account-State",1.0999999999999999E-2,1.6E-2,1.0999999999999999E-2,1.0999999999999999E-2,1.0999999999999999E-2,1.0999999999999999E-2,1.0999999999999999E-2,1.0999999999999999E-2,1.0999999999999999E-2,1.0999999999999999E-2]
["461","","","199","1","461-Department of Ecology",null,null,"199-1 Biosolids Permit Account-State",6.0000000000000001E-3,0,6.0000000000000001E-3,6.0000000000000001E-3,6.0000000000000001E-3,6.0000000000000001E-3,6.0000000000000001E-3,6.0000000000000001E-3,6.0000000000000001E-3,6.0000000000000001E-3]
["461","","","207","1","461-Department of Ecology",null,null,"207-1 Hazardous Waste Assistance Account-State",1.9E-2,1.2E-2,1.9E-2,1.9E-2,1.9E-2,1.9E-2,1.9E-2,1.9E-2,1.9E-2,1.9E-2]
["461","","","20R","1","461-Department of Ecology",null,null,"20R-1 Radioactive Mixed Waste Account-State",5.7000000000000002E-2,7.4999999999999997E-2,5.7000000000000002E-2,5.7000000000000002E-2,5.7000000000000002E-2,5.7000000000000002E-2,5.7000000000000002E-2,5.7000000000000002E-2,5.7000000000000002E-2,5.7000000000000002E-2]
["461","","","216","1","461-Department of Ecology",null,null,"216-1 Air Pollution Control Account-State",1.0999999999999999E-2,1.0999999999999999E-2,1.0999999999999999E-2,1.0999999999999999E-2,1.0999999999999999E-2,1.0999999999999999E-2,1.0999999999999999E-2,1.0999999999999999E-2,1.0999999999999999E-2,1.0999999999999999E-2]
["461","","","217","1","461-Department of Ecology",null,null,"217-1 Oil Spill Prevention Account-State",2.1000000000000001E-2,8.9999999999999993E-3,2.1000000000000001E-2,2.1000000000000001E-2,2.1000000000000001E-2,2.1000000000000001E-2,2.1000000000000001E-2,2.1000000000000001E-2,2.1000000000000001E-2,2.1000000000000001E-2]
["461","","","219","1","461-Department of Ecology",null,null,"219-1 Air Operating Permit Account-State",1.2E-2,8.9999999999999993E-3,1.2E-2,1.2E-2,1.2E-2,1.2E-2,1.2E-2,1.2E-2,1.2E-2,1.2E-2]
["461","","","23P","1","461-Department of Ecology",null,null,"23P-1 Model Toxics Control Operating Account",0.55500000000000005,0.437,0.55500000000000005,0.55500000000000005,0.55500000000000005,0.55500000000000005,0.55500000000000005,0.55500000000000005,0.55500000000000005,0.55500000000000005]
["461","","","564","1","461-Department of Ecology",null,null,"564-1 Water Pollution Ctrl Revl Admin-State",1.0999999999999999E-2,1.0999999999999999E-2,1.0999999999999999E-2,1.0999999999999999E-2,1.0999999999999999E-2,1.0999999999999999E-2,1.0999999999999999E-2,1.0999999999999999E-2,1.0999999999999999E-2,1.0999999999999999E-2]
["462","","","544","1","462-WA Pollution Liab Insurance Program",null,null,"544-1 Pollution Liab Insurance Prog Trus-State",0.7,0.7,0.7,0.7,0.7,1,0.72,0.7,0.7,0.7]
["462","","","545","6","462-WA Pollution Liab Insurance Program",null,null,"545-6 Heating Oil Pollution Liab Trust-Non-Approp",0.3,0.3,0.3,0.3,0.3,0,0.28000000000000003,0.3,0.3,0.3]
["463","","","001","1","463-Energy Facility Site Eval Council",null,null,"001-1 General Fund-State",1,1,1,1,1,1,1,1,1,1]
["465","","","269","1","465-State Parks and Recreation Comm",null,null,"269-1 Parks Renewal & Stewardship Acct-State",1,1,1,1,1,1,1,1,1,1]
["467","","","001","1","467-Rec and Conservation Funding Board",null,null,"001-1 General Fund-State",0.4,0.4,0.4,0.4,0.4,0.4,0.4,0.4,0.4,0.4]
["467","","","267","1","467-Rec and Conservation Funding Board",null,null,"267-1 Recreation Resources Account-State",0.6,0.6,0.6,0.6,0.6,0.6,0.6,0.6,0.6,0.6]
["468","","","001","1","468-Environ & Land Use Hearings Office",null,null,"001-1 General Fund-State",1,1,1,1,1,1,1,1,1,1]
["471","","","001","1","471-State Conservation Commission ",null,null,"001-1 General Fund-State",1,1,1,1,1,1,1,1,1,1]
["477","","","001","1","477-Dept of Fish and Wildlife",null,null,"001-1 General Fund-State",0.49,0.49,0.49,0.49,0.49,0.49,0.49,0.49,0.49,0.49]
["477","","","24N","1","477-Dept of Fish and Wildlife",null,null,"24N-1 Fish, Wildlife, and Conservation Account-State",0.51,0.51,0.51,0.51,0.51,0.51,0.51,0.51,0.51,0.51]
["478","","","001","1","478-Puget Sound Partnership",null,null,"001-1 General Fund-State",0.64,0.64,0.64,0.64,0.64,0.91,0.64,0.64,0.64,0.64]
["478","","","001","2","478-Puget Sound Partnership",null,null,"001-2 General Fund-Federal",0.27,0.27,0.27,0.27,0.27,0,0.27,0.27,0.27,0.27]
["478","","","02R","1","478-Puget Sound Partnership",null,null,"02R-1 Aquatic Lands Enhancement Account-State",0.04,0.04,0.04,0.04,0.04,0.04,0.04,0.04,0.04,0.04]
["478","","","23P","1","478-Puget Sound Partnership",null,null,"23P-1 Model Toxics Oper - State",0.05,0.05,0.05,0.05,0.05,0.05,0.05,0.05,0.05,0.05]
["490","","","001","1","490-Department of Natural Resources",null,null,"001-1 General Fund-State",0.25,0.20100000000000001,0.25,0.28299999999999997,0.25,0.31,0.67800000000000005,0.25,0.25,0.25]
["490","","","001","2","490-Department of Natural Resources",null,null,"001-2 General Fund-Federal",0,6.0000000000000001E-3,0,2.7E-2,0,0,0,0,0,0]
["490","","","014","1","490-Department of Natural Resources",null,null,"014-1 Forest Development Account",0.128,0.1,0.128,0.111,0.128,0.111,7.0000000000000001E-3,0.128,0.128,0.128]
["490","","","01B","1","490-Department of Natural Resources",null,null,"01B-1 ORV & Non-Highway Vehicle Account",1.4E-2,1.2999999999999999E-2,1.4E-2,1.2E-2,1.4E-2,1.2E-2,5.0000000000000001E-3,1.4E-2,1.4E-2,1.4E-2]
["490","","","02A","1","490-Department of Natural Resources",null,null,"02A-1 Surveys and Maps Account",7.0000000000000001E-3,1E-3,7.0000000000000001E-3,8.9999999999999993E-3,7.0000000000000001E-3,8.9999999999999993E-3,0,7.0000000000000001E-3,7.0000000000000001E-3,7.0000000000000001E-3]
["490","","","02R","1","490-Department of Natural Resources",null,null,"02R-1 Aquatic Lands Enhancement Account",2.9000000000000001E-2,6.8000000000000005E-2,2.9000000000000001E-2,2.8000000000000001E-2,2.9000000000000001E-2,2.8000000000000001E-2,6.0000000000000001E-3,2.9000000000000001E-2,2.9000000000000001E-2,2.9000000000000001E-2]
["490","","","041","1","490-Department of Natural Resources",null,null,"041-1 Resource Management Cost Account",0.29299999999999998,0.441,0.29299999999999998,0.35599999999999998,0.29299999999999998,0.35599999999999998,2.1999999999999999E-2,0.29299999999999998,0.29299999999999998,0.29299999999999998]
["490","","","04H","1","490-Department of Natural Resources",null,null,"04H-1 Surface Mining Reclamation Account",1.0999999999999999E-2,1.7999999999999999E-2,1.0999999999999999E-2,1.4999999999999999E-2,1.0999999999999999E-2,1.4999999999999999E-2,0,1.0999999999999999E-2,1.0999999999999999E-2,1.0999999999999999E-2]
["490","","","05H","1","490-Department of Natural Resources",null,null,"05H-1 Disaster Response Account",0.01,4.0000000000000001E-3,0.01,8.0000000000000002E-3,0.01,8.0000000000000002E-3,2E-3,0.01,0.01,0.01]
["490","","","087","6","490-Department of Natural Resources",null,null,"087-6 Park Land Trust Revolving Account",1.2E-2,7.0000000000000001E-3,1.2E-2,1.0999999999999999E-2,1.2E-2,1.0999999999999999E-2,6.0000000000000001E-3,1.2E-2,1.2E-2,1.2E-2]
["490","","","11H","1","490-Department of Natural Resources",null,null,"11H-1 Forest and Fish Support Account",5.0000000000000001E-3,4.2999999999999997E-2,5.0000000000000001E-3,2.1999999999999999E-2,5.0000000000000001E-3,2.1999999999999999E-2,0,5.0000000000000001E-3,5.0000000000000001E-3,5.0000000000000001E-3]
["490","","","158","1","490-Department of Natural Resources",null,null,"158-1 Aquatic Land Dregded Material Disposal Site Account",0,3.0000000000000001E-3,0,1E-3,0,1E-3,0,0,0,0]
["490","","","167","1","490-Department of Natural Resources",null,null,"167-1 Natural Resources Conservation Areas Stewardship Account ",0,0,0,0,0,0,0,0,0,0]
["490","","","190","6","490-Department of Natural Resources",null,null,"190-6 Forest Fire Protection Assessment ",6.7000000000000004E-2,1.7000000000000001E-2,6.7000000000000004E-2,4.2000000000000003E-2,6.7000000000000004E-2,4.2000000000000003E-2,0.246,6.7000000000000004E-2,6.7000000000000004E-2,6.7000000000000004E-2]
["490","","","193","6","490-Department of Natural Resources",null,null,"193-6 State Forest Nursery Revolving Account",0.02,3.0000000000000001E-3,0.02,0,0.02,0,1.2E-2,0.02,0.02,0.02]
["490","","","198","6","490-Department of Natural Resources",null,null,"198-6 Access Road Revolving Account",6.9000000000000006E-2,1.2E-2,6.9000000000000006E-2,3.5999999999999997E-2,6.9000000000000006E-2,3.5999999999999997E-2,1.4E-2,6.9000000000000006E-2,6.9000000000000006E-2,6.9000000000000006E-2]
["490","","","19C","1","490-Department of Natural Resources",null,null,"19C-1 Forest Practices Application Account",6.0000000000000001E-3,4.0000000000000001E-3,6.0000000000000001E-3,4.0000000000000001E-3,6.0000000000000001E-3,4.0000000000000001E-3,0,6.0000000000000001E-3,6.0000000000000001E-3,6.0000000000000001E-3]
["490","","","216","1","490-Department of Natural Resources",null,null,"216-1 Air Pollution Control Account",1E-3,0,1E-3,1E-3,1E-3,1E-3,1E-3,1E-3,1E-3,1E-3]
["490","","","21Q","6","490-Department of Natural Resources",null,null,"21Q-6 Forest Health Revolving Account",4.1000000000000002E-2,2E-3,4.1000000000000002E-2,4.0000000000000001E-3,4.1000000000000002E-2,4.0000000000000001E-3,0,4.1000000000000002E-2,4.1000000000000002E-2,4.1000000000000002E-2]
["490","","","23P","1","490-Department of Natural Resources",null,null,"23P-1 Model Toxics Control Operating Account",2.5000000000000001E-2,4.5999999999999999E-2,2.5000000000000001E-2,1.9E-2,2.5000000000000001E-2,1.9E-2,0,2.5000000000000001E-2,2.5000000000000001E-2,2.5000000000000001E-2]
["490","","","268","1","490-Department of Natural Resources",null,null,"268-1 NOVA Program Account",2E-3,2E-3,2E-3,3.0000000000000001E-3,2E-3,3.0000000000000001E-3,0,2E-3,2E-3,2E-3]
["490","","","513","1","490-Department of Natural Resources",null,null,"513-1 Derelict Vessel Removal Account",3.0000000000000001E-3,3.0000000000000001E-3,3.0000000000000001E-3,1E-3,3.0000000000000001E-3,1E-3,0,3.0000000000000001E-3,3.0000000000000001E-3,3.0000000000000001E-3]
["490","","","830","1","490-Department of Natural Resources",null,null,"830-1 Agricultural College Trust Management Account",7.0000000000000001E-3,6.0000000000000001E-3,7.0000000000000001E-3,7.0000000000000001E-3,7.0000000000000001E-3,7.0000000000000001E-3,1E-3,7.0000000000000001E-3,7.0000000000000001E-3,7.0000000000000001E-3]
["495","","","001","1","495-Department of Agriculture",null,null,"001-1 General Fund-State",0.33,0.33,0.33,0.18,0.18,0.33,0.18,0.33,0.18,0.18]
["495","","","001","2","495-Department of Agriculture",null,null,"001-2 General Fund-Federal",0,0,0,0.15,0.15,0,0.15,0,0.15,0.15]
["495","","","02R","1","495-Department of Agriculture",null,null,"02R-1 Aquatic Lands Enhancement Account-State",0.02,0.02,0.02,0.02,0.02,0.02,0.02,0.02,0.02,0.02]
["495","","","108","1","495-Department of Agriculture",null,null,"108-1 Motor Vehicle Account-State",0.01,0.01,0.01,0.01,0.01,0.01,0.01,0.01,0.01,0.01]
["495","","","126","6","495-Department of Agriculture",null,null,"126-6 Agricultural Local Account-Non-Appropriated",0.3,0.3,0.3,0.3,0.3,0.3,0.3,0.3,0.3,0.3]
["495","","","128","6","495-Department of Agriculture",null,null,"128-6 Grain Inspection Revolving Acct-Non-Appropriated",0.12,0.12,0.12,0.12,0.12,0.12,0.12,0.12,0.12,0.12]
["495","","","131","6","495-Department of Agriculture",null,null,"131-6 Fair Account-Non-Appropriated",0,0,0,0,0,0,0,0,0,0]
["495","","","176","1","495-Department of Agriculture",null,null,"176-1 Water Quality Permit Account-State",0,0,0,0,0,0,0,0,0,0]
["495","","","23P","1","495-Department of Agriculture",null,null,"23P-1 Model Toxics Oper - State",0.03,0.03,0.03,0.03,0.03,0.03,0.03,0.03,0.03,0.03]
["495","","","516","6","495-Department of Agriculture",null,null,"516-6 Fruit and Vegetable Inspection Acct-Non-Appropriated",0.19,0.19,0.19,0.19,0.19,0.19,0.19,0.19,0.19,0.19]
["540","","","001","2","540-Employment Security Department",null,null,"001-2 General Fund-Federal",5.0999999999999997E-2,0,0,0.06,3.6999999999999998E-2,0.06,5.2999999999999999E-2,4.9000000000000002E-2,5.2999999999999999E-2,5.2999999999999999E-2]
["540","","","001","7","540-Employment Security Department",null,null,"001-7 General Fund-Private/Local",9.9000000000000005E-2,0,0,5.1999999999999998E-2,7.3999999999999996E-2,5.1999999999999998E-2,0.105,9.9000000000000005E-2,0.105,0.105]
["540","","","119","2","540-Employment Security Department",null,null,"119-2 Unemployment Compensation Admin-Federal",0.64490000000000003,0.57930000000000004,0.93259999999999998,0.59099999999999997,0.60629999999999995,0.59099999999999997,0.67820000000000003,0.66720000000000002,0.67820000000000003,0.67830000000000001]
["540","","","120","1","540-Employment Security Department",null,null,"120-1 Administrative Contingency Account-State",1.2E-2,0,0,0.224,0.14499999999999999,0.224,1.0999999999999999E-2,1.2E-2,1.0999999999999999E-2,1.0999999999999999E-2]
["540","","","134","1","540-Employment Security Department",null,null,"134-1 Employment Services Administrative-State",7.1999999999999995E-2,0,0,0.06,5.0999999999999997E-2,0.06,7.0999999999999994E-2,6.7000000000000004E-2,7.0999999999999994E-2,7.0999999999999994E-2]
["540","","","22F","1","540-Employment Security Department",null,null,"22F-1 Family and Medical Leave Insurance Account",0.1195,0.42070000000000002,6.7400000000000002E-2,9.9000000000000008E-3,8.48E-2,9.9000000000000008E-3,8.1000000000000003E-2,0.10489999999999999,8.1000000000000003E-2,8.09E-2]
["540","","","24J","1","540-Employment Security Department",null,null,"24J-1 CCL",8.0000000000000004E-4,0,0,2.2000000000000001E-3,1E-3,2.2000000000000001E-3,5.9999999999999995E-4,6.9999999999999999E-4,5.9999999999999995E-4,5.9999999999999995E-4]
["540","","","447","6","540-Employment Security Department",null,null,"447-6 IT DR Coop",4.0000000000000002E-4,0,0,1E-4,1E-4,1E-4,1E-4,1E-4,1E-4,1E-4]
["540","","","567","1","540-Employment Security Department",null,null,"567-1 LTCSS",4.0000000000000002E-4,0,0,8.0000000000000004E-4,8.0000000000000004E-4,8.0000000000000004E-4,1E-4,1E-4,1E-4,1E-4]
["541","","","001","2","540-Employment Security Department",null,null,"001-2 General Fund-Federal",5.0999999999999997E-2,0,0,0.06,3.6999999999999998E-2,0.06,5.2999999999999999E-2,4.9000000000000002E-2,5.2999999999999999E-2,5.2999999999999999E-2]
["541","","","001","7","540-Employment Security Department",null,null,"001-7 General Fund-Private/Local",9.9000000000000005E-2,0,0,5.1999999999999998E-2,7.3999999999999996E-2,5.1999999999999998E-2,0.105,9.9000000000000005E-2,0.105,0.105]
["541","","","119","2","540-Employment Security Department",null,null,"119-2 Unemployment Compensation Admin-Federal",0.64490000000000003,0.57930000000000004,0.93259999999999998,0.59099999999999997,0.60629999999999995,0.59099999999999997,0.67820000000000003,0.66720000000000002,0.67820000000000003,0.67830000000000001]
["541","","","120","1","540-Employment Security Department",null,null,"120-1 Administrative Contingency Account-State",1.2E-2,0,0,0.224,0.14499999999999999,0.224,1.0999999999999999E-2,1.2E-2,1.0999999999999999E-2,1.0999999999999999E-2]
["541","","","134","1","540-Employment Security Department",null,null,"134-1 Employment Services Administrative-State",7.1999999999999995E-2,0,0,0.06,5.0999999999999997E-2,0.06,7.0999999999999994E-2,6.7000000000000004E-2,7.0999999999999994E-2,7.0999999999999994E-2]
["541","","","22F","1","540-Employment Security Department",null,null,"22F-1 Family and Medical Leave Insurance Account",0.1195,0.42070000000000002,6.7400000000000002E-2,9.9000000000000008E-3,8.48E-2,9.9000000000000008E-3,8.1000000000000003E-2,0.10489999999999999,8.1000000000000003E-2,8.09E-2]
["541","","","24J","1","540-Employment Security Department",null,null,"24J-1 CCL",8.0000000000000004E-4,0,0,2.2000000000000001E-3,1E-3,2.2000000000000001E-3,5.9999999999999995E-4,6.9999999999999999E-4,5.9999999999999995E-4,5.9999999999999995E-4]
["541","","","447","6","540-Employment Security Department",null,null,"447-6 IT DR Coop",4.0000000000000002E-4,0,0,1E-4,1E-4,1E-4,1E-4,1E-4,1E-4,1E-4]
["541","","","567","1","540-Employment Security Department",null,null,"567-1 LTCSS",4.0000000000000002E-4,0,0,8.0000000000000004E-4,8.0000000000000004E-4,8.0000000000000004E-4,1E-4,1E-4,1E-4,1E-4]
["542","","","001","2","540-Employment Security Department",null,null,"001-2 General Fund-Federal",5.0999999999999997E-2,0,0,0.06,3.6999999999999998E-2,0.06,5.2999999999999999E-2,4.9000000000000002E-2,5.2999999999999999E-2,5.2999999999999999E-2]
["542","","","001","7","540-Employment Security Department",null,null,"001-7 General Fund-Private/Local",9.9000000000000005E-2,0,0,5.1999999999999998E-2,7.3999999999999996E-2,5.1999999999999998E-2,0.105,9.9000000000000005E-2,0.105,0.105]
["542","","","119","2","540-Employment Security Department",null,null,"119-2 Unemployment Compensation Admin-Federal",0.64490000000000003,0.57930000000000004,0.93259999999999998,0.59099999999999997,0.60629999999999995,0.59099999999999997,0.67820000000000003,0.66720000000000002,0.67820000000000003,0.67830000000000001]
["542","","","120","1","540-Employment Security Department",null,null,"120-1 Administrative Contingency Account-State",1.2E-2,0,0,0.224,0.14499999999999999,0.224,1.0999999999999999E-2,1.2E-2,1.0999999999999999E-2,1.0999999999999999E-2]
["542","","","134","1","540-Employment Security Department",null,null,"134-1 Employment Services Administrative-State",7.1999999999999995E-2,0,0,0.06,5.0999999999999997E-2,0.06,7.0999999999999994E-2,6.7000000000000004E-2,7.0999999999999994E-2,7.0999999999999994E-2]
["542","","","22F","1","540-Employment Security Department",null,null,"22F-1 Family and Medical Leave Insurance Account",0.1195,0.42070000000000002,6.7400000000000002E-2,9.9000000000000008E-3,8.48E-2,9.9000000000000008E-3,8.1000000000000003E-2,0.10489999999999999,8.1000000000000003E-2,8.09E-2]
["542","","","24J","1","540-Employment Security Department",null,null,"24J-1 CCL",8.0000000000000004E-4,0,0,2.2000000000000001E-3,1E-3,2.2000000000000001E-3,5.9999999999999995E-4,6.9999999999999999E-4,5.9999999999999995E-4,5.9999999999999995E-4]
["542","","","447","6","540-Employment Security Department",null,null,"447-6 IT DR Coop",4.0000000000000002E-4,0,0,1E-4,1E-4,1E-4,1E-4,1E-4,1E-4,1E-4]
["542","","","567","1","540-Employment Security Department",null,null,"567-1 LTCSS",4.0000000000000002E-4,0,0,8.0000000000000004E-4,8.0000000000000004E-4,8.0000000000000004E-4,1E-4,1E-4,1E-4,1E-4]
["543","","","001","2","540-Employment Security Department",null,null,"001-2 General Fund-Federal",5.0999999999999997E-2,0,0,0.06,3.6999999999999998E-2,0.06,5.2999999999999999E-2,4.9000000000000002E-2,5.2999999999999999E-2,5.2999999999999999E-2]
["543","","","001","7","540-Employment Security Department",null,null,"001-7 General Fund-Private/Local",9.9000000000000005E-2,0,0,5.1999999999999998E-2,7.3999999999999996E-2,5.1999999999999998E-2,0.105,9.9000000000000005E-2,0.105,0.105]
["543","","","119","2","540-Employment Security Department",null,null,"119-2 Unemployment Compensation Admin-Federal",0.64490000000000003,0.57930000000000004,0.93259999999999998,0.59099999999999997,0.60629999999999995,0.59099999999999997,0.67820000000000003,0.66720000000000002,0.67820000000000003,0.67830000000000001]
["543","","","120","1","540-Employment Security Department",null,null,"120-1 Administrative Contingency Account-State",1.2E-2,0,0,0.224,0.14499999999999999,0.224,1.0999999999999999E-2,1.2E-2,1.0999999999999999E-2,1.0999999999999999E-2]
["543","","","134","1","540-Employment Security Department",null,null,"134-1 Employment Services Administrative-State",7.1999999999999995E-2,0,0,0.06,5.0999999999999997E-2,0.06,7.0999999999999994E-2,6.7000000000000004E-2,7.0999999999999994E-2,7.0999999999999994E-2]
["543","","","22F","1","540-Employment Security Department",null,null,"22F-1 Family and Medical Leave Insurance Account",0.1195,0.42070000000000002,6.7400000000000002E-2,9.9000000000000008E-3,8.48E-2,9.9000000000000008E-3,8.1000000000000003E-2,0.10489999999999999,8.1000000000000003E-2,8.09E-2]
["543","","","24J","1","540-Employment Security Department",null,null,"24J-1 CCL",8.0000000000000004E-4,0,0,2.2000000000000001E-3,1E-3,2.2000000000000001E-3,5.9999999999999995E-4,6.9999999999999999E-4,5.9999999999999995E-4,5.9999999999999995E-4]
["543","","","447","6","540-Employment Security Department",null,null,"447-6 IT DR Coop",4.0000000000000002E-4,0,0,1E-4,1E-4,1E-4,1E-4,1E-4,1E-4,1E-4]
["543","","","567","1","540-Employment Security Department",null,null,"567-1 LTCSS",4.0000000000000002E-4,0,0,8.0000000000000004E-4,8.0000000000000004E-4,8.0000000000000004E-4,1E-4,1E-4,1E-4,1E-4]
["544","","","001","2","540-Employment Security Department",null,null,"001-2 General Fund-Federal",5.0999999999999997E-2,0,0,0.06,3.6999999999999998E-2,0.06,5.2999999999999999E-2,4.9000000000000002E-2,5.2999999999999999E-2,5.2999999999999999E-2]
["544","","","001","7","540-Employment Security Department",null,null,"001-7 General Fund-Private/Local",9.9000000000000005E-2,0,0,5.1999999999999998E-2,7.3999999999999996E-2,5.1999999999999998E-2,0.105,9.9000000000000005E-2,0.105,0.105]
["544","","","119","2","540-Employment Security Department",null,null,"119-2 Unemployment Compensation Admin-Federal",0.64490000000000003,0.57930000000000004,0.93259999999999998,0.59099999999999997,0.60629999999999995,0.59099999999999997,0.67820000000000003,0.66720000000000002,0.67820000000000003,0.67830000000000001]
["544","","","120","1","540-Employment Security Department",null,null,"120-1 Administrative Contingency Account-State",1.2E-2,0,0,0.224,0.14499999999999999,0.224,1.0999999999999999E-2,1.2E-2,1.0999999999999999E-2,1.0999999999999999E-2]
["544","","","134","1","540-Employment Security Department",null,null,"134-1 Employment Services Administrative-State",7.1999999999999995E-2,0,0,0.06,5.0999999999999997E-2,0.06,7.0999999999999994E-2,6.7000000000000004E-2,7.0999999999999994E-2,7.0999999999999994E-2]
["544","","","22F","1","540-Employment Security Department",null,null,"22F-1 Family and Medical Leave Insurance Account",0.1195,0.42070000000000002,6.7400000000000002E-2,9.9000000000000008E-3,8.48E-2,9.9000000000000008E-3,8.1000000000000003E-2,0.10489999999999999,8.1000000000000003E-2,8.09E-2]
["544","","","24J","1","540-Employment Security Department",null,null,"24J-1 CCL",8.0000000000000004E-4,0,0,2.2000000000000001E-3,1E-3,2.2000000000000001E-3,5.9999999999999995E-4,6.9999999999999999E-4,5.9999999999999995E-4,5.9999999999999995E-4]
["544","","","447","6","540-Employment Security Department",null,null,"447-6 IT DR Coop",4.0000000000000002E-4,0,0,1E-4,1E-4,1E-4,1E-4,1E-4,1E-4,1E-4]
["544","","","567","1","540-Employment Security Department",null,null,"567-1 LTCSS",4.0000000000000002E-4,0,0,8.0000000000000004E-4,8.0000000000000004E-4,8.0000000000000004E-4,1E-4,1E-4,1E-4,1E-4]
["699","","","001","1","699-Community/Technical College System",null,null,"001-1 General Fund-State",0.69,0.69,0.69,0.69,0.69,0.69,0.69,0.69,0.69,0.69]
["699","","","149","6","699-Community/Technical College System",null,null,"149-6 Inst of Hi Ed-Operating Fees Acct-Non-Appropriated",0.31,0.31,0.31,0.31,0.31,0.31,0.31,0.31,0.31,0.31]

{"sheet":"FundSplitsDB","index":2,"n_rows":367,"n_cols":22,"rows_kept":367,"cut":false,"hidden":true,"merged":[]}
["Agency Code","Program Code","SubprogramCode","Account","AppType","Agency","Program","Subprogram (only used for DSHS in Program 030 and 040)","Account and Approp Title","Auditor","AttGen","OAH","Facilities & Services Only","CTS","Debt Services ","Workers' Comp","All Other","Risk Mgmt Division","Self Insurance",null,"Check Agency has Fund Splits",{"$f":"COUNTIF(A:A,AgyCode)","v":0}]
["011","","","001","1","011-House of Representatives",null,null,"001-1 General Fund-State",1,1,1,1,1,1,1,1,1,1]
["012","","","001","1","012-Senate",null,null,"001-1 General Fund-State",1,1,1,1,1,1,1,1,1,1]
["013","","","108","1","013-Joint Transportation Committee",null,null,"108-1 Motor Vehicle Account-State",1,1,1,1,1,1,1,1,1,1]
["014","","","553","1","014-Jt Leg Audit & Review Committee",null,null,"553-1 Performance Audits of Govt Acct-State",1,1,1,1,1,1,1,1,1,1]
["020","","","553","1","020-LEAP Committee",null,null,"553-1 Performance Audits of Govt Acct-State",1,1,1,1,1,1,1,1,1,1]
["035","","","600","1","035-Office of the State Actuary",null,null,"600-1 Dept of Retirement Systems Expense-State",1,1,1,1,1,1,1,1,1,1]
["036","","","001","1","036-State Legislative Labor Relations",null,null,"001-1 General Fund-State",1,1,1,1,1,1,1,1,1,1]
["037","","","001","1","037-Office of Legislative Support Svcs",null,null,"001-1 General Fund-State",1,1,1,1,1,1,1,1,1,1]
["038","","","001","1","038-Joint Legislative Systems Comm",null,null,"001-1 General Fund-State",1,1,1,1,1,1,1,1,1,1]
["040","","","001","1","040-Statute Law Committee",null,null,"001-1 General Fund-State",0.8,0.8,0.8,0.8,0.8,0.8,0.8,0.8,0.8,0.8]
["040","","","197","6","040-Statute Law Committee",null,null,"197-6 Statute Law Committee Publications-Non-Appropriated",0.2,0.2,0.2,0.2,0.2,0.2,0.2,0.2,0.2,0.2]
["045","","","001","1","045-Supreme Court",null,null,"001-1 General Fund-State",1,1,1,1,1,1,1,1,1,1]
["046","","","001","1","046-State Law Library",null,null,"001-1 General Fund-State",1,1,1,1,1,1,1,1,1,1]
["048","","","001","1","048-Court of Appeals",null,null,"001-1 General Fund-State",1,1,1,1,1,1,1,1,1,1]
["050","","","001","1","050-Commission on Judicial Conduct",null,null,"001-1 General Fund-State",1,1,1,1,1,1,1,1,1,1]
["055","","","001","1","055-Administrative Office of the Courts",null,null,"001-1 General Fund-State",1,1,1,1,1,1,1,1,1,1]
["056","","","16A","1","056-Office of Public Defense",null,null,"16A-1 Judicial Stabilization Trust Accoun-State",1,1,1,1,1,1,1,1,1,1]
["057","","","001","1","057-Office of Civil Legal Aid",null,null,"001-1 General Fund-State",1,1,1,1,1,1,1,1,1,1]
["075","","","001","1","075-Office of the Governor",null,null,"001-1 General Fund-State",1,1,1,1,1,1,1,1,1,1]
["080","","","001","1","080-Office of the Lieutenant Governor",null,null,"001-1 General Fund-State",1,1,1,1,1,1,1,1,1,1]
["082","","","001","1","082-Public Disclosure Commission",null,null,"001-1 General Fund-State",1,1,1,1,1,1,1,1,1,1]
["083","","","26H","1","083-Washington State Leadership Board",null,null,"26H-1 WA St Leadership Board-State",1,1,1,1,1,1,1,1,1,1]
["085","","","001","1","085-Office of the Secretary of State",null,null,"001-1 General Fund-State",0.41,0.41,0.41,0.41,0.41,0.41,0.41,0.41,0.41,0.41]
["085","","","006","1","085-Office of the Secretary of State",null,null,"006-1 Public Records Effic/Presrv/Access-State",0.11,0.11,0.11,0.11,0.11,0.11,0.11,0.11,0.11,0.11]
["085","","","14E","1","085-Office of the Secretary of State",null,null,"14E-1 WA State Heritage Center Account-State",0.13,0.13,0.13,0.13,0.13,0.13,0.13,0.13,0.13,0.13]
["085","","","407","6","085-Office of the Secretary of State",null,null,"407-6 Secretary of State's Revolving Acct-Non-Appropriated",0.22,0.22,0.22,0.22,0.22,0.22,0.22,0.22,0.22,0.22]
["085","","","441","1","085-Office of the Secretary of State",null,null,"441-1 Local Government Archives Account-State",0.13,0.13,0.13,0.13,0.13,0.13,0.13,0.13,0.13,0.13]
["086","","","001","1","086-Governor's Office of Indian Affairs",null,null,"001-1 General Fund-State",1,1,1,1,1,1,1,1,1,1]
["087","","","001","1","087-Asian-Pacific-American Affrs",null,null,"001-1 General Fund-State",1,1,1,1,1,1,1,1,1,1]
["090","","","404","1","090-Office of the State Treasurer",null,null,"404-1 State Treasurer's Service Account-State",1,1,1,1,1,1,1,1,1,1]
["091","","","001","1","091-Redistricting Commission",null,null,"001-1 General Fund-State",1,1,1,1,1,1,1,1,1,1]
["095","","","001","1","095-Office of the State Auditor",null,null,"001-1 General Fund-State",0,0,0,0,0,0,0,0,0,0]
["095","","","413","6","095-Office of the State Auditor",null,null,"413-6 Municipal Revolving Account-Non-Appropriated",0.6,0.54,0.6,0.25,0.6,0.6,0.64,0.6,0.6,0.6]
["095","","","483","1","095-Office of the State Auditor",null,null,"483-1 Auditing Services Revolving Acct-State",0.13,0.17,0.13,0.35,0.13,0.13,0.13,0.13,0.13,0.13]
["095","","","553","1","095-Office of the State Auditor",null,null,"553-1 Performance Audits of Govt Acct-State",0.02,0.01,0.02,0.01,0.02,0.02,0.02,0.02,0.02,0.02]
["095","","","553","6","095-Office of the State Auditor",null,null,"553-6 Performance Audits of Govt Acct-Non-Appropriated",0.25,0.28000000000000003,0.25,0.39,0.25,0.25,0.21,0.25,0.25,0.25]
["099","","","001","1","099-Comm Salaries for Elected Officials",null,null,"001-1 General Fund-State",1,1,1,1,1,1,1,1,1,1]
["100","","","001","1","100-Office of the Attorney General",null,null,"001-1 General Fund-State",9.5000000000000001E-2,9.5000000000000001E-2,0,9.5000000000000001E-2,9.5000000000000001E-2,9.5000000000000001E-2,9.5000000000000001E-2,9.5000000000000001E-2,9.5000000000000001E-2,9.5000000000000001E-2]
["100","","","111","1","100-Office of the Attorney General",null,null,"111-1 Public Service Revolving Account-State",1.2E-2,1.2E-2,0,1.2E-2,1.2E-2,1.2E-2,1.2E-2,1.2E-2,1.2E-2,1.2E-2]
["100","","","12F","6","100-Office of the Attorney General",null,null,"12F-6 Manufactured/Mobile Home Dispute-Non-Appropriated",3.0000000000000001E-3,3.0000000000000001E-3,0.115,3.0000000000000001E-3,3.0000000000000001E-3,3.0000000000000001E-3,3.0000000000000001E-3,3.0000000000000001E-3,3.0000000000000001E-3,3.0000000000000001E-3]
["100","","","154","1","100-Office of the Attorney General",null,null,"154-1 New Motor Vehicle Arbitration Acct-State",5.0000000000000001E-3,5.0000000000000001E-3,0,5.0000000000000001E-3,5.0000000000000001E-3,5.0000000000000001E-3,5.0000000000000001E-3,5.0000000000000001E-3,5.0000000000000001E-3,5.0000000000000001E-3]
["100","","","17L","6","100-Office of the Attorney General",null,null,"17L-6 Foreclosure Fairness Account-Non-Appropriated",1E-3,1E-3,0,1E-3,1E-3,1E-3,1E-3,1E-3,1E-3,1E-3]
["100","","","405","1","100-Office of the Attorney General",null,null,"405-1 Legal Services Revolving Account-State",0.87,0.87,0.88500000000000001,0.87,0.87,0.87,0.87,0.87,0.87,0.87]
["100","","","424","6","100-Office of the Attorney General",null,null,"424-6 Anti-Trust Revolving Account-Non-Appropriated",0.01,0.01,0,0.01,0.01,0.01,0.01,0.01,0.01,0.01]
["100","","","441","1","100-Office of the Attorney General",null,null,"441-1 Local Government Archives Account-State",3.0000000000000001E-3,3.0000000000000001E-3,null,3.0000000000000001E-3,3.0000000000000001E-3,3.0000000000000001E-3,3.0000000000000001E-3,3.0000000000000001E-3,3.0000000000000001E-3,3.0000000000000001E-3]
["100","","","828","1","100-Office of the Attorney General",null,null,"828-1 Tobacco Prevention and Control Acct-State",1E-3,1E-3,0,1E-3,1E-3,1E-3,1E-3,1E-3,1E-3,1E-3]
["101","","","001","1","101-Caseload Forecast Council",null,null,"001-1 General Fund-State",1,1,1,1,1,1,1,1,1,1]
["102","","","300","6","102-Dept of Financial Institutions",null,null,"300-6 Financial Services Regulation Acct-Non-Appropriated",1,1,1,1,1,1,1,1,1,1]
["103","","","001","1","103-Department of Commerce",null,null,"001-1 General Fund-State",0.44600000000000001,0.44600000000000001,0.44600000000000001,0.44600000000000001,0.44600000000000001,0.60299999999999998,0.44600000000000001,0.44600000000000001,0.44600000000000001,0.44600000000000001]
["103","","","001","2","103-Department of Commerce",null,null,"001-2 General Fund-Federal",0.25900000000000001,0.25900000000000001,0.25900000000000001,0.25900000000000001,0.25900000000000001,0,0.25900000000000001,0.25900000000000001,0.25900000000000001,0.25900000000000001]
["103","","","001","7","103-Department of Commerce",null,null,"001-7 General Fund-Private/Local",1.2E-2,1.2E-2,1.2E-2,1.2E-2,1.2E-2,1.6E-2,1.2E-2,1.2E-2,1.2E-2,1.2E-2]
["103","","","001","8","103-Department of Commerce",null,null,"001-8 General Fund-Federal ARRA",0,0,0,0,0,0,0,0,0,0]
["103","","","04R","1","103-Department of Commerce",null,null,"04R-1 Drinking Water Assistance Account-State",0,0,0,0,0,0,0,0,0,0]
["103","","","058","1","103-Department of Commerce",null,null,"058-1 Public Works Assistance Account-State",8.1000000000000003E-2,8.1000000000000003E-2,8.1000000000000003E-2,8.1000000000000003E-2,8.1000000000000003E-2,0.109,8.1000000000000003E-2,8.1000000000000003E-2,8.1000000000000003E-2,8.1000000000000003E-2]
["103","","","05R","1","103-Department of Commerce",null,null,"05R-1 Drinking Water Assist Admin Acct-State",0,0,0,0,0,0,0,0,0,0]
["103","","","06K","1","103-Department of Commerce",null,null,"06K-1 Lead Paint Account-State",2E-3,2E-3,2E-3,2E-3,2E-3,2E-3,2E-3,2E-3,2E-3,2E-3]
["103","","","084","1","103-Department of Commerce",null,null,"084-1 Building Code Council Account-State",0,0,0,0,0,0,0,0,0,0]
["103","","","107","1","103-Department of Commerce",null,null,"107-1 Liquor Excise Tax Account-State",1.2E-2,1.2E-2,1.2E-2,1.2E-2,1.2E-2,1.6E-2,1.2E-2,1.2E-2,1.2E-2,1.2E-2]
["103","","","10B","1","103-Department of Commerce",null,null,"10B-1 Home Security Fund Account-State",3.6999999999999998E-2,3.6999999999999998E-2,3.6999999999999998E-2,3.6999999999999998E-2,3.6999999999999998E-2,0.05,3.6999999999999998E-2,3.6999999999999998E-2,3.6999999999999998E-2,3.6999999999999998E-2]
["103","","","12C","1","103-Department of Commerce",null,null,"12C-1 Affordable Housing For All-State",6.0000000000000001E-3,6.0000000000000001E-3,6.0000000000000001E-3,6.0000000000000001E-3,6.0000000000000001E-3,8.0000000000000002E-3,6.0000000000000001E-3,6.0000000000000001E-3,6.0000000000000001E-3,6.0000000000000001E-3]
["103","","","14M","1","103-Department of Commerce",null,null,"14M-1 Finan Frd & Id Thft Crimes Inv & Pr-State",1E-3,1E-3,1E-3,1E-3,1E-3,2E-3,1E-3,1E-3,1E-3,1E-3]
["103","","","150","1","103-Department of Commerce",null,null,"150-1 Low-Income Weath/Struct Rehab Asst-State",0,0,0,0,0,1E-3,0,0,0,0]
["103","","","15A","6","103-Department of Commerce",null,null,"15A-6 Transitional Housing Oper & Rent-Non-Appropriated",0,0,0,0,0,0,0,0,0,0]
["103","","","174","1","103-Department of Commerce",null,null,"174-1 Local Toxics Control Account-State",0,0,0,0,0,0,0,0,0,0]
["103","","","17L","6","103-Department of Commerce",null,null,"17L-6 Foreclosure Fairness Account-Non-Appropriated",5.0000000000000001E-3,5.0000000000000001E-3,5.0000000000000001E-3,5.0000000000000001E-3,5.0000000000000001E-3,7.0000000000000001E-3,5.0000000000000001E-3,5.0000000000000001E-3,5.0000000000000001E-3,5.0000000000000001E-3]
["103","","","205","6","103-Department of Commerce",null,null,"205-6 Mobile Home Park Relocation Account-Non-Appropriated",7.0000000000000001E-3,7.0000000000000001E-3,7.0000000000000001E-3,7.0000000000000001E-3,7.0000000000000001E-3,0.01,7.0000000000000001E-3,7.0000000000000001E-3,7.0000000000000001E-3,7.0000000000000001E-3]
["103","","","263","1","103-Department of Commerce",null,null,"263-1 Community/Economic Development Fee-State",3.9E-2,3.9E-2,3.9E-2,3.9E-2,3.9E-2,5.1999999999999998E-2,3.9E-2,3.9E-2,3.9E-2,3.9E-2]
["103","","","501","1","103-Department of Commerce",null,null,"501-1 Liquor Revolving Account-State",1E-3,1E-3,1E-3,1E-3,1E-3,2E-3,1E-3,1E-3,1E-3,1E-3]
["103","","","532","1","103-Department of Commerce",null,null,"532-1 Washington Housing Trust Account-State",8.1000000000000003E-2,8.1000000000000003E-2,8.1000000000000003E-2,8.1000000000000003E-2,8.1000000000000003E-2,0.108,8.1000000000000003E-2,8.1000000000000003E-2,8.1000000000000003E-2,8.1000000000000003E-2]
["103","","","887","1","103-Department of Commerce",null,null,"887-1 Public Facility Const Loan Revolv-State",1.0999999999999999E-2,1.0999999999999999E-2,1.0999999999999999E-2,1.0999999999999999E-2,1.0999999999999999E-2,1.4E-2,1.0999999999999999E-2,1.0999999999999999E-2,1.0999999999999999E-2,1.0999999999999999E-2]
["104","","","001","1","104-Economic & Revenue Forecast Council",null,null,"001-1 General Fund-State",1,1,1,1,1,1,1,1,1,1]
["105","","","001","1","105-Office of Financial Management",null,null,"001-1 General Fund-State",0.27,0.27,0.27,0.27,0.27,0.27,0.27,0.27,0.27,0.27]
["105","","","415","1","105-Office of Financial Management",null,null,"415-1 Personnel Service Account-State",0.1,0.1,0.1,0.1,0.1,0.1,0.1,0.1,0.1,0.1]
["105","","","419","1","105-Office of Financial Management",null,null,"419-1 Data Processing Revolving Account-State",0,0,0,0,0,0,0,0,0,0]
["105","","","436","6","105-Office of Financial Management",null,null,"436-6 OFM Labor Relations Service Acct-Non-Appropriated",7.0000000000000007E-2,7.0000000000000007E-2,7.0000000000000007E-2,7.0000000000000007E-2,7.0000000000000007E-2,7.0000000000000007E-2,7.0000000000000007E-2,7.0000000000000007E-2,7.0000000000000007E-2,7.0000000000000007E-2]
["105","","","468","1","105-Office of Financial Management",null,null,"468-1 OFM Central Services-State",0.17,0.17,0.17,0.17,0.17,0.17,0.17,0.17,0.17,0.17]
["105","","","472","6","105-Office of Financial Management",null,null,"472-6 Statewide IT Systems M&O Rev Acct-Non-Appropriated",0.39,0.39,0.39,0.39,0.39,0.39,0.39,0.39,0.39,0.39]
["107","OTH","","001","1","107-WA State Health Care Authority","OTH-Health Care Auth-Other",null,"001-1 General Fund-State",0.38,0.434,0.52,0.38,0.38,0.9,0.38,0.38,0.38,0.38]
["107","OTH","","001","2","107-WA State Health Care Authority","OTH-Health Care Auth-Other",null,"001-2 General Fund-Federal",0.49399999999999999,0.35799999999999998,0.47,0.49399999999999999,0.49399999999999999,0,0.49399999999999999,0.49399999999999999,0.49399999999999999,0.49399999999999999]
["107","PEB","","418","1","107-WA State Health Care Authority","PEB-Health Care Auth-Employee Benefits",null,"418-1 St Health Care Authority Admin Acct-State",7.2999999999999995E-2,0.13400000000000001,0.01,7.2999999999999995E-2,7.2999999999999995E-2,0.1,7.2999999999999995E-2,7.2999999999999995E-2,7.2999999999999995E-2,7.2999999999999995E-2]
["107","SEB","","492","1","107-WA State Health Care Authority","SEB-School Employee Benefits Board",null,"492-1 School Employees' Insurance Account",5.2999999999999999E-2,7.3999999999999996E-2,0,5.2999999999999999E-2,5.2999999999999999E-2,0,5.2999999999999999E-2,5.2999999999999999E-2,5.2999999999999999E-2,5.2999999999999999E-2]
["110","","","484","1","110-Office of Administrative Hearings",null,null,"484-1 Administrative Hearings Revolving-State",1,1,1,1,1,1,1,1,1,1]
["116","","","578","1","116-State Lottery Commission",null,null,"578-1 Lottery Administrative Account-State",1,1,1,1,1,1,1,1,1,1]
["117","","","884","6","117-Washington State Gambling Comm",null,null,"884-6 Gambling Revolving Account-",1,1,1,1,1,1,1,1,1,1]
["118","","","001","1","118-WA State Comm on Hispanic Affairs",null,null,"001-1 General Fund-State",1,1,1,1,1,1,1,1,1,1]
["119","","","001","1","119-African-American Affairs Comm",null,null,"001-1 General Fund-State",1,1,1,1,1,1,1,1,1,1]
["120","","","001","1","120-Human Rights Commission",null,null,"001-1 General Fund-State",1,1,1,1,1,1,1,1,1,1]
["124","","","600","1","124-Department of Retirement Systems",null,null,"600-1 Dept of Retirement Systems Expense-State",0.95799999999999996,0.124,0,0.95799999999999996,0.95799999999999996,0.95799999999999996,0.95799999999999996,0.95799999999999996,0.95799999999999996,0.95799999999999996]
["124","","","874","6","124-Department of Retirement Systems",null,null,"874-6 OASI Revolving Account-Non-Appropriated",5.0000000000000001E-3,1E-3,0,5.0000000000000001E-3,5.0000000000000001E-3,5.0000000000000001E-3,5.0000000000000001E-3,5.0000000000000001E-3,5.0000000000000001E-3,5.0000000000000001E-3]
["124","","","888","6","124-Department of Retirement Systems",null,null,"888-6 Deferred Compensation Admin Account-Non-Appropriated",3.6999999999999998E-2,2.3E-2,0,3.6999999999999998E-2,3.6999999999999998E-2,3.6999999999999998E-2,3.6999999999999998E-2,3.6999999999999998E-2,3.6999999999999998E-2,3.6999999999999998E-2]
["124","","","Non","B","124-Department of Retirement Systems",null,null,"Non Budgeted Fund",0,0.85199999999999998,1,0,0,0,0,0,0,0]
["126","","","031","1","126-State Investment Board",null,null,"031-1 State Investment Board Expense Acct-State",1,1,1,1,1,1,1,1,1,1]
["140","","","001","1","140-Department of Revenue",null,null,"001-1 General Fund-State",0.89400000000000002,0.89400000000000002,0.89400000000000002,0.89400000000000002,0.89400000000000002,0.89400000000000002,0.89400000000000002,0.89400000000000002,0.89400000000000002,0.89400000000000002]
["140","","","02W","1","140-Department of Revenue",null,null,"02W-1 Timber Tax Distribution Account-State",2.1999999999999999E-2,2.1999999999999999E-2,2.1999999999999999E-2,2.1999999999999999E-2,2.1999999999999999E-2,2.1999999999999999E-2,2.1999999999999999E-2,2.1999999999999999E-2,2.1999999999999999E-2,2.1999999999999999E-2]
["140","","","03N","1","140-Department of Revenue",null,null,"03N-1 Business License Account-State",5.3999999999999999E-2,5.3999999999999999E-2,5.3999999999999999E-2,5.3999999999999999E-2,5.3999999999999999E-2,5.3999999999999999E-2,5.3999999999999999E-2,5.3999999999999999E-2,5.3999999999999999E-2,5.3999999999999999E-2]
["140","","","196","6","140-Department of Revenue",null,null,"196-6 Unclaimed Personal Property Account-Non-",0.03,0.03,0.03,0.03,0.03,0.03,0.03,0.03,0.03,0.03]
["142","","","001","1","142-Board of Tax Appeals",null,null,"001-1 General Fund-State",1,1,1,1,1,1,1,1,1,1]
["147","","","453","1","147-Minority & Women's Business Enterp",null,null,"453-1 OMWBE Enterprises Account-State",1,1,1,1,1,1,1,1,1,1]
["160","","","138","1","160-Office of Insurance Commissioner",null,null,"138-1 Insurance Commissioner's Regulatory Account-State",0.95799999999999996,0.95799999999999996,0.95799999999999996,0.95799999999999996,0.95799999999999996,0.95799999999999996,0.95799999999999996,0.95799999999999996,0.95799999999999996,0.95799999999999996]
["160","","","24P","1","160-Office of Insurance Commissioner",null,null,"24P-1 Insurance Commissioner's Fraud Account-State",4.2000000000000003E-2,4.2000000000000003E-2,4.2000000000000003E-2,4.2000000000000003E-2,4.2000000000000003E-2,4.2000000000000003E-2,4.2000000000000003E-2,4.2000000000000003E-2,4.2000000000000003E-2,4.2000000000000003E-2]
["163","","","458","1","163-Consolidated Technology Services",null,null,"458-1 Consolidated Tech Services Rev Acct-State",0.2,0.2,0.2,0.2,0.2,0.2,0.2,0.2,0.2,0.2]
["163","","","458","6","163-Consolidated Technology Services",null,null,"458-6 Consolidated Tech Services Rev Acct-Non-Appropriated",0.8,0.8,0.8,0.8,0.8,0.8,0.8,0.8,0.8,0.8]
["163","","","461","6","163-Consolidated Technology Services",null,null,"461-6 Shared IT Systems Revolving Acct-Non-Appropriated",0,0,0,0,0,0,0,0,0,0]
["163","","","472","6","163-Consolidated Technology Services",null,null,"472-6 Statewide IT Systems M&O Rev Acct-Non-Appropriated",0,0,0,0,0,0,0,0,0,0]
["165","","","02J","1","165-State Board of Accountancy",null,null,"02J-1 Certified Public Accountants' Acct-State",1,1,1,1,1,1,1,1,1,1]
["166","","","024","1","166-Bd of Reg Prof Eng & Land Surveyors",null,null,"024-1 Profess Engineers' - State",1,1,1,1,1,1,1,1,1,1]
["167","","","02K","1","167-Forensic Investigations Council",null,null,"02K-1 Death Investigations Account-State",1,1,1,1,1,1,1,1,1,1]
["179","","","045","6","179-Dept of Enterprise Services",null,null,"045-6 State Vehicle Parking Account-Non-Appropriated",8.9999999999999993E-3,0,8.0000000000000002E-3,2E-3,8.9999999999999993E-3,0,8.0000000000000002E-3,8.0000000000000002E-3,8.0000000000000002E-3,8.0000000000000002E-3]
["179","","","084","1","179-Dept of Enterprise Services",null,null,"084-1 Building Code Council Account-State",0.01,8.2000000000000003E-2,7.0000000000000001E-3,2E-3,8.0000000000000002E-3,0,7.0000000000000001E-3,7.0000000000000001E-3,7.0000000000000001E-3,7.0000000000000001E-3]
["179","","","422","6","179-Dept of Enterprise Services",null,null,"422-6 Enterprise Services Account-Non-Appropriated",0.94599999999999995,0.89600000000000002,0.95799999999999996,0.98899999999999999,0.95399999999999996,1,0.95799999999999996,0.95799999999999996,0.95799999999999996,0.95799999999999996]
["179","","","546","6","179-Dept of Enterprise Services",null,null,"546-6 Risk Management Administration Acct-Non-Appropriated",3.5000000000000003E-2,2.1999999999999999E-2,2.7E-2,7.0000000000000001E-3,2.9000000000000001E-2,0,2.7E-2,2.7E-2,2.7E-2,2.7E-2]
["185","","","169","6","185-Washington Horse Racing Commission",null,null,"169-6 Horse Racing Commission Op Account-Non Appropriated",1,1,1,1,1,1,1,1,1,1]
["190","","","608","1","190-Bd of Industrial Insurance Appeals",null,null,"608-1 Accident Account-State",0.5,0.5,0.5,0.5,0.5,0.5,0.5,0.5,0.5,0.5]
["190","","","609","1","190-Bd of Industrial Insurance Appeals",null,null,"609-1 Medical Aid Account-State",0.5,0.5,0.5,0.5,0.5,0.5,0.5,0.5,0.5,0.5]
["195","","","001","1","195-Liquor and Cannabis Board",null,null,"001-1 General Fund-State",0.01,0.01,0.01,0.01,0.01,0.01,0.01,0.01,0.01,0.01]
["195","","","315","1","195-Liquor and Cannabis Board",null,null,"315-1 Dedicated Marijuana Account-State",0.23,0.23,0.23,0.23,0.23,0.23,0.23,0.23,0.23,0.23]
["195","","","501","1","195-Liquor and Cannabis Board",null,null,"501-1 Liquor Revolving Account-State",0.76,0.76,0.76,0.76,0.76,0.76,0.76,0.76,0.76,0.76]
["205","","","025","1","205-Board of Pilotage Commissioners",null,null,"025-1 Pilotage Account-State",1,1,1,1,1,1,1,1,1,1]
["215","","","001","7","215-Utilities and Transportation Comm",null,null,"001-7 General Fund-Private/Local",0.06,0.06,0.06,0.06,0.06,0.06,0.06,0.06,0.06,0.06]
["215","","","111","1","215-Utilities and Transportation Comm",null,null,"111-1 Public Service Revolving Account-State",0.87,0.87,0.87,0.87,0.87,0.87,0.87,0.87,0.87,0.87]
["215","","","297","1","215-Utilities and Transportation Comm",null,null,"297-1 Pipeline Safety-State",7.0000000000000007E-2,7.0000000000000007E-2,7.0000000000000007E-2,7.0000000000000007E-2,7.0000000000000007E-2,7.0000000000000007E-2,7.0000000000000007E-2,7.0000000000000007E-2,7.0000000000000007E-2,7.0000000000000007E-2]
["220","","","204","1","220-Board for Volunteer Firefighters",null,null,"204-1 Vol Firefight/Resv Officer Admin-State",1,1,1,1,1,1,1,1,1,1]
["225","","","001","1","225-Washington State Patrol",null,null,"001-1 General Fund-State",0.27,0.27,0.27,0.27,0.27,0.27,0.27,0.27,0.27,0.27]
["225","","","081","1","225-Washington State Patrol",null,null,"081-1 State Patrol Highway Account-State",0.73,0.73,0.73,0.73,0.73,0.73,0.73,0.73,0.73,0.73]
["227","","","001","1","227-Criminal Justice Training Comm",null,null,"001-1 General Fund-State",1,1,1,1,1,1,1,1,1,1]
["228","","","106","1","228-WA Traffic Safety Commission",null,null,"106-1 Highway Safety Account-State",1,1,1,1,0.5,1,0.15,0.5,0.5,0.5]
["228","","","106","2","228-WA Traffic Safety Commission",null,null,"106-2 Highway Safety Account-Federal",0,0,0,0,0.5,0,0.85,0.5,0.5,0.5]
["229","","","001","1","229-Office of Independent Investigations",null,null,"001-1 General Fund-State",1,1,1,1,1,1,1,1,1,1]
["235","","","001","1","235-Department of Labor and Industries",null,null,"001-1 General Fund-State",3.0000000000000001E-3,2E-3,0,0,6.0000000000000001E-3,0,1E-3,4.0000000000000001E-3,0,0]
["235","","","095","1","235-Department of Labor and Industries",null,null,"095-1 Electrical License Account-State",3.0000000000000001E-3,1.2E-2,0.152,2.5000000000000001E-2,2.4E-2,0.13769999999999999,0.17399999999999999,1.2999999999999999E-2,0,0]
["235","","","21V","1","235-Department of Labor and Industries",null,null,"21V-1 Construction Registration Inspection Account",2E-3,0.01,0.111,1.7999999999999999E-2,1.2999999999999999E-2,5.3699999999999998E-2,7.2999999999999995E-2,5.8999999999999997E-2,0,0]
["235","","","234","1","235-Department of Labor and Industries",null,null,"234-1 Public Works Administration Acct-State",0,5.0000000000000001E-3,3.9E-2,6.0000000000000001E-3,6.0000000000000001E-3,4.7999999999999996E-3,6.0000000000000001E-3,2E-3,0,0]
["235","","","608","1","235-Department of Labor and Industries",null,null,"608-1 Accident Account-State",0.51400000000000001,0.53800000000000003,0.41399999999999998,0.51800000000000002,0.48799999999999999,0.44969999999999999,0.41899999999999998,0.41699999999999998,0.5,0.5]
["235","","","609","1","235-Department of Labor and Industries",null,null,"609-1 Medical Aid Account-State",0.47799999999999998,0.432,0.255,0.42799999999999999,0.46100000000000002,0.33660000000000001,0.30599999999999999,0.5,0.5,0.5]
["235","","","885","1","235-Department of Labor and Industries",null,null,"885-1 Plumbing Certificate Account-State",0,1E-3,1.0999999999999999E-2,2E-3,1E-3,4.4999999999999997E-3,6.0000000000000001E-3,2E-3,0,0]
["235","","","892","1","235-Department of Labor and Industries",null,null,"892-1 Pressure Systems Safety Account-State",0,0,1.7999999999999999E-2,3.0000000000000001E-3,1E-3,1.2999999999999999E-2,1.4999999999999999E-2,3.0000000000000001E-3,0,0]
["240","","","001","1","240-Department of Licensing",null,null,"001-1 General Fund-State",5.0000000000000001E-3,0,0,0,7.0000000000000001E-3,1.0999999999999999E-2,1.0999999999999999E-2,5.0000000000000001E-3,7.0000000000000001E-3,7.0000000000000001E-3]
["240","","","003","1","240-Department of Licensing",null,null,"003-1 Architects' License Account-State",3.0000000000000001E-3,0,0,0,2E-3,3.0000000000000001E-3,3.0000000000000001E-3,1E-3,3.0000000000000001E-3,3.0000000000000001E-3]
["240","","","024","1","240-Department of Licensing",null,null,"024-1 Professional Engineers' Account-State",0,0,0,0,0,0,0,0,0,0]
["240","","","026","1","240-Department of Licensing",null,null,"026-1 Real Estate Commission Account-State",2.8000000000000001E-2,0,0.29599999999999999,0,2.1999999999999999E-2,3.2000000000000001E-2,3.2000000000000001E-2,1.4E-2,3.6999999999999998E-2,3.7999999999999999E-2]
["240","","","04E","1","240-Department of Licensing",null,null,"04E-1 Uniform Commercial Code Account-State",6.0000000000000001E-3,0,0,0,1.7999999999999999E-2,8.9999999999999993E-3,8.9999999999999993E-3,7.0000000000000001E-3,4.0000000000000001E-3,4.0000000000000001E-3]
["240","","","06G","1","240-Department of Licensing",null,null,"06G-1 Real Estate Appraiser Comm Acct-State",5.0000000000000001E-3,0,4.8000000000000001E-2,0,2E-3,6.0000000000000001E-3,6.0000000000000001E-3,2E-3,6.0000000000000001E-3,6.0000000000000001E-3]
["240","","","06L","1","240-Department of Licensing",null,null,"06L-1 Business & Professions Account-State",4.8000000000000001E-2,5.5E-2,0.31,5.5E-2,3.7999999999999999E-2,0.107,0.107,2.5000000000000001E-2,6.7000000000000004E-2,6.7000000000000004E-2]
["240","","","082","1","240-Department of Licensing",null,null,"082-1 Motorcycle Safety Education Account-State",2E-3,0,0,0,2E-3,5.0000000000000001E-3,5.0000000000000001E-3,2.9000000000000001E-2,7.0000000000000001E-3,7.0000000000000001E-3]
["240","","","104","1","240-Department of Licensing",null,null,"104-1 State Wildlife Account-State",1E-3,0,0,0,1E-3,1E-3,1E-3,6.0000000000000001E-3,1E-3,1E-3]
["240","","","106","1","240-Department of Licensing",null,null,"106-1 Highway Safety Account-State",0.746,0.77,6.0000000000000001E-3,0.77,0.5,0.57699999999999996,0.57699999999999996,0.60699999999999998,0.67,0.66900000000000004]
["240","","","108","1","240-Department of Licensing",null,null,"108-1 Motor Vehicle Account-State",0.14499999999999999,0.17499999999999999,0.34,0.17499999999999999,0.34899999999999998,0.24199999999999999,0.24199999999999999,0.28999999999999998,0.189,0.188]
["240","","","14V","1","240-Department of Licensing",null,null,"14V-1 Ignition Interlock Device Revolving-State",0,0,0,0,0,0,0,0,2E-3,2E-3]
["240","","","15V","6","240-Department of Licensing",null,null,"15V-6 Funeral and Cemetery Account-Non-Appropriated",5.0000000000000001E-3,0,0,0,3.0000000000000001E-3,5.0000000000000001E-3,5.0000000000000001E-3,1E-3,4.0000000000000001E-3,4.0000000000000001E-3]
["240","","","16B","6","240-Department of Licensing",null,null,"16B-6 Landscape Architects' License Acct-Non-Appropriated",0,0,0,0,0,0,0,0,0,0]
["240","","","16M","6","240-Department of Licensing",null,null,"16M-6 Appraisal Management Company Acct-Non-Appropriated",0,0,0,0,0,0,0,0,0,0]
["240","","","201","1","240-Department of Licensing",null,null,"201-1 DOL Services Account-State",4.0000000000000001E-3,0,0,0,5.5E-2,0,0,1.2E-2,0,1E-3]
["240","","","298","6","240-Department of Licensing",null,null,"298-6 Geologists' Account-Non-Appropriated",2E-3,0,0,0,1E-3,2E-3,2E-3,1E-3,3.0000000000000001E-3,3.0000000000000001E-3]
["245","","","001","1","245-Military Department",null,null,"001-1 General Fund-State",1,1,1,1,1,1,1,1,1,1]
["275","","","001","1","275-Public Employment Relations Comm",null,null,"001-1 General Fund-State",0.51300000000000001,0.51300000000000001,0.51300000000000001,0.51300000000000001,0.51300000000000001,0.51300000000000001,0.51300000000000001,0.51300000000000001,0.51300000000000001,0.51300000000000001]
["275","","","415","1","275-Public Employment Relations Comm",null,null,"415-1 Personnel Service Account-State",0.42099999999999999,0.42099999999999999,0.42099999999999999,0.42099999999999999,0.42099999999999999,0.42099999999999999,0.42099999999999999,0.42099999999999999,0.42099999999999999,0.42099999999999999]
["275","","","455","1","275-Public Employment Relations Comm",null,null,"455-1 Higher Education Personnel Services-State",6.6000000000000003E-2,6.6000000000000003E-2,6.6000000000000003E-2,6.6000000000000003E-2,6.6000000000000003E-2,6.6000000000000003E-2,6.6000000000000003E-2,6.6000000000000003E-2,6.6000000000000003E-2,6.6000000000000003E-2]
["300","145","","001","1","300-Dept of Social and Health Services","145-Payments to Other Agencies",null,"001-1 General Fund-State",0.67300000000000004,0.71799999999999997,0.4,0.73599999999999999,0.64100000000000001,1,0.94899999999999995,0.68799999999999994,0.67800000000000005,0.71899999999999997]
["300","145","","001","2","300-Dept of Social and Health Services","145-Payments to Other Agencies",null,"001-2 General Fund-Federal",0.32700000000000001,0.28199999999999997,0.6,0.26400000000000001,0.35899999999999999,0,5.0999999999999997E-2,0.312,0.32200000000000001,0.28100000000000003]
["303","","","001","1","303-Department of Health",null,null,"001-1 General Fund-State",0.17,0.16,8.2000000000000003E-2,0.11799999999999999,0.17,0.3,0.25700000000000001,0.17,0.17,0.17]
["303","","","001","2","303-Department of Health",null,null,"001-2 General Fund-Federal",0.45,0.01,0.05,0.157,0.45,0,0.26500000000000001,0.45,0.45,0.45]
["303","","","001","7","303-Department of Health",null,null,"001-7 General Fund-Private/Local",0.2,0.11,0.09,0.115,0.2,0.38700000000000001,0.14199999999999999,0.2,0.2,0.2]
["303","","","02G","1","303-Department of Health",null,null,"02G-1 Health Professions Account-State",0.13,0.72,0.76800000000000002,0.58299999999999996,0.13,0.31,0.18099999999999999,0.13,0.13,0.13]
["303","","","03R","1","303-Department of Health",null,null,"03R-1 Safe Drinking Water Account-State",0.01,0,0.01,1.2E-2,0.01,3.0000000000000001E-3,1.4999999999999999E-2,0.01,0.01,0.01]
["303","","","04R","2","303-Department of Health",null,null,"04R-2 Drinking Water Assistance Account-Federal",0.04,0,0,1.4999999999999999E-2,0.04,0,0.114,0.04,0.04,0.04]
["303","","","15M","1","303-Department of Health",null,null,"15M-1 Biotoxin Account-State",0,0,0,0,0,0,1.0999999999999999E-2,0,0,0]
["303","","","23P","1","303-Department of Health",null,null,"23P-1 Model Toxics Oper - State          ",0,0,0,0,0,0,1.4999999999999999E-2,0,0,0]
["305","010","","001","1","305-Department of Veterans' Affairs","010-Headquarters",null,"001-1 General Fund-State",8.3500000000000005E-2,8.3000000000000004E-2,0,0.372,8.3500000000000005E-2,0.35,2E-3,8.3500000000000005E-2,2.2599999999999999E-2,1.38E-2]
["305","020","","001","1","305-Department of Veterans' Affairs","020-Field Services",null,"001-1 General Fund-State",0.15509999999999999,0.15409999999999999,0,0.628,0.15509999999999999,0.65,1.35E-2,0.15509999999999999,4.1900000000000007E-2,2.5699999999999997E-2]
["305","020","","001","2","305-Department of Veterans' Affairs","020-Field Services",null,"001-2 General Fund-Federal",0,0,0,0,0,0,3.8999999999999998E-3,0,0,0]
["305","020","","001","7","305-Department of Veterans' Affairs","020-Field Services",null,"001-7 General Fund-Private/Local",0,0,0,0,0,0,3.0999999999999999E-3,0,0,0]
["305","020","","08V","6","305-Department of Veterans' Affairs","020-Field Services",null,"08V-6 Stewardship Account",0,0,0,0,0,0,3.0999999999999999E-3,0,0,0]
["305","020","","11V","7","305-Department of Veterans' Affairs","020-Field Services",null,"11V-7 Veterans Estate Mgmt Program",0,0,0,0,0,0,6.9999999999999999E-4,0,0,0]
["305","035","","001","1","305-Department of Veterans' Affairs","035-Institutional Services",null,"001-1 General Fund-State",0.75139999999999996,0.75290000000000001,0,0,0.75139999999999996,0,0.9637,0.75139999999999996,0.92549999999999999,0.95050000000000001]
["305","035","","001","2","305-Department of Veterans' Affairs","035-Institutional Services",null,"001-2 General Fund-Federal",0,0,0,0,0,0,0,0,0,0]
["305","035","","001","7","305-Department of Veterans' Affairs","035-Institutional Services",null,"001-7 General Fund-Private/Local",0.01,0.01,0,0,0.01,0,0.01,0.01,0.01,0.01]
["307","010","","001","1","307-Dept of Children, Youth and Families","010-Children & Family Services",null,"001-1 General Fund-State",0,0,0,0,0,0,0.2135,0,0,0]
["307","010","","001","2","307-Dept of Children, Youth and Families","010-Children & Family Services",null,"001-2 General Fund-Federal",0,0,0,0,0,0,0.11550000000000001,0,0,0]
["307","020","","001","1","307-Dept of Children, Youth and Families","020-Juvenile Rehabilitation",null,"001-1 General Fund-State",0,0,0,0,0,0,0.53220000000000001,0,0,0]
["307","020","","001","2","307-Dept of Children, Youth and Families","020-Juvenile Rehabilitation",null,"001-2 General Fund-Federal",0,0,0,0,0,0,0,0,0,0]
["307","030","","001","1","307-Dept of Children, Youth and Families","030-Early Learning",null,"001-1 General Fund-State",0,0,0,0,0,0,3.2300000000000002E-2,0,0,0]
["307","030","","001","2","307-Dept of Children, Youth and Families","030-Early Learning",null,"001-2 General Fund-Federal",0,0,0,0,0,0,3.0700000000000002E-2,0,0,0]
["307","090","","001","1","307-Dept of Children, Youth and Families","090-Program Support      ",null,"001-1 General Fund-State",0.6744,0.80020000000000002,0.69430000000000003,0.69579999999999997,0.78859999999999997,1,4.8000000000000001E-2,0.72389999999999999,0.69579999999999997,0.77890000000000004]
["307","090","","001","2","307-Dept of Children, Youth and Families","090-Program Support      ",null,"001-2 General Fund-Federal",0.3256,0.19980000000000001,0.30570000000000003,0.30420000000000003,0.2114,0,2.7799999999999998E-2,0.27610000000000001,0.30420000000000003,0.22109999999999999]
["310","600","","001","1","310-Department of Corrections","600-Interagency Payments",null,"001-1 General Fund-State",1,1,1,1,1,1,1,1,1,1]
["315","","","001","1","315-Dept of Services for the Blind",null,null,"001-1 General Fund-State",0.19,0.19,0.19,0.19,0.19,0.94,0.19,0.19,0.19,0.19]
["315","","","001","2","315-Dept of Services for the Blind",null,null,"001-2 General Fund-Federal",0.75,0.75,0.75,0.75,0.75,0,0.75,0.75,0.75,0.75]
["315","","","02H","6","315-Dept of Services for the Blind",null,null,"02H-6 Business Enterprises Revolving Acct-Non-Appropriated",0.06,0.06,0.06,0.06,0.06,0.06,0.06,0.06,0.06,0.06]
["340","PCA","","001","1","340-Student Achievement Council","PCA-Policy Coordination & Administration",null,"001-1 General Fund-State",0.49199999999999999,0.49199999999999999,0.49199999999999999,0.49199999999999999,0.49199999999999999,0.503,0.49199999999999999,0.49199999999999999,0.49199999999999999,0.49199999999999999]
["340","PCA","","001","2","340-Student Achievement Council","PCA-Policy Coordination & Administration",null,"001-2 General Fund-Federal",0.01,0.01,0.01,0.01,0.01,0,0.01,0.01,0.01,0.01]
["340","SFA","","001","1","340-Student Achievement Council","SFA-Student Finanical Aid",null,"001-1 General Fund-State",3.2000000000000001E-2,3.2000000000000001E-2,3.2000000000000001E-2,3.2000000000000001E-2,3.2000000000000001E-2,0.106,3.2000000000000001E-2,3.2000000000000001E-2,3.2000000000000001E-2,3.2000000000000001E-2]
["340","SFA","","001","2","340-Student Achievement Council","SFA-Student Finanical Aid",null,"001-2 General Fund-Federal",7.4999999999999997E-2,7.4999999999999997E-2,7.4999999999999997E-2,7.4999999999999997E-2,7.4999999999999997E-2,0,7.4999999999999997E-2,7.4999999999999997E-2,7.4999999999999997E-2,7.4999999999999997E-2]
["340","SFA","","17R","1","340-Student Achievement Council","SFA-Student Finanical Aid",null,"17R-1 Aerospace Training Student Loan Acc-State",3.0000000000000001E-3,3.0000000000000001E-3,3.0000000000000001E-3,3.0000000000000001E-3,3.0000000000000001E-3,3.0000000000000001E-3,3.0000000000000001E-3,3.0000000000000001E-3,3.0000000000000001E-3,3.0000000000000001E-3]
["340","SFA","","24J","1","340-Student Achievement Council","SFA-Student Finanical Aid",null,"24J-1 Workforce Education Investment Account - State",1.9E-2,1.9E-2,1.9E-2,1.9E-2,1.9E-2,1.9E-2,1.9E-2,1.9E-2,1.9E-2,1.9E-2]
["340","SFA","","463","6","340-Student Achievement Council","SFA-Student Finanical Aid",null,"463-6 Washington College Savings Program Account",3.7999999999999999E-2,3.7999999999999999E-2,3.7999999999999999E-2,3.7999999999999999E-2,3.7999999999999999E-2,3.7999999999999999E-2,3.7999999999999999E-2,3.7999999999999999E-2,3.7999999999999999E-2,3.7999999999999999E-2]
["340","SFA","","496","6","340-Student Achievement Council","SFA-Student Finanical Aid",null,"496-6 Future Teachers Condtnl Scholarship-Non-Appropriated",3.4000000000000002E-2,3.4000000000000002E-2,3.4000000000000002E-2,3.4000000000000002E-2,3.4000000000000002E-2,3.4000000000000002E-2,3.4000000000000002E-2,3.4000000000000002E-2,3.4000000000000002E-2,3.4000000000000002E-2]
["340","SFA","","747","6","340-Student Achievement Council","SFA-Student Finanical Aid",null,"747-6 Health Prof Loan Repay/Scholar Prog-Non-Appropriated",1.7000000000000001E-2,1.7000000000000001E-2,1.7000000000000001E-2,1.7000000000000001E-2,1.7000000000000001E-2,1.7000000000000001E-2,1.7000000000000001E-2,1.7000000000000001E-2,1.7000000000000001E-2,1.7000000000000001E-2]
["340","SFA","","788","6","340-Student Achievement Council","SFA-Student Finanical Aid",null,"788-6 Adv College Tuition Payment Pgm-Non-Appropriated",0.28000000000000003,0.28000000000000003,0.28000000000000003,0.28000000000000003,0.28000000000000003,0.28000000000000003,0.28000000000000003,0.28000000000000003,0.28000000000000003,0.28000000000000003]
["341","","","548","6","341-LEOFF 2 Retirement Board",null,null,"548-6 LEOFF Plan 2 Expense Fund-Non-Appropriated",1,1,1,1,1,1,1,1,1,1]
["350","010","","001","1","350-Public Schools","010-OSPI & Statewide Programs",null,"001-1 General Fund-State",1,1,1,1,1,1,1,1,1,1]
["351","","","001","1","351-State School for the Blind",null,null,"001-1 General Fund-State",1,1,1,1,1,1,1,1,1,1]
["353","","","001","1","353-Childhood Deafness & Hearing Loss",null,null,"001-1 General Fund-State",1,1,1,1,1,1,1,1,1,1]
["354","","","001","1","354-Workforce Trng & Educ Coord Board",null,null,"001-1 General Fund-State",0.59,0.59,0.59,0.59,0.59,0.92,0.59,0.59,0.59,0.59]
["354","","","001","2","354-Workforce Trng & Educ Coord Board",null,null,"001-2 General Fund-Federal",0.33,0.33,0.33,0.33,0.33,0,0.33,0.33,0.33,0.33]
["354","","","503","6","354-Workforce Trng & Educ Coord Board",null,null,"503-6 Tuition Recovery Trust Fund-Non-Appropriated",0.08,0.08,0.08,0.08,0.08,0.08,0.08,0.08,0.08,0.08]
["355","","","001","1","355-Archaeology & Historic Preservation",null,null,"001-1 General Fund-State",1,1,1,1,1,1,1,1,1,1]
["359","","","19L","1","359-Washington Charter School Comm",null,null,"19L-1 Charter School Oversight Account-State",1,1,1,1,1,1,1,1,1,1]
["360","","","001","1","360-University of Washington",null,null,"001-1 General Fund-State",0.35,0.35,0.35,0.35,0.35,0.35,0.35,0.35,0.35,0.35]
["360","","","149","6","360-University of Washington",null,null,"149-6 Inst of Hi Ed-Operating Fees Acct-Non-Appropriated",0.65,0.65,0.65,0.65,0.65,0.65,0.65,0.65,0.65,0.65]
["365","","","001","1","365-Washington State University",null,null,"001-1 General Fund-State",0.5,0.5,0.5,0.5,0.5,0.5,0.5,0.5,0.5,0.5]
["365","","","149","6","365-Washington State University",null,null,"149-6 Inst of Hi Ed-Operating Fees Acct-Non-Appropriated",0.5,0.5,0.5,0.5,0.5,0.5,0.5,0.5,0.5,0.5]
["370","","","001","1","370-Eastern Washington University",null,null,"001-1 General Fund-State",0.52,0.52,0.52,0.52,0.52,0.52,0.52,0.52,0.52,0.52]
["370","","","149","6","370-Eastern Washington University",null,null,"149-6 Inst of Hi Ed-Operating Fees Acct-Non-Appropriated",0.48,0.48,0.48,0.48,0.48,0.48,0.48,0.48,0.48,0.48]
["375","","","001","1","375-Central Washington University",null,null,"001-1 General Fund-State",0.51,0.51,0.51,0.51,0.51,0.51,0.51,0.51,0.51,0.51]
["375","","","149","6","375-Central Washington University",null,null,"149-6 Inst of Hi Ed-Operating Fees Acct-Non-Appropriated",0.49,0.49,0.49,0.49,0.49,0.49,0.49,0.49,0.49,0.49]
["376","","","001","1","376-The Evergreen State College",null,null,"001-1 General Fund-State",0.48,0.48,0.48,0.48,0.48,0.48,0.48,0.48,0.48,0.48]
["376","","","149","6","376-The Evergreen State College",null,null,"149-6 Inst of Hi Ed-Operating Fees Acct-Non-Appropriated",0.52,0.52,0.52,0.52,0.52,0.52,0.52,0.52,0.52,0.52]
["380","","","001","1","380-Western Washington University",null,null,"001-1 General Fund-State",0.51,0.51,0.51,0.51,0.51,0.51,0.51,0.51,0.51,0.51]
["380","","","149","6","380-Western Washington University",null,null,"149-6 Inst of Hi Ed-Operating Fees Acct-Non-Appr",0.49,0.49,0.49,0.49,0.49,0.49,0.49,0.49,0.49,0.49]
["387","","","001","1","387-Washington State Arts Commission",null,null,"001-1 General Fund-State",1,1,1,1,1,1,1,1,1,1]
["390","","","001","1","390-Washington State Historical Society",null,null,"001-1 General Fund-State",1,1,1,1,1,1,1,1,1,1]
["390","","","184","6","390-Washington State Historical Society",null,null,"184-6 Local Museum Acct-Wa St Hist Soc-Non-Appropriated",0,0,0,0,0,0,0,0,0,0]
["395","","","001","1","395-East Wash State Historical Society",null,null,"001-1 General Fund-State",1,1,1,1,1,1,1,1,1,1]
["405","B00","","16J","1","405-Department of Transportation","B00-Program B - Toll Operations & Maintenance",null,"16J-1 SR 520 Corridor Account-State",0,0,0,0,0,0,1.9E-3,0,0,0]
["405","B00","","511","1","405-Department of Transportation","B00-Program B - Toll Operations & Maintenance",null,"511-1 Tacoma Narrows Toll Bridge Account-State",0,0,0,0,0,0,2.3E-3,0,0,0]
["405","B00","","595","1","405-Department of Transportation","B00-Program B - Toll Operations & Maintenance",null,"595-1 I-405 Express Toll Lanes Operations-State",0,0,0,0,0,0,3.5000000000000001E-3,0,0,0]
["405","C00","","108","1","405-Department of Transportation","C00-Program C - Information Technology",null,"108-1 Motor Vehicle Account-State",0,0,0,0,0,0,3.1300000000000001E-2,0,0,0]
["405","C00","","218","1","405-Department of Transportation","C00-Program C - Information Technology",null,"218-1 Multimodal Transportation Account-State",0,0,0,0,0,0,1.5E-3,0,0,0]
["405","D00","","108","1","405-Department of Transportation","D00-Program D - Facilities - Operating",null,"108-1 Motor Vehicle Account-State",0,0,0,0,0,0,1.3899999999999999E-2,0,0,0]
["405","F00","","039","1","405-Department of Transportation","F00-Program F - Aviation",null,"039-1 Aeronautics Account-State",0,0,0,0,0,0,1.6000000000000001E-3,0,0,0]
["405","H00","","108","1","405-Department of Transportation","H00-Program H - Program Delivery Management & Support",null,"108-1 Motor Vehicle Account-State",0,0,0,0,0,0,3.3799999999999997E-2,0,0,0]
["405","I00","","09H","1","405-Department of Transportation","I00-Program I - Improvements - Capital",null,"09H-1 Transportation Partnership Account-State",0,0,0,0,0,0,2.12E-2,0,0,0]
["405","I00","","108","1","405-Department of Transportation","I00-Program I - Improvements - Capital",null,"108-1 Motor Vehicle Account-State",0,0,0,0,0,0,2.01E-2,0,0,0]
["405","I00","","20H","1","405-Department of Transportation","I00-Program I - Improvements - Capital",null,"20H-1 Connecting Washington Account-State",0,0,0,0,0,0,0.1409,0,0,0]
["405","I00","","595","1","405-Department of Transportation","I00-Program I - Improvements - Capital",null,"595-1 I-405 Express Toll Lanes Operations-State",0,0,0,0,0,0,2.7000000000000001E-3,0,0,0]
["405","K00","","108","1","405-Department of Transportation","K00-Program K - Public Private Partnerships - Operating",null,"108-1 Motor Vehicle Account-State",0,0,0,0,0,0,3.4228728342841787E-4,0,0,0]
["405","M00","","108","1","405-Department of Transportation","M00-Program M - Highway Maintenance",null,"108-1 Motor Vehicle Account-State",0,0,0,0,0,0,0.2346,0,0,0]
["405","M00","","16J","1","405-Department of Transportation","M00-Program M - Highway Maintenance",null,"16J-1 SR 520 Corridor Account-State",0,0,0,0,0,0,2.5999999999999999E-3,0,0,0]
["405","P0C","","09H","1","405-Department of Transportation","P0C-Program P - Preservation - Capital",null,"09H-1 Transportation Partnership Account-State",0,0,0,0,0,0,3.5000000000000001E-3,0,0,0]
["405","P0C","","108","1","405-Department of Transportation","P0C-Program P - Preservation - Capital",null,"108-1 Motor Vehicle Account-State",0,0,0,0,0,0,8.6199999999999999E-2,0,0,0]
["405","P0C","","20H","1","405-Department of Transportation","P0C-Program P - Preservation - Capital",null,"20H-1 Connecting Washington Account-State",0,0,0,0,0,0,3.4200000000000001E-2,0,0,0]
["405","Q00","","108","1","405-Department of Transportation","Q00-Program Q - Traffic Operations",null,"108-1 Motor Vehicle Account-State",0,0,0,0,0,0,3.9199999999999999E-2,0,0,0]
["405","S00","","108","1","405-Department of Transportation","S00-Program S - Transp Management & Support",null,"108-1 Motor Vehicle Account-State",0,0,0,0,0,0,2.4400000000000002E-2,0,0,0]
["405","T00","","108","1","405-Department of Transportation","T00-Program T - Transportation Planning, Data and Research - Op",null,"108-1 Motor Vehicle Account-State",0,0,0,0,0,0,2.4199999999999999E-2,0,0,0]
["405","U00","","108","1","405-Department of Transportation","U00-Program U - Charges from Other Agencies",null,"108-1 Motor Vehicle Account-State",0.92,0.92,0.92,0.92,0.92,0.92,0,0.92,0.92,0.92]
["405","U00","","218","1","405-Department of Transportation","U00-Program U - Charges from Other Agencies",null,"218-1 Multimodal Transportation Account-State",0.08,0.08,0.08,0.08,0.08,0.08,0,0.08,0.08,0.08]
["405","V00","","218","1","405-Department of Transportation","V00-Program V - Public Transportation",null,"218-1 Multimodal Transportation Account-State",0,0,0,0,0,0,6.6E-3,0,0,0]
["405","W0C","","20H","1","405-Department of Transportation","W0C-Program W - Wa State Ferries-Construction - Capital",null,"20H-1 Connecting Washington Account-State",0,0,0,0,0,0,2.2200000000000001E-2,0,0,0]
["405","X00","","109","1","405-Department of Transportation","X00-Program X - Washington State Ferries - Operating",null,"109-1 Puget Sound Ferry Operations Acct-State",0,0,0,0,0,0,0.23719999999999999,0,0,0]
["405","Y00","","218","1","405-Department of Transportation","Y00-Program Y - Rail - Operating",null,"218-1 Multimodal Transportation Account-State",0,0,0,0,0,0,3.5999999999999999E-3,0,0,0]
["405","Z00","","108","1","405-Department of Transportation","Z00-Program Z - Local Programs - Operating",null,"108-1 Motor Vehicle Account-State",0,0,0,0,0,0,6.4999999999999997E-3,0,0,0]
["406","010","","108","1","406-County Road Administration Board","010-Operating",null,"108-1 Motor Vehicle Account-State",1,1,1,1,1,1,1,1,1,1]
["407","010","","144","1","407-Transportation Improvement Board","010-Operating",null,"144-1 Transportation Improvement Account-State",1,1,1,1,1,1,1,1,1,1]
["410","","","108","1","410-Transportation Commission",null,null,"108-1 Motor Vehicle Account-State",1,1,1,1,1,1,1,1,1,1]
["411","","","09E","1","411-Freight Mobility Strategic Invest",null,null,"09E-1 Freight Mobility Investment Account-State",1,1,1,1,1,1,1,1,1,1]
["460","","","001","1","460-Columbia River Gorge Commission",null,null,"001-1 General Fund-State",0.54,0.54,0.54,0.54,0.54,0.54,0.54,0.54,0.54,1]
["460","","","001","7","460-Columbia River Gorge Commission",null,null,"001-7 General Fund-Private/Local",0.46,0.46,0.46,0.46,0.46,0.46,0.46,0.46,0.46,0]
["461","","","001","1","461-Department of Ecology",null,null,"001-1 General Fund-State",0.113,0.27900000000000003,0.113,0.113,0.113,0.113,0.113,0.113,0.113,0.113]
["461","","","027","1","461-Department of Ecology",null,null,"027-1 Reclamation Account-State",8.0000000000000002E-3,1.7000000000000001E-2,8.0000000000000002E-3,8.0000000000000002E-3,8.0000000000000002E-3,8.0000000000000002E-3,8.0000000000000002E-3,8.0000000000000002E-3,8.0000000000000002E-3,8.0000000000000002E-3]
["461","","","02P","1","461-Department of Ecology",null,null,"02P-1 Flood Control Assistance Account-State",8.0000000000000002E-3,6.0000000000000001E-3,8.0000000000000002E-3,8.0000000000000002E-3,8.0000000000000002E-3,8.0000000000000002E-3,8.0000000000000002E-3,8.0000000000000002E-3,8.0000000000000002E-3,8.0000000000000002E-3]
["461","","","044","1","461-Department of Ecology",null,null,"044-1 Waste Reduct/Recycle/Litter Control-State",3.4000000000000002E-2,0.01,3.4000000000000002E-2,3.4000000000000002E-2,3.4000000000000002E-2,3.4000000000000002E-2,3.4000000000000002E-2,3.4000000000000002E-2,3.4000000000000002E-2,3.4000000000000002E-2]
["461","","","163","1","461-Department of Ecology",null,null,"163-1 Worker/Comm Right to Know",5.0000000000000001E-3,0,5.0000000000000001E-3,5.0000000000000001E-3,5.0000000000000001E-3,5.0000000000000001E-3,5.0000000000000001E-3,5.0000000000000001E-3,5.0000000000000001E-3,5.0000000000000001E-3]
["461","","","176","1","461-Department of Ecology",null,null,"176-1 Water Quality Permit Account-State",0.129,0.108,0.129,0.129,0.129,0.129,0.129,0.129,0.129,0.129]
["461","","","182","1","461-Department of Ecology",null,null,"182-1 Underground Storage Tank Account-State",1.0999999999999999E-2,1.6E-2,1.0999999999999999E-2,1.0999999999999999E-2,1.0999999999999999E-2,1.0999999999999999E-2,1.0999999999999999E-2,1.0999999999999999E-2,1.0999999999999999E-2,1.0999999999999999E-2]
["461","","","199","1","461-Department of Ecology",null,null,"199-1 Biosolids Permit Account-State",6.0000000000000001E-3,0,6.0000000000000001E-3,6.0000000000000001E-3,6.0000000000000001E-3,6.0000000000000001E-3,6.0000000000000001E-3,6.0000000000000001E-3,6.0000000000000001E-3,6.0000000000000001E-3]
["461","","","207","1","461-Department of Ecology",null,null,"207-1 Hazardous Waste Assistance Account-State",1.9E-2,1.2E-2,1.9E-2,1.9E-2,1.9E-2,1.9E-2,1.9E-2,1.9E-2,1.9E-2,1.9E-2]
["461","","","20R","1","461-Department of Ecology",null,null,"20R-1 Radioactive Mixed Waste Account-State",5.7000000000000002E-2,7.4999999999999997E-2,5.7000000000000002E-2,5.7000000000000002E-2,5.7000000000000002E-2,5.7000000000000002E-2,5.7000000000000002E-2,5.7000000000000002E-2,5.7000000000000002E-2,5.7000000000000002E-2]
["461","","","216","1","461-Department of Ecology",null,null,"216-1 Air Pollution Control Account-State",1.0999999999999999E-2,1.0999999999999999E-2,1.0999999999999999E-2,1.0999999999999999E-2,1.0999999999999999E-2,1.0999999999999999E-2,1.0999999999999999E-2,1.0999999999999999E-2,1.0999999999999999E-2,1.0999999999999999E-2]
["461","","","217","1","461-Department of Ecology",null,null,"217-1 Oil Spill Prevention Account-State",2.1000000000000001E-2,8.9999999999999993E-3,2.1000000000000001E-2,2.1000000000000001E-2,2.1000000000000001E-2,2.1000000000000001E-2,2.1000000000000001E-2,2.1000000000000001E-2,2.1000000000000001E-2,2.1000000000000001E-2]
["461","","","219","1","461-Department of Ecology",null,null,"219-1 Air Operating Permit Account-State",1.2E-2,8.9999999999999993E-3,1.2E-2,1.2E-2,1.2E-2,1.2E-2,1.2E-2,1.2E-2,1.2E-2,1.2E-2]
["461","","","23P","1","461-Department of Ecology",null,null,"23P-1 Model Toxics Control Operating Account",0.55500000000000005,0.437,0.55500000000000005,0.55500000000000005,0.55500000000000005,0.55500000000000005,0.55500000000000005,0.55500000000000005,0.55500000000000005,0.55500000000000005]
["461","","","564","1","461-Department of Ecology",null,null,"564-1 Water Pollution Ctrl Revl Admin-State",1.0999999999999999E-2,1.0999999999999999E-2,1.0999999999999999E-2,1.0999999999999999E-2,1.0999999999999999E-2,1.0999999999999999E-2,1.0999999999999999E-2,1.0999999999999999E-2,1.0999999999999999E-2,1.0999999999999999E-2]
["462","","","544","1","462-WA Pollution Liab Insurance Program",null,null,"544-1 Pollution Liab Insurance Prog Trus-State",0.7,0.7,0.7,0.7,0.7,1,0.72,0.7,0.7,0.7]
["462","","","545","6","462-WA Pollution Liab Insurance Program",null,null,"545-6 Heating Oil Pollution Liab Trust-Non-Approp",0.3,0.3,0.3,0.3,0.3,0,0.28000000000000003,0.3,0.3,0.3]
["463","","","001","1","463-Energy Facility Site Eval Council",null,null,"001-1 General Fund-State",1,1,1,1,1,1,1,1,1,1]
["465","","","269","1","465-State Parks and Recreation Comm",null,null,"269-1 Parks Renewal & Stewardship Acct-State",1,1,1,1,1,1,1,1,1,1]
["467","","","001","1","467-Rec and Conservation Funding Board",null,null,"001-1 General Fund-State",0.4,0.4,0.4,0.4,0.4,0.4,0.4,0.4,0.4,0.4]
["467","","","267","1","467-Rec and Conservation Funding Board",null,null,"267-1 Recreation Resources Account-State",0.6,0.6,0.6,0.6,0.6,0.6,0.6,0.6,0.6,0.6]
["468","","","001","1","468-Environ & Land Use Hearings Office",null,null,"001-1 General Fund-State",1,1,1,1,1,1,1,1,1,1]
["471","","","001","1","471-State Conservation Commission ",null,null,"001-1 General Fund-State",1,1,1,1,1,1,1,1,1,1]
["477","","","001","1","477-Dept of Fish and Wildlife",null,null,"001-1 General Fund-State",0.49,0.49,0.49,0.49,0.49,0.49,0.49,0.49,0.49,0.49]
["477","","","24N","1","477-Dept of Fish and Wildlife",null,null,"24N-1 Fish, Wildlife, and Conservation Account-State",0.51,0.51,0.51,0.51,0.51,0.51,0.51,0.51,0.51,0.51]
["478","","","001","1","478-Puget Sound Partnership",null,null,"001-1 General Fund-State",0.64,0.64,0.64,0.64,0.64,0.91,0.64,0.64,0.64,0.64]
["478","","","001","2","478-Puget Sound Partnership",null,null,"001-2 General Fund-Federal",0.27,0.27,0.27,0.27,0.27,0,0.27,0.27,0.27,0.27]
["478","","","02R","1","478-Puget Sound Partnership",null,null,"02R-1 Aquatic Lands Enhancement Account-State",0.04,0.04,0.04,0.04,0.04,0.04,0.04,0.04,0.04,0.04]
["478","","","23P","1","478-Puget Sound Partnership",null,null,"23P-1 Model Toxics Oper - State",0.05,0.05,0.05,0.05,0.05,0.05,0.05,0.05,0.05,0.05]
["490","","","001","1","490-Department of Natural Resources",null,null,"001-1 General Fund-State",0.25,0.20100000000000001,0.25,0.28299999999999997,0.25,0.31,0.67800000000000005,0.25,0.25,0.25]
["490","","","001","2","490-Department of Natural Resources",null,null,"001-2 General Fund-Federal",0,6.0000000000000001E-3,0,2.7E-2,0,0,0,0,0,0]
["490","","","014","1","490-Department of Natural Resources",null,null,"014-1 Forest Development Account",0.128,0.1,0.128,0.111,0.128,0.111,7.0000000000000001E-3,0.128,0.128,0.128]
["490","","","01B","1","490-Department of Natural Resources",null,null,"01B-1 ORV & Non-Highway Vehicle Account",1.4E-2,1.2999999999999999E-2,1.4E-2,1.2E-2,1.4E-2,1.2E-2,5.0000000000000001E-3,1.4E-2,1.4E-2,1.4E-2]
["490","","","02A","1","490-Department of Natural Resources",null,null,"02A-1 Surveys and Maps Account",7.0000000000000001E-3,1E-3,7.0000000000000001E-3,8.9999999999999993E-3,7.0000000000000001E-3,8.9999999999999993E-3,0,7.0000000000000001E-3,7.0000000000000001E-3,7.0000000000000001E-3]
["490","","","02R","1","490-Department of Natural Resources",null,null,"02R-1 Aquatic Lands Enhancement Account",2.9000000000000001E-2,6.8000000000000005E-2,2.9000000000000001E-2,2.8000000000000001E-2,2.9000000000000001E-2,2.8000000000000001E-2,6.0000000000000001E-3,2.9000000000000001E-2,2.9000000000000001E-2,2.9000000000000001E-2]
["490","","","041","1","490-Department of Natural Resources",null,null,"041-1 Resource Management Cost Account",0.29299999999999998,0.441,0.29299999999999998,0.35599999999999998,0.29299999999999998,0.35599999999999998,2.1999999999999999E-2,0.29299999999999998,0.29299999999999998,0.29299999999999998]
["490","","","04H","1","490-Department of Natural Resources",null,null,"04H-1 Surface Mining Reclamation Account",1.0999999999999999E-2,1.7999999999999999E-2,1.0999999999999999E-2,1.4999999999999999E-2,1.0999999999999999E-2,1.4999999999999999E-2,0,1.0999999999999999E-2,1.0999999999999999E-2,1.0999999999999999E-2]
["490","","","05H","1","490-Department of Natural Resources",null,null,"05H-1 Disaster Response Account",0.01,4.0000000000000001E-3,0.01,8.0000000000000002E-3,0.01,8.0000000000000002E-3,2E-3,0.01,0.01,0.01]
["490","","","087","6","490-Department of Natural Resources",null,null,"087-6 Park Land Trust Revolving Account",1.2E-2,7.0000000000000001E-3,1.2E-2,1.0999999999999999E-2,1.2E-2,1.0999999999999999E-2,6.0000000000000001E-3,1.2E-2,1.2E-2,1.2E-2]
["490","","","11H","1","490-Department of Natural Resources",null,null,"11H-1 Forest and Fish Support Account",5.0000000000000001E-3,4.2999999999999997E-2,5.0000000000000001E-3,2.1999999999999999E-2,5.0000000000000001E-3,2.1999999999999999E-2,0,5.0000000000000001E-3,5.0000000000000001E-3,5.0000000000000001E-3]
["490","","","158","1","490-Department of Natural Resources",null,null,"158-1 Aquatic Land Dregded Material Disposal Site Account",0,3.0000000000000001E-3,0,1E-3,0,1E-3,0,0,0,0]
["490","","","167","1","490-Department of Natural Resources",null,null,"167-1 Natural Resources Conservation Areas Stewardship Account ",0,0,0,0,0,0,0,0,0,0]
["490","","","190","6","490-Department of Natural Resources",null,null,"190-6 Forest Fire Protection Assessment ",6.7000000000000004E-2,1.7000000000000001E-2,6.7000000000000004E-2,4.2000000000000003E-2,6.7000000000000004E-2,4.2000000000000003E-2,0.246,6.7000000000000004E-2,6.7000000000000004E-2,6.7000000000000004E-2]
["490","","","193","6","490-Department of Natural Resources",null,null,"193-6 State Forest Nursery Revolving Account",0.02,3.0000000000000001E-3,0.02,0,0.02,0,1.2E-2,0.02,0.02,0.02]
["490","","","198","6","490-Department of Natural Resources",null,null,"198-6 Access Road Revolving Account",6.9000000000000006E-2,1.2E-2,6.9000000000000006E-2,3.5999999999999997E-2,6.9000000000000006E-2,3.5999999999999997E-2,1.4E-2,6.9000000000000006E-2,6.9000000000000006E-2,6.9000000000000006E-2]
["490","","","19C","1","490-Department of Natural Resources",null,null,"19C-1 Forest Practices Application Account",6.0000000000000001E-3,4.0000000000000001E-3,6.0000000000000001E-3,4.0000000000000001E-3,6.0000000000000001E-3,4.0000000000000001E-3,0,6.0000000000000001E-3,6.0000000000000001E-3,6.0000000000000001E-3]
["490","","","216","1","490-Department of Natural Resources",null,null,"216-1 Air Pollution Control Account",1E-3,0,1E-3,1E-3,1E-3,1E-3,1E-3,1E-3,1E-3,1E-3]
["490","","","21Q","6","490-Department of Natural Resources",null,null,"21Q-6 Forest Health Revolving Account",4.1000000000000002E-2,2E-3,4.1000000000000002E-2,4.0000000000000001E-3,4.1000000000000002E-2,4.0000000000000001E-3,0,4.1000000000000002E-2,4.1000000000000002E-2,4.1000000000000002E-2]
["490","","","23P","1","490-Department of Natural Resources",null,null,"23P-1 Model Toxics Control Operating Account",2.5000000000000001E-2,4.5999999999999999E-2,2.5000000000000001E-2,1.9E-2,2.5000000000000001E-2,1.9E-2,0,2.5000000000000001E-2,2.5000000000000001E-2,2.5000000000000001E-2]
["490","","","268","1","490-Department of Natural Resources",null,null,"268-1 NOVA Program Account",2E-3,2E-3,2E-3,3.0000000000000001E-3,2E-3,3.0000000000000001E-3,0,2E-3,2E-3,2E-3]
["490","","","513","1","490-Department of Natural Resources",null,null,"513-1 Derelict Vessel Removal Account",3.0000000000000001E-3,3.0000000000000001E-3,3.0000000000000001E-3,1E-3,3.0000000000000001E-3,1E-3,0,3.0000000000000001E-3,3.0000000000000001E-3,3.0000000000000001E-3]
["490","","","830","1","490-Department of Natural Resources",null,null,"830-1 Agricultural College Trust Management Account",7.0000000000000001E-3,6.0000000000000001E-3,7.0000000000000001E-3,7.0000000000000001E-3,7.0000000000000001E-3,7.0000000000000001E-3,1E-3,7.0000000000000001E-3,7.0000000000000001E-3,7.0000000000000001E-3]
["495","","","001","1","495-Department of Agriculture",null,null,"001-1 General Fund-State",0.33,0.33,0.33,0.18,0.18,0.33,0.18,0.33,0.18,0.18]
["495","","","001","2","495-Department of Agriculture",null,null,"001-2 General Fund-Federal",0,0,0,0.15,0.15,0,0.15,0,0.15,0.15]
["495","","","02R","1","495-Department of Agriculture",null,null,"02R-1 Aquatic Lands Enhancement Account-State",0.02,0.02,0.02,0.02,0.02,0.02,0.02,0.02,0.02,0.02]
["495","","","108","1","495-Department of Agriculture",null,null,"108-1 Motor Vehicle Account-State",0.01,0.01,0.01,0.01,0.01,0.01,0.01,0.01,0.01,0.01]
["495","","","126","6","495-Department of Agriculture",null,null,"126-6 Agricultural Local Account-Non-Appropriated",0.3,0.3,0.3,0.3,0.3,0.3,0.3,0.3,0.3,0.3]
["495","","","128","6","495-Department of Agriculture",null,null,"128-6 Grain Inspection Revolving Acct-Non-Appropriated",0.12,0.12,0.12,0.12,0.12,0.12,0.12,0.12,0.12,0.12]
["495","","","131","6","495-Department of Agriculture",null,null,"131-6 Fair Account-Non-Appropriated",0,0,0,0,0,0,0,0,0,0]
["495","","","176","1","495-Department of Agriculture",null,null,"176-1 Water Quality Permit Account-State",0,0,0,0,0,0,0,0,0,0]
["495","","","23P","1","495-Department of Agriculture",null,null,"23P-1 Model Toxics Oper - State",0.03,0.03,0.03,0.03,0.03,0.03,0.03,0.03,0.03,0.03]
["495","","","516","6","495-Department of Agriculture",null,null,"516-6 Fruit and Vegetable Inspection Acct-Non-Appropriated",0.19,0.19,0.19,0.19,0.19,0.19,0.19,0.19,0.19,0.19]
["540","","","001","2","540-Employment Security Department",null,null,"001-2 General Fund-Federal",5.0999999999999997E-2,0,0,0.06,3.6999999999999998E-2,0.06,5.2999999999999999E-2,4.9000000000000002E-2,5.2999999999999999E-2,5.2999999999999999E-2]
["540","","","001","7","540-Employment Security Department",null,null,"001-7 General Fund-Private/Local",9.9000000000000005E-2,0,0,5.1999999999999998E-2,7.3999999999999996E-2,5.1999999999999998E-2,0.105,9.9000000000000005E-2,0.105,0.105]
["540","","","119","2","540-Employment Security Department",null,null,"119-2 Unemployment Compensation Admin-Federal",0.64490000000000003,0.57930000000000004,0.93259999999999998,0.59099999999999997,0.60629999999999995,0.59099999999999997,0.67820000000000003,0.66720000000000002,0.67820000000000003,0.67830000000000001]
["540","","","120","1","540-Employment Security Department",null,null,"120-1 Administrative Contingency Account-State",1.2E-2,0,0,0.224,0.14499999999999999,0.224,1.0999999999999999E-2,1.2E-2,1.0999999999999999E-2,1.0999999999999999E-2]
["540","","","134","1","540-Employment Security Department",null,null,"134-1 Employment Services Administrative-State",7.1999999999999995E-2,0,0,0.06,5.0999999999999997E-2,0.06,7.0999999999999994E-2,6.7000000000000004E-2,7.0999999999999994E-2,7.0999999999999994E-2]
["540","","","22F","1","540-Employment Security Department",null,null,"22F-1 Family and Medical Leave Insurance Account",0.1195,0.42070000000000002,6.7400000000000002E-2,9.9000000000000008E-3,8.48E-2,9.9000000000000008E-3,8.1000000000000003E-2,0.10489999999999999,8.1000000000000003E-2,8.09E-2]
["540","","","24J","1","540-Employment Security Department",null,null,"24J-1 CCL",8.0000000000000004E-4,0,0,2.2000000000000001E-3,1E-3,2.2000000000000001E-3,5.9999999999999995E-4,6.9999999999999999E-4,5.9999999999999995E-4,5.9999999999999995E-4]
["540","","","447","6","540-Employment Security Department",null,null,"447-6 IT DR Coop",4.0000000000000002E-4,0,0,1E-4,1E-4,1E-4,1E-4,1E-4,1E-4,1E-4]
["540","","","567","1","540-Employment Security Department",null,null,"567-1 LTCSS",4.0000000000000002E-4,0,0,8.0000000000000004E-4,8.0000000000000004E-4,8.0000000000000004E-4,1E-4,1E-4,1E-4,1E-4]
["541","","","001","2","540-Employment Security Department",null,null,"001-2 General Fund-Federal",5.0999999999999997E-2,0,0,0.06,3.6999999999999998E-2,0.06,5.2999999999999999E-2,4.9000000000000002E-2,5.2999999999999999E-2,5.2999999999999999E-2]
["541","","","001","7","540-Employment Security Department",null,null,"001-7 General Fund-Private/Local",9.9000000000000005E-2,0,0,5.1999999999999998E-2,7.3999999999999996E-2,5.1999999999999998E-2,0.105,9.9000000000000005E-2,0.105,0.105]
["541","","","119","2","540-Employment Security Department",null,null,"119-2 Unemployment Compensation Admin-Federal",0.64490000000000003,0.57930000000000004,0.93259999999999998,0.59099999999999997,0.60629999999999995,0.59099999999999997,0.67820000000000003,0.66720000000000002,0.67820000000000003,0.67830000000000001]
["541","","","120","1","540-Employment Security Department",null,null,"120-1 Administrative Contingency Account-State",1.2E-2,0,0,0.224,0.14499999999999999,0.224,1.0999999999999999E-2,1.2E-2,1.0999999999999999E-2,1.0999999999999999E-2]
["541","","","134","1","540-Employment Security Department",null,null,"134-1 Employment Services Administrative-State",7.1999999999999995E-2,0,0,0.06,5.0999999999999997E-2,0.06,7.0999999999999994E-2,6.7000000000000004E-2,7.0999999999999994E-2,7.0999999999999994E-2]
["541","","","22F","1","540-Employment Security Department",null,null,"22F-1 Family and Medical Leave Insurance Account",0.1195,0.42070000000000002,6.7400000000000002E-2,9.9000000000000008E-3,8.48E-2,9.9000000000000008E-3,8.1000000000000003E-2,0.10489999999999999,8.1000000000000003E-2,8.09E-2]
["541","","","24J","1","540-Employment Security Department",null,null,"24J-1 CCL",8.0000000000000004E-4,0,0,2.2000000000000001E-3,1E-3,2.2000000000000001E-3,5.9999999999999995E-4,6.9999999999999999E-4,5.9999999999999995E-4,5.9999999999999995E-4]
["541","","","447","6","540-Employment Security Department",null,null,"447-6 IT DR Coop",4.0000000000000002E-4,0,0,1E-4,1E-4,1E-4,1E-4,1E-4,1E-4,1E-4]
["541","","","567","1","540-Employment Security Department",null,null,"567-1 LTCSS",4.0000000000000002E-4,0,0,8.0000000000000004E-4,8.0000000000000004E-4,8.0000000000000004E-4,1E-4,1E-4,1E-4,1E-4]
["542","","","001","2","540-Employment Security Department",null,null,"001-2 General Fund-Federal",5.0999999999999997E-2,0,0,0.06,3.6999999999999998E-2,0.06,5.2999999999999999E-2,4.9000000000000002E-2,5.2999999999999999E-2,5.2999999999999999E-2]
["542","","","001","7","540-Employment Security Department",null,null,"001-7 General Fund-Private/Local",9.9000000000000005E-2,0,0,5.1999999999999998E-2,7.3999999999999996E-2,5.1999999999999998E-2,0.105,9.9000000000000005E-2,0.105,0.105]
["542","","","119","2","540-Employment Security Department",null,null,"119-2 Unemployment Compensation Admin-Federal",0.64490000000000003,0.57930000000000004,0.93259999999999998,0.59099999999999997,0.60629999999999995,0.59099999999999997,0.67820000000000003,0.66720000000000002,0.67820000000000003,0.67830000000000001]
["542","","","120","1","540-Employment Security Department",null,null,"120-1 Administrative Contingency Account-State",1.2E-2,0,0,0.224,0.14499999999999999,0.224,1.0999999999999999E-2,1.2E-2,1.0999999999999999E-2,1.0999999999999999E-2]
["542","","","134","1","540-Employment Security Department",null,null,"134-1 Employment Services Administrative-State",7.1999999999999995E-2,0,0,0.06,5.0999999999999997E-2,0.06,7.0999999999999994E-2,6.7000000000000004E-2,7.0999999999999994E-2,7.0999999999999994E-2]
["542","","","22F","1","540-Employment Security Department",null,null,"22F-1 Family and Medical Leave Insurance Account",0.1195,0.42070000000000002,6.7400000000000002E-2,9.9000000000000008E-3,8.48E-2,9.9000000000000008E-3,8.1000000000000003E-2,0.10489999999999999,8.1000000000000003E-2,8.09E-2]
["542","","","24J","1","540-Employment Security Department",null,null,"24J-1 CCL",8.0000000000000004E-4,0,0,2.2000000000000001E-3,1E-3,2.2000000000000001E-3,5.9999999999999995E-4,6.9999999999999999E-4,5.9999999999999995E-4,5.9999999999999995E-4]
["542","","","447","6","540-Employment Security Department",null,null,"447-6 IT DR Coop",4.0000000000000002E-4,0,0,1E-4,1E-4,1E-4,1E-4,1E-4,1E-4,1E-4]
["542","","","567","1","540-Employment Security Department",null,null,"567-1 LTCSS",4.0000000000000002E-4,0,0,8.0000000000000004E-4,8.0000000000000004E-4,8.0000000000000004E-4,1E-4,1E-4,1E-4,1E-4]
["543","","","001","2","540-Employment Security Department",null,null,"001-2 General Fund-Federal",5.0999999999999997E-2,0,0,0.06,3.6999999999999998E-2,0.06,5.2999999999999999E-2,4.9000000000000002E-2,5.2999999999999999E-2,5.2999999999999999E-2]
["543","","","001","7","540-Employment Security Department",null,null,"001-7 General Fund-Private/Local",9.9000000000000005E-2,0,0,5.1999999999999998E-2,7.3999999999999996E-2,5.1999999999999998E-2,0.105,9.9000000000000005E-2,0.105,0.105]
["543","","","119","2","540-Employment Security Department",null,null,"119-2 Unemployment Compensation Admin-Federal",0.64490000000000003,0.57930000000000004,0.93259999999999998,0.59099999999999997,0.60629999999999995,0.59099999999999997,0.67820000000000003,0.66720000000000002,0.67820000000000003,0.67830000000000001]
["543","","","120","1","540-Employment Security Department",null,null,"120-1 Administrative Contingency Account-State",1.2E-2,0,0,0.224,0.14499999999999999,0.224,1.0999999999999999E-2,1.2E-2,1.0999999999999999E-2,1.0999999999999999E-2]
["543","","","134","1","540-Employment Security Department",null,null,"134-1 Employment Services Administrative-State",7.1999999999999995E-2,0,0,0.06,5.0999999999999997E-2,0.06,7.0999999999999994E-2,6.7000000000000004E-2,7.0999999999999994E-2,7.0999999999999994E-2]
["543","","","22F","1","540-Employment Security Department",null,null,"22F-1 Family and Medical Leave Insurance Account",0.1195,0.42070000000000002,6.7400000000000002E-2,9.9000000000000008E-3,8.48E-2,9.9000000000000008E-3,8.1000000000000003E-2,0.10489999999999999,8.1000000000000003E-2,8.09E-2]
["543","","","24J","1","540-Employment Security Department",null,null,"24J-1 CCL",8.0000000000000004E-4,0,0,2.2000000000000001E-3,1E-3,2.2000000000000001E-3,5.9999999999999995E-4,6.9999999999999999E-4,5.9999999999999995E-4,5.9999999999999995E-4]
["543","","","447","6","540-Employment Security Department",null,null,"447-6 IT DR Coop",4.0000000000000002E-4,0,0,1E-4,1E-4,1E-4,1E-4,1E-4,1E-4,1E-4]
["543","","","567","1","540-Employment Security Department",null,null,"567-1 LTCSS",4.0000000000000002E-4,0,0,8.0000000000000004E-4,8.0000000000000004E-4,8.0000000000000004E-4,1E-4,1E-4,1E-4,1E-4]
["544","","","001","2","540-Employment Security Department",null,null,"001-2 General Fund-Federal",5.0999999999999997E-2,0,0,0.06,3.6999999999999998E-2,0.06,5.2999999999999999E-2,4.9000000000000002E-2,5.2999999999999999E-2,5.2999999999999999E-2]
["544","","","001","7","540-Employment Security Department",null,null,"001-7 General Fund-Private/Local",9.9000000000000005E-2,0,0,5.1999999999999998E-2,7.3999999999999996E-2,5.1999999999999998E-2,0.105,9.9000000000000005E-2,0.105,0.105]
["544","","","119","2","540-Employment Security Department",null,null,"119-2 Unemployment Compensation Admin-Federal",0.64490000000000003,0.57930000000000004,0.93259999999999998,0.59099999999999997,0.60629999999999995,0.59099999999999997,0.67820000000000003,0.66720000000000002,0.67820000000000003,0.67830000000000001]
["544","","","120","1","540-Employment Security Department",null,null,"120-1 Administrative Contingency Account-State",1.2E-2,0,0,0.224,0.14499999999999999,0.224,1.0999999999999999E-2,1.2E-2,1.0999999999999999E-2,1.0999999999999999E-2]
["544","","","134","1","540-Employment Security Department",null,null,"134-1 Employment Services Administrative-State",7.1999999999999995E-2,0,0,0.06,5.0999999999999997E-2,0.06,7.0999999999999994E-2,6.7000000000000004E-2,7.0999999999999994E-2,7.0999999999999994E-2]
["544","","","22F","1","540-Employment Security Department",null,null,"22F-1 Family and Medical Leave Insurance Account",0.1195,0.42070000000000002,6.7400000000000002E-2,9.9000000000000008E-3,8.48E-2,9.9000000000000008E-3,8.1000000000000003E-2,0.10489999999999999,8.1000000000000003E-2,8.09E-2]
["544","","","24J","1","540-Employment Security Department",null,null,"24J-1 CCL",8.0000000000000004E-4,0,0,2.2000000000000001E-3,1E-3,2.2000000000000001E-3,5.9999999999999995E-4,6.9999999999999999E-4,5.9999999999999995E-4,5.9999999999999995E-4]
["544","","","447","6","540-Employment Security Department",null,null,"447-6 IT DR Coop",4.0000000000000002E-4,0,0,1E-4,1E-4,1E-4,1E-4,1E-4,1E-4,1E-4]
["544","","","567","1","540-Employment Security Department",null,null,"567-1 LTCSS",4.0000000000000002E-4,0,0,8.0000000000000004E-4,8.0000000000000004E-4,8.0000000000000004E-4,1E-4,1E-4,1E-4,1E-4]
["699","","","001","1","699-Community/Technical College System",null,null,"001-1 General Fund-State",0.69,0.69,0.69,0.69,0.69,0.69,0.69,0.69,0.69,0.69]
["699","","","149","6","699-Community/Technical College System",null,null,"149-6 Inst of Hi Ed-Operating Fees Acct-Non-Appropriated",0.31,0.31,0.31,0.31,0.31,0.31,0.31,0.31,0.31,0.31]

{"sheet":"ActiveFunds","index":3,"n_rows":862,"n_cols":27,"rows_kept":862,"cut":false,"hidden":true,"merged":[]}
[null,null,null,null,null,null,null,"001-2 General Fund-Federal",null,{"$f":"COUNTIF(AgencyFund,Agency)","v":0},null,null,"",{"$f":"IF(pgmcheck=1,OFFSET(AgencyProgram,MATCH((AgyCode),AgencyProgram,0)-1,4,COUNTIF(AgencyProgram,AgyCode)),PgmList)","v":{"$error":"#VALUE!"}},null,null,null,"IF(AgyChoice=1,FundList,OFFSET(AgencyFund,MATCH((Agency),AgencyFund,0)-1,1,COUNTIF(AgencyFund,Agency)))"]
[null,"AgencyFund Table",null,null,null,null,null,null,null,null,"Distinct Fund List",null,null,"Programcheck",null,{"$f":"IFERROR(INDEX($M$4:$M$67,MATCH(AgyCode,Table_clallam_Titles_Entity[Agency],0)),0)","v":0},null,{"$f":"IF(pgmcheck=1,OFFSET(AgencyProgram,MATCH((AgyCode),AgencyProgram,0)-1,4,COUNTIF(AgencyProgram,AgyCode)),OFFSET(pgmcheck,0,1))","v":0},{"$f":"IF(pgmcheck=1,OFFSET(AgencyProgram,MATCH((AgyCode),AgencyProgram,0)-1,4,COUNTIF(AgencyProgram,AgyCode)),PgmList)","v":{"$error":"#VALUE!"}},null,null,null,null,"IF(pgmcheck=1,OFFSET(AgencyProgram,MATCH((AgyCode),AgencyProgram,0)-1,4,COUNTIF(AgencyProgram,AgyCode)),$A$2)"]
[null,"Agency","Fund","Column1",null,null,null,"Agency",null,null,"Fund",null,null,"Agency","ProgramCode","BudgetType","SummFlag","ProgramTitle60","Program2"]
[null,"011-House of Reps","001-1 General Fund-State",{"$f":"LEFT(Table_clallam_Oversight_ActiveFunds[[#This Row],[Fund]],5)","v":"001-1"},null,"All",1,"All Agencies",{"$f":"LEFT(H4,3)","v":"All"},{"$f":"MID(K4,1,5)","v":"001-0"},"001-0 General Fund-Fed Grnt",null,1,"107","HBE","O",false,"Health Care Auth-Health Benefit Exchange",{"$f":"[2]ActiveFunds!$O4&\"-\"&[2]ActiveFunds!$R4","v":"HBE-Health Care Auth-Health Benefit Exchange"},null,{"$f":"N4&O4","v":"107HBE"},{"$f":"O4&\"-\"&R4","v":"HBE-Health Care Auth-Health Benefit Exchange"},null,"Agency","Program","Subprogram","AgencyProgram"]
[null,"011-House of Reps","108-1 Motor Vehicle Acct-State",{"$f":"LEFT(Table_clallam_Oversight_ActiveFunds[[#This Row],[Fund]],5)","v":"108-1"},null,"011",2,"011-House of Reps","011",{"$f":"MID(K5,1,5)","v":"001-1"},"001-1 General Fund-State",null,1,"107","OTH","O",false,"Health Care Auth-Other",{"$f":"[2]ActiveFunds!$O5&\"-\"&[2]ActiveFunds!$R5","v":"OTH-Health Care Auth-Other"},null,{"$f":"N5&O5","v":"107OTH"},{"$f":"O5&\"-\"&R5","v":"OTH-Health Care Auth-Other"},null,"300","030","1000-Community Services/RSN             ","300030"]
[null,"012-Senate","001-1 General Fund-State",{"$f":"LEFT(Table_clallam_Oversight_ActiveFunds[[#This Row],[Fund]],5)","v":"001-1"},null,"012",3,"012-Senate","012","001-2","001-2 General Fund-Federal",null,1,"107","PEB","O",false,"Health Care Auth-Employee Benefits",{"$f":"[2]ActiveFunds!$O6&\"-\"&[2]ActiveFunds!$R6","v":"PEB-Health Care Auth-Employee Benefits"},null,"107PEB","PEB-Health Care Auth-Employee Benefits",null,"300","030","2000-State Facility Services            ","300030"]
[null,"012-Senate","108-1 Motor Vehicle Acct-State",{"$f":"LEFT(Table_clallam_Oversight_ActiveFunds[[#This Row],[Fund]],5)","v":"108-1"},null,"013",4,"013-Jt Trans Committee","013","001-7","001-7 General Fund-Local",null,1,"107","SEB","O",false,"School Employee Benefits Board",{"$f":"[2]ActiveFunds!$O7&\"-\"&[2]ActiveFunds!$R7","v":"SEB-School Employee Benefits Board"},null,"107SEB","SEB-School Employee Benefits Board",null,"300","030","8000-Special Projects                   ","300030"]
[null,"013-Jt Trans Committee","108-1 Motor Vehicle Acct-State",{"$f":"LEFT(Table_clallam_Oversight_ActiveFunds[[#This Row],[Fund]],5)","v":"108-1"},null,"014",5,"014-Leg Audit & Review","014","001-A","001-A General Fund-Fam Supt",null,1,"300","010","O",false,"Children & Family Services",{"$f":"[2]ActiveFunds!$O8&\"-\"&[2]ActiveFunds!$R8","v":"010-Children & Family Services"},null,"300010","010-Children & Family Services",null,"300","030","9000-Program Support                    ","300030"]
[null,"013-Jt Trans Committee","218-1 Multimodal Acct-State",{"$f":"LEFT(Table_clallam_Oversight_ActiveFunds[[#This Row],[Fund]],5)","v":"218-1"},null,"020",6,"020-LEAP Committee","020","001-C","001-C General Fund-Medicaid",null,1,"300","020","O",false,"Juvenile Rehabilitation",{"$f":"[2]ActiveFunds!$O9&\"-\"&[2]ActiveFunds!$R9","v":"020-Juvenile Rehabilitation"},null,"300020","020-Juvenile Rehabilitation",null,"300","040","1000-Community Services                 ","300040"]
[null,"014-Leg Audit & Review","001-1 General Fund-State",{"$f":"LEFT(Table_clallam_Oversight_ActiveFunds[[#This Row],[Fund]],5)","v":"001-1"},null,"035",7,"035-State Actuary","035","001-D","001-D General Fund-TANF",null,1,"300","030","O",true,"Mental Health",{"$f":"[2]ActiveFunds!$O10&\"-\"&[2]ActiveFunds!$R10","v":"030-Mental Health"},null,"300030","030-Mental Health",null,"300","040","2000-Residential Habilitation Services  ","300040"]
[null,"014-Leg Audit & Review","553-1 Perf Audits of Govt-State",{"$f":"LEFT(Table_clallam_Oversight_ActiveFunds[[#This Row],[Fund]],5)","v":"553-1"},null,"037",8,"036-St Leg Labor Rel","036","001-H","001-H General Fund-ARPA",null,1,"300","040","O",true,"Developmental Disabilities",{"$f":"[2]ActiveFunds!$O11&\"-\"&[2]ActiveFunds!$R11","v":"040-Developmental Disabilities"},null,"300040","040-Developmental Disabilities",null,"300","040","8000-Special Projects                   ","300040"]
[null,"014-Leg Audit & Review","099-1 PS Cap Construction-State",{"$f":"LEFT(Table_clallam_Oversight_ActiveFunds[[#This Row],[Fund]],5)","v":"099-1"},null,"038",9,"037-Leg Support Services","037","001-W","001-W General Fund-Oth COVID",null,1,"300","050","O",false,"Long-Term Care Services",{"$f":"[2]ActiveFunds!$O12&\"-\"&[2]ActiveFunds!$R12","v":"050-Long-Term Care Services"},null,"300050","050-Long-Term Care Services",null,"300","040","9000-Program Support                    ","300040"]
[null,"014-Leg Audit & Review","218-1 Multimodal Acct-State",{"$f":"LEFT(Table_clallam_Oversight_ActiveFunds[[#This Row],[Fund]],5)","v":"218-1"},null,"040",10,"038-Joint Leg Syst Comm","038","001-X","001-X General Fund-CRF App",null,1,"300","060","O",false,"Economic Services Administration",{"$f":"[2]ActiveFunds!$O13&\"-\"&[2]ActiveFunds!$R13","v":"060-Economic Services Administration"},null,"300060","060-Economic Services Administration"]
[null,"020-LEAP Committee","553-1 Perf Audits of Govt-State",{"$f":"LEFT(Table_clallam_Oversight_ActiveFunds[[#This Row],[Fund]],5)","v":"553-1"},null,"045",11,"040-Statute Law Comm","040","001-Y","001-Y General Fund-Oth UAR",null,1,"300","070","O",false,"Alcohol & Substance Abuse",{"$f":"[2]ActiveFunds!$O14&\"-\"&[2]ActiveFunds!$R14","v":"070-Alcohol & Substance Abuse"},null,"300070","070-Alcohol & Substance Abuse"]
[null,"020-LEAP Committee","108-1 Motor Vehicle Acct-State",{"$f":"LEFT(Table_clallam_Oversight_ActiveFunds[[#This Row],[Fund]],5)","v":"108-1"},null,"046",12,"045-Supreme Court","045","001-Z","001-Z General Fund-CRRSA",null,1,"300","100","O",false,"Vocational Rehabilitation",{"$f":"[2]ActiveFunds!$O15&\"-\"&[2]ActiveFunds!$R15","v":"100-Vocational Rehabilitation"},null,"300100","100-Vocational Rehabilitation",null,"9000-Program Support                    "]
[null,"035-State Actuary","001-1 General Fund-State",{"$f":"LEFT(Table_clallam_Oversight_ActiveFunds[[#This Row],[Fund]],5)","v":"001-1"},null,"048",13,"046-State Law Library","046","002-1","002-1 Hospital Data Collec-State",null,1,"300","110","O",false,"Administration & Supporting Services",{"$f":"[2]ActiveFunds!$O16&\"-\"&[2]ActiveFunds!$R16","v":"110-Administration & Supporting Services"},null,"300110","110-Administration & Supporting Services",null,"2000-State Facility Services            "]
[null,"035-State Actuary","418-1 St Hlth Care Admn Ac-State",{"$f":"LEFT(Table_clallam_Oversight_ActiveFunds[[#This Row],[Fund]],5)","v":"418-1"},null,"050",14,"048-Court of Appeals","048","003-1","003-1 Architects' License-State",null,1,"300","135","O",false,"Special Commitment Center",{"$f":"[2]ActiveFunds!$O17&\"-\"&[2]ActiveFunds!$R17","v":"135-Special Commitment Center"},null,"300135","135-Special Commitment Center",null,"1000-Community Services/RSN             "]
[null,"035-State Actuary","492-1 School Employees' In-State",{"$f":"LEFT(Table_clallam_Oversight_ActiveFunds[[#This Row],[Fund]],5)","v":"492-1"},null,"055",15,"050-Judicial Conduct","050","006-1","006-1 Public Records Effic-State",null,1,"300","145","O",false,"Payments to Other Agencies",{"$f":"[2]ActiveFunds!$O18&\"-\"&[2]ActiveFunds!$R18","v":"145-Payments to Other Agencies"},null,"300145","145-Payments to Other Agencies",null,"2000-State Facility Services            "]
[null,"035-State Actuary","600-1 Retirmnt Sys Expense-State",{"$f":"LEFT(Table_clallam_Oversight_ActiveFunds[[#This Row],[Fund]],5)","v":"600-1"},null,"056",16,"055-Admin Office Courts","055","007-1","007-1 Winter Recreation-State",null,1,"300","150","O",false,"Information System Services",{"$f":"[2]ActiveFunds!$O19&\"-\"&[2]ActiveFunds!$R19","v":"150-Information System Services"},null,"300150","150-Information System Services",null,"9000-Program Support                    "]
[null,"036-St Leg Labor Rel","001-1 General Fund-State",{"$f":"LEFT(Table_clallam_Oversight_ActiveFunds[[#This Row],[Fund]],5)","v":"001-1"},null,"057",17,"056-Public Defense","056","014-1","014-1 Forest Development-State",null,1,"300","160","O",false,"Consolidated Field Services",{"$f":"[2]ActiveFunds!$O20&\"-\"&[2]ActiveFunds!$R20","v":"160-Consolidated Field Services"},null,"300160","160-Consolidated Field Services"]
[null,"037-Leg Support Services","001-1 General Fund-State",{"$f":"LEFT(Table_clallam_Oversight_ActiveFunds[[#This Row],[Fund]],5)","v":"001-1"},null,"075",18,"057-Civil Legal Aid","057","018-1","018-1 Millersylvania Park-State",null,1,"305","010","O",false,"Headquarters",{"$f":"[2]ActiveFunds!$O21&\"-\"&[2]ActiveFunds!$R21","v":"010-Headquarters"},null,"305010","010-Headquarters",null,null,null,{"$f":"IF(AND(LEFT(X5,3)=\"300\",LEFT(Y5,3)=\"030\"),$Z$5:$Z$8,IF(AND(LEFT(X5,3)=\"300\",LEFT(Y5,3)=\"040\"),$Z$9:$Z$12,\"\"))","v":{"$error":"#VALUE!"}}]
[null,"037-Leg Support Services","442-6 Leg Gift Center Acct-Non-Appr",{"$f":"LEFT(Table_clallam_Oversight_ActiveFunds[[#This Row],[Fund]],5)","v":"442-6"},null,"080",19,"075-Governor","075","01B-1","01B-1 ORV/NonHiwy Veh Acct-State",null,1,"305","020","O",false,"Field Services",{"$f":"[2]ActiveFunds!$O22&\"-\"&[2]ActiveFunds!$R22","v":"020-Field Services"},null,"305020","020-Field Services",null,null,null,{"$f":"IF(AND(LEFT(X6,3)=\"300\",LEFT(Y6,3)=\"030\"),$Z$5:$Z$8,IF(AND(LEFT(X6,3)=\"300\",LEFT(Y6,3)=\"040\"),$Z$9:$Z$12,\"\"))","v":{"$error":"#VALUE!"}}]
[null,"038-Joint Leg Syst Comm","001-1 General Fund-State",{"$f":"LEFT(Table_clallam_Oversight_ActiveFunds[[#This Row],[Fund]],5)","v":"001-1"},null,"082",20,"076-Spec Approps to Gov","076","01F-6","01F-6 Crime Victims Compen-Non-Appr",null,1,"305","035","O",false,"Institutional Services",{"$f":"[2]ActiveFunds!$O23&\"-\"&[2]ActiveFunds!$R23","v":"035-Institutional Services"},null,"305035","035-Institutional Services",null,null,null,{"$error":"#VALUE!"}]
[null,"040-Statute Law Comm","001-1 General Fund-State",{"$f":"LEFT(Table_clallam_Oversight_ActiveFunds[[#This Row],[Fund]],5)","v":"001-1"},null,"085",21,"080-Lieutenant Governor","080","01M-1","01M-1 Snowmobile Account-State",null,1,"307","010","O",false,"Children and Family",{"$f":"[2]ActiveFunds!$O24&\"-\"&[2]ActiveFunds!$R24","v":"010-Children and Family"},null,"307010","010-Children and Family",null,null,null,{"$error":"#VALUE!"}]
[null,"040-Statute Law Comm","197-6 Statute Law Comm Pub-Non-Appr",{"$f":"LEFT(Table_clallam_Oversight_ActiveFunds[[#This Row],[Fund]],5)","v":"197-6"},null,"086",22,"082-Public Disclosure","082","024-1","024-1 Profess Engineers'-State",null,1,"307","020","O",false,"Juvenile Rehabilitation",{"$f":"[2]ActiveFunds!$O25&\"-\"&[2]ActiveFunds!$R25","v":"020-Juvenile Rehabilitation"},null,"307020","020-Juvenile Rehabilitation",null,null,null,{"$error":"#VALUE!"}]
[null,"045-Supreme Court","001-1 General Fund-State",{"$f":"LEFT(Table_clallam_Oversight_ActiveFunds[[#This Row],[Fund]],5)","v":"001-1"},null,"087",23,"083-WA St Leadership Bd","083","025-1","025-1 Pilotage Account-State",null,1,"307","030","O",false,"Early Learning",{"$f":"[2]ActiveFunds!$O26&\"-\"&[2]ActiveFunds!$R26","v":"030-Early Learning"},null,"307030","030-Early Learning",null,null,null,{"$error":"#VALUE!"}]
[null,"046-State Law Library","001-1 General Fund-State",{"$f":"LEFT(Table_clallam_Oversight_ActiveFunds[[#This Row],[Fund]],5)","v":"001-1"},null,"090",24,"085-Secretary of State","085","026-1","026-1 Real Estate Cmsn-State",null,1,"307","090","O",false,"Program Support",{"$f":"[2]ActiveFunds!$O27&\"-\"&[2]ActiveFunds!$R27","v":"090-Program Support"},null,"307090","090-Program Support",null,null,null,{"$error":"#VALUE!"}]
[null,"048-Court of Appeals","001-1 General Fund-State",{"$f":"LEFT(Table_clallam_Oversight_ActiveFunds[[#This Row],[Fund]],5)","v":"001-1"},null,"095",25,"086-Indian Affairs","086","027-1","027-1 Reclamation Acct-State",null,1,"310","100","O",false,"Administration & Support Services",{"$f":"[2]ActiveFunds!$O28&\"-\"&[2]ActiveFunds!$R28","v":"100-Administration & Support Services"},null,"310100","100-Administration & Support Services",null,null,null,{"$error":"#VALUE!"}]
[null,"050-Judicial Conduct","001-1 General Fund-State",{"$f":"LEFT(Table_clallam_Oversight_ActiveFunds[[#This Row],[Fund]],5)","v":"001-1"},null,"099",26,"087-Asian-Pac-Amer Affr","087","02A-1","02A-1 Surveys & Maps Acct-State",null,1,"310","200","O",false,"Correctional Operations",{"$f":"[2]ActiveFunds!$O29&\"-\"&[2]ActiveFunds!$R29","v":"200-Correctional Operations"},null,"310200","200-Correctional Operations",null,null,null,""]
[null,"055-Admin Office Courts","001-1 General Fund-State",{"$f":"LEFT(Table_clallam_Oversight_ActiveFunds[[#This Row],[Fund]],5)","v":"001-1"},null,"100",27,"090-State Treasurer","090","02G-1","02G-1 Health Prfessns Acct-State",null,1,"310","300","O",false,"Community Supervision",{"$f":"[2]ActiveFunds!$O30&\"-\"&[2]ActiveFunds!$R30","v":"300-Community Supervision"},null,"310300","300-Community Supervision",null,null,null,""]
[null,"055-Admin Office Courts","001-2 General Fund-Federal",{"$f":"LEFT(Table_clallam_Oversight_ActiveFunds[[#This Row],[Fund]],5)","v":"001-2"},null,"101",28,"091-Redistricting Comm","091","02H-6","02H-6 Business Enterprises-Non-Appr",null,1,"310","400","O",false,"Correctional Industries",{"$f":"[2]ActiveFunds!$O31&\"-\"&[2]ActiveFunds!$R31","v":"400-Correctional Industries"},null,"310400","400-Correctional Industries"]
[null,"055-Admin Office Courts","001-7 General Fund-Local",{"$f":"LEFT(Table_clallam_Oversight_ActiveFunds[[#This Row],[Fund]],5)","v":"001-7"},null,"102",29,"095-State Auditor","095","02J-1","02J-1 CPA Account-State",null,1,"310","500","O",false,"Health Care Services",{"$f":"[2]ActiveFunds!$O32&\"-\"&[2]ActiveFunds!$R32","v":"500-Health Care Services"},null,"310500","500-Health Care Services"]
[null,"055-Admin Office Courts","001-X General Fund-CRF App",{"$f":"LEFT(Table_clallam_Oversight_ActiveFunds[[#This Row],[Fund]],5)","v":"001-X"},null,"103",30,"099-Sal Elected Official","099","02K-1","02K-1 Death Investigations-State",null,1,"310","600","O",false,"Interagency Payments",{"$f":"[2]ActiveFunds!$O33&\"-\"&[2]ActiveFunds!$R33","v":"600-Interagency Payments"},null,"310600","600-Interagency Payments"]
[null,"055-Admin Office Courts","16A-1 Judicial Stabil Trst-State",{"$f":"LEFT(Table_clallam_Oversight_ActiveFunds[[#This Row],[Fund]],5)","v":"16A-1"},null,"104",31,"100-Attorney General","100","02M-1","02M-1 Essential Rail Asst-State",null,1,"310","700","O",false,"Offender Change",{"$f":"[2]ActiveFunds!$O34&\"-\"&[2]ActiveFunds!$R34","v":"700-Offender Change"},null,"310700","700-Offender Change"]
[null,"055-Admin Office Courts","543-1 Judicial Info System-State",{"$f":"LEFT(Table_clallam_Oversight_ActiveFunds[[#This Row],[Fund]],5)","v":"543-1"},null,"105",32,"101-Caseload Forecast","101","02P-1","02P-1 Flood Control Assist-State",null,1,"340","PCA","O",false,"Policy Coordination & Administration",{"$f":"[2]ActiveFunds!$O35&\"-\"&[2]ActiveFunds!$R35","v":"PCA-Policy Coordination & Administration"},null,"340PCA","PCA-Policy Coordination & Administration"]
[null,"056-Public Defense","001-1 General Fund-State",{"$f":"LEFT(Table_clallam_Oversight_ActiveFunds[[#This Row],[Fund]],5)","v":"001-1"},null,"107",33,"102-Financial Inst Dept",{"$f":"LEFT(H36,3)","v":"102"},"02R-1","02R-1 Aquatic Lands Acct-State",null,1,"340","SFA","O",false,"Student Financial Services",{"$f":"[2]ActiveFunds!$O36&\"-\"&[2]ActiveFunds!$R36","v":"SFA-Student Financial Services"},null,"340SFA","SFA-Student Financial Services"]
[null,"056-Public Defense","001-2 General Fund-Federal",{"$f":"LEFT(Table_clallam_Oversight_ActiveFunds[[#This Row],[Fund]],5)","v":"001-2"},null,"110",34,"103-Dept Commerce","103","02W-1","02W-1 Timber Tax Distr Act-State",null,1,"350","010","O",false,"OSPI & Statewide Programs                                   ",{"$f":"[2]ActiveFunds!$O37&\"-\"&[2]ActiveFunds!$R37","v":"010-OSPI & Statewide Programs                                   "},null,"350010","010-OSPI & Statewide Programs                                   "]
[null,"056-Public Defense","001-7 General Fund-Local",{"$f":"LEFT(Table_clallam_Oversight_ActiveFunds[[#This Row],[Fund]],5)","v":"001-7"},null,"116",35,"104-Econ & Rev Forecast","104","030-6","030-6 Land Cont Forst Fire-Non-Appr",null,1,"350","01X","O",false,"State Board of Education                                    ",{"$f":"[2]ActiveFunds!$O38&\"-\"&[2]ActiveFunds!$R38","v":"01X-State Board of Education                                    "},null,"35001X","01X-State Board of Education                                    "]
[null,"056-Public Defense","16A-1 Judicial Stabil Trst-State",{"$f":"LEFT(Table_clallam_Oversight_ActiveFunds[[#This Row],[Fund]],5)","v":"16A-1"},null,"117",36,"105-OFM","105","031-1","031-1 Invest Bd Expense Ac-State",null,1,"350","01Y","O",false,"Professional Educator Standards Board                       ",{"$f":"[2]ActiveFunds!$O39&\"-\"&[2]ActiveFunds!$R39","v":"01Y-Professional Educator Standards Board                       "},null,"35001Y","01Y-Professional Educator Standards Board                       "]
[null,"057-Civil Legal Aid","001-1 General Fund-State",{"$f":"LEFT(Table_clallam_Oversight_ActiveFunds[[#This Row],[Fund]],5)","v":"001-1"},null,"118",37,"107-Health Care Auth","107","032-1","032-1 Emergency Water Proj-State",null,1,"350","01Z","O",false,"Hold Harmless Payments                                      ",{"$f":"[2]ActiveFunds!$O40&\"-\"&[2]ActiveFunds!$R40","v":"01Z-Hold Harmless Payments                                      "},null,"35001Z","01Z-Hold Harmless Payments                                      "]
[null,"057-Civil Legal Aid","001-2 General Fund-Federal",{"$f":"LEFT(Table_clallam_Oversight_ActiveFunds[[#This Row],[Fund]],5)","v":"001-2"},null,"119",38,"110-Admin Hearings","110","039-1","039-1 Aeronautics-State",null,1,"350","021","O",false,"General Apportionment                                       ",{"$f":"[2]ActiveFunds!$O41&\"-\"&[2]ActiveFunds!$R41","v":"021-General Apportionment                                       "},null,"350021","021-General Apportionment                                       "]
[null,"057-Civil Legal Aid","16A-1 Judicial Stabil Trst-State",{"$f":"LEFT(Table_clallam_Oversight_ActiveFunds[[#This Row],[Fund]],5)","v":"16A-1"},null,"120",39,"116-State Lottery Comm","116","039-2","039-2 Aeronautics-Federal",null,1,"350","022","O",false,"Pupil Transportation                                        ",{"$f":"[2]ActiveFunds!$O42&\"-\"&[2]ActiveFunds!$R42","v":"022-Pupil Transportation                                        "},null,"350022","022-Pupil Transportation                                        "]
[null,"057-Civil Legal Aid","17L-6 Foreclosure Fairness-Non-Appr",{"$f":"LEFT(Table_clallam_Oversight_ActiveFunds[[#This Row],[Fund]],5)","v":"17L-6"},null,"124",40,"117-Gambling Commission","117","039-7","039-7 Aeronautics-Local",null,1,"350","025","O",false,"School Food Services                                        ",{"$f":"[2]ActiveFunds!$O43&\"-\"&[2]ActiveFunds!$R43","v":"025-School Food Services                                        "},null,"350025","025-School Food Services                                        "]
[null,"075-Governor","001-1 General Fund-State",{"$f":"LEFT(Table_clallam_Oversight_ActiveFunds[[#This Row],[Fund]],5)","v":"001-1"},null,"126",41,"118-Hispanic Affairs","118","03B-1","03B-1 Asbestos Account-State",null,1,"350","026","O",false,"Special Education                                           ",{"$f":"[2]ActiveFunds!$O44&\"-\"&[2]ActiveFunds!$R44","v":"026-Special Education                                           "},null,"350026","026-Special Education                                           "]
[null,"075-Governor","09R-1 Econ Dev Strat R A-State",{"$f":"LEFT(Table_clallam_Oversight_ActiveFunds[[#This Row],[Fund]],5)","v":"09R-1"},null,"140",42,"119-African-Amer Affrs","119","03C-1","03C-1 Emer Med/Trauma Care-State",null,1,"350","028","O",false,"Educational Service Districts                               ",{"$f":"[2]ActiveFunds!$O45&\"-\"&[2]ActiveFunds!$R45","v":"028-Educational Service Districts                               "},null,"350028","028-Educational Service Districts                               "]
[null,"075-Governor","26B-1 Climate Investment-State",{"$f":"LEFT(Table_clallam_Oversight_ActiveFunds[[#This Row],[Fund]],5)","v":"26B-1"},null,"142",43,"120-Human Rights Comm","120","03F-1","03F-1 911 Account-State",null,1,"350","029","O",false,"Levy Equalization                                           ",{"$f":"[2]ActiveFunds!$O46&\"-\"&[2]ActiveFunds!$R46","v":"029-Levy Equalization                                           "},null,"350029","029-Levy Equalization                                           "]
[null,"075-Governor","081-1 WSP Highway Account-State",{"$f":"LEFT(Table_clallam_Oversight_ActiveFunds[[#This Row],[Fund]],5)","v":"081-1"},null,"147",44,"124-Retirement Systems","124","03L-1","03L-1 Cnty Criminal Justic-State",null,1,"350","032","O",false,"Elementary & Secondary School Improvement                   ",{"$f":"[2]ActiveFunds!$O47&\"-\"&[2]ActiveFunds!$R47","v":"032-Elementary & Secondary School Improvement                   "},null,"350032","032-Elementary & Secondary School Improvement                   "]
[null,"076-Spec Approps to Gov","001-1 General Fund-State",{"$f":"LEFT(Table_clallam_Oversight_ActiveFunds[[#This Row],[Fund]],5)","v":"001-1"},null,"160",45,"126-Investment Board","126","03M-1","03M-1 Munic Criminal Justi-State",null,1,"350","035","O",false,"Institutional Education                                     ",{"$f":"[2]ActiveFunds!$O48&\"-\"&[2]ActiveFunds!$R48","v":"035-Institutional Education                                     "},null,"350035","035-Institutional Education                                     "]
[null,"076-Spec Approps to Gov","001-2 General Fund-Federal",{"$f":"LEFT(Table_clallam_Oversight_ActiveFunds[[#This Row],[Fund]],5)","v":"001-2"},null,"163",46,"140-Revenue","140","03N-1","03N-1 Business License-State",null,1,"350","045","O",false,"Education of Highly Capable Students                        ",{"$f":"[2]ActiveFunds!$O49&\"-\"&[2]ActiveFunds!$R49","v":"045-Education of Highly Capable Students                        "},null,"350045","045-Education of Highly Capable Students                        "]
[null,"076-Spec Approps to Gov","001-7 General Fund-Local",{"$f":"LEFT(Table_clallam_Oversight_ActiveFunds[[#This Row],[Fund]],5)","v":"001-7"},null,"165",47,"142-Tax Appeals Board","142","03P-1","03P-1 Fire Svcs Trust Acct-State",null,1,"350","055","O",false,"Education Reform                                            ",{"$f":"[2]ActiveFunds!$O50&\"-\"&[2]ActiveFunds!$R50","v":"055-Education Reform                                            "},null,"350055","055-Education Reform                                            "]
[null,"076-Spec Approps to Gov","001-A General Fund-Fam Supt",{"$f":"LEFT(Table_clallam_Oversight_ActiveFunds[[#This Row],[Fund]],5)","v":"001-A"},null,"167",48,"147-OMWBE","147","03R-1","03R-1 Safe Drink Wtr Acct-State",null,1,"350","05X","O",false,"Grants and Pass-Through Funding                             ",{"$f":"[2]ActiveFunds!$O51&\"-\"&[2]ActiveFunds!$R51","v":"05X-Grants and Pass-Through Funding                             "},null,"35005X","05X-Grants and Pass-Through Funding                             "]
[null,"076-Spec Approps to Gov","001-C General Fund-Medicaid",{"$f":"LEFT(Table_clallam_Oversight_ActiveFunds[[#This Row],[Fund]],5)","v":"001-C"},null,"179",49,"160-Insurance Commission","160","041-1","041-1 Res Mgmt Cost Acct-State",null,1,"350","060","O",false,"Transitional Bilingual Instruction                          ",{"$f":"[2]ActiveFunds!$O52&\"-\"&[2]ActiveFunds!$R52","v":"060-Transitional Bilingual Instruction                          "},null,"350060","060-Transitional Bilingual Instruction                          "]
[null,"076-Spec Approps to Gov","001-H General Fund-ARPA",{"$f":"LEFT(Table_clallam_Oversight_ActiveFunds[[#This Row],[Fund]],5)","v":"001-H"},null,"185",50,"163-Cons Tech Services","163","042-1","042-1 C E P and R I Acct-State",null,1,"350","061","O",false,"Learning Assistance Program (LAP)                           ",{"$f":"[2]ActiveFunds!$O53&\"-\"&[2]ActiveFunds!$R53","v":"061-Learning Assistance Program (LAP)                           "},null,"350061","061-Learning Assistance Program (LAP)                           "]
[null,"076-Spec Approps to Gov","001-X General Fund-CRF App",{"$f":"LEFT(Table_clallam_Oversight_ActiveFunds[[#This Row],[Fund]],5)","v":"001-X"},null,"190",51,"165-Bd of Accountancy","165","044-1","044-1 Waste Reduct/Recycle-State",null,1,"350","068","O",false,"Charter Schools Apportionment                               ",{"$f":"[2]ActiveFunds!$O54&\"-\"&[2]ActiveFunds!$R54","v":"068-Charter Schools Apportionment                               "},null,"350068","068-Charter Schools Apportionment                               "]
[null,"076-Spec Approps to Gov","006-1 Public Records Effic-State",{"$f":"LEFT(Table_clallam_Oversight_ActiveFunds[[#This Row],[Fund]],5)","v":"006-1"},null,"195",52,"166-Bd of Registration","166","045-1","045-1 State Veh Park Acct-State",null,1,"350","359","O",false,"Charter School Commission                                   ",{"$f":"[2]ActiveFunds!$O55&\"-\"&[2]ActiveFunds!$R55","v":"359-Charter School Commission                                   "},null,"350359","359-Charter School Commission                                   "]
[null,"076-Spec Approps to Gov","02G-1 Health Prfessns Acct-State",{"$f":"LEFT(Table_clallam_Oversight_ActiveFunds[[#This Row],[Fund]],5)","v":"02G-1"},null,"205",53,"167-Forensic Investigatn","167","045-6","045-6 State Veh Park Acct-Non-Appr",null,1,"350","714","O",false,"Compensation Adjustments                                    ",{"$f":"[2]ActiveFunds!$O56&\"-\"&[2]ActiveFunds!$R56","v":"714-Compensation Adjustments                                    "},null,"350714","714-Compensation Adjustments                                    "]
[null,"076-Spec Approps to Gov","202-1 Med Test Site Licen-State",{"$f":"LEFT(Table_clallam_Oversight_ActiveFunds[[#This Row],[Fund]],5)","v":"202-1"},null,"215",54,"179-Dept Enterprise Svcs","179","048-1","048-1 Marine Fuel Tax Refu-State",null,1,"405","B00","T",false,"Program B - Toll Operations & Maintenance",{"$f":"[2]ActiveFunds!$O57&\"-\"&[2]ActiveFunds!$R57","v":"B00-Program B - Toll Operations & Maintenance"},null,"405B00","B00-Program B - Toll Operations & Maintenance"]
[null,"076-Spec Approps to Gov","24B-1 Found Pub Hlth Svc-State",{"$f":"LEFT(Table_clallam_Oversight_ActiveFunds[[#This Row],[Fund]],5)","v":"24B-1"},null,"220",55,"185-Horse Racing Comm","185","04E-1","04E-1 Uniform Commer Code-State",null,1,"405","C00","T",false,"Program C - Information Technology",{"$f":"[2]ActiveFunds!$O58&\"-\"&[2]ActiveFunds!$R58","v":"C00-Program C - Information Technology"},null,"405C00","C00-Program C - Information Technology"]
[null,"076-Spec Approps to Gov","24J-1 Workforce Ed Invest-State",{"$f":"LEFT(Table_clallam_Oversight_ActiveFunds[[#This Row],[Fund]],5)","v":"24J-1"},null,"225",56,"190-Indust Insur Appeals","190","04F-1","04F-1 Real Est Ed Pgm Acct-State",null,1,"405","D00","T",false,"Program D - Facilities - Operating",{"$f":"[2]ActiveFunds!$O59&\"-\"&[2]ActiveFunds!$R59","v":"D00-Program D - Facilities - Operating"},null,"405D00","D00-Program D - Facilities - Operating"]
[null,"076-Spec Approps to Gov","441-1 Local Gov Archives-State",{"$f":"LEFT(Table_clallam_Oversight_ActiveFunds[[#This Row],[Fund]],5)","v":"441-1"},null,"227",57,"195-Liquor Cannabis Bd","195","04H-1","04H-1 Surface Mining Recl-State",null,1,"405","E00","T",false,"Program E - Transportation Equipment Fund",{"$f":"[2]ActiveFunds!$O60&\"-\"&[2]ActiveFunds!$R60","v":"E00-Program E - Transportation Equipment Fund"},null,"405E00","E00-Program E - Transportation Equipment Fund"]
[null,"076-Spec Approps to Gov","447-6 Info Tech Invest Rev-Non-Appr",{"$f":"LEFT(Table_clallam_Oversight_ActiveFunds[[#This Row],[Fund]],5)","v":"447-6"},null,"228",58,"205-Pilotage Commiss","205","04M-1","04M-1 Recreatnl Fish Enhan-State",null,1,"405","F00","T",false,"Program F - Aviation",{"$f":"[2]ActiveFunds!$O61&\"-\"&[2]ActiveFunds!$R61","v":"F00-Program F - Aviation"},null,"405F00","F00-Program F - Aviation"]
[null,"076-Spec Approps to Gov","706-2 COVID Fiscal Recover-Federal",{"$f":"LEFT(Table_clallam_Oversight_ActiveFunds[[#This Row],[Fund]],5)","v":"706-2"},null,"235",59,"215-Utilities/Transport","215","04R-2","04R-2 Drinking Water Assis-Federal",null,1,"405","G00","T",false,"Program G - Local Climate Initiatives",{"$f":"[2]ActiveFunds!$O62&\"-\"&[2]ActiveFunds!$R62","v":"G00-Program G - Local Climate Initiatives"},null,"405G00","G00-Program G - Local Climate Initiatives"]
[null,"076-Spec Approps to Gov","706-2 COVID Fiscal Recover-Federal",{"$f":"LEFT(Table_clallam_Oversight_ActiveFunds[[#This Row],[Fund]],5)","v":"706-2"},null,"240",60,"220-Bd Volun Firefighter","220","04V-1","04V-1 Veh License Fraud-State",null,1,"405","H00","T",false,"Program H - Program Delivery Management & Support",{"$f":"[2]ActiveFunds!$O63&\"-\"&[2]ActiveFunds!$R63","v":"H00-Program H - Program Delivery Management & Support"},null,"405H00","H00-Program H - Program Delivery Management & Support"]
[null,"080-Lieutenant Governor","001-1 General Fund-State",{"$f":"LEFT(Table_clallam_Oversight_ActiveFunds[[#This Row],[Fund]],5)","v":"001-1"},null,"245",61,"225-State Patrol","225","04W-1","04W-1 Water Works Op Cert-State",null,1,"405","I","T",true,"Program I - Highway Construction/Improvements",{"$f":"[2]ActiveFunds!$O64&\"-\"&[2]ActiveFunds!$R64","v":"I-Program I - Highway Construction/Improvements"},null,"405I","I-Program I - Highway Construction/Improvements"]
[null,"080-Lieutenant Governor","001-7 General Fund-Local",{"$f":"LEFT(Table_clallam_Oversight_ActiveFunds[[#This Row],[Fund]],5)","v":"001-7"},null,"275",62,"227-Criminal Justice Trn","227","058-1","058-1 Public Works Assist-State",null,1,"405","K00","T",false,"Program K - Public/Private Partnerships",{"$f":"[2]ActiveFunds!$O65&\"-\"&[2]ActiveFunds!$R65","v":"K00-Program K - Public/Private Partnerships"},null,"405K00","K00-Program K - Public/Private Partnerships"]
[null,"080-Lieutenant Governor","07L-6 Leg Int Trade Acct-Non-Appr",{"$f":"LEFT(Table_clallam_Oversight_ActiveFunds[[#This Row],[Fund]],5)","v":"07L-6"},null,"300",63,"228-Traffic Safety Comm","228","05C-1","05C-1 Crim Justice Treatmt-State",null,1,"405","M00","T",false,"Program M - Highway Maintenance",{"$f":"[2]ActiveFunds!$O66&\"-\"&[2]ActiveFunds!$R66","v":"M00-Program M - Highway Maintenance"},null,"405M00","M00-Program M - Highway Maintenance"]
[null,"082-Public Disclosure","001-1 General Fund-State",{"$f":"LEFT(Table_clallam_Oversight_ActiveFunds[[#This Row],[Fund]],5)","v":"001-1"},null,"303",64,"229-Ind Investigations","229","05H-1","05H-1 Disaster Response-State",null,1,"405","P","T",true,"Program P - Highway Construction/Preservation",{"$f":"[2]ActiveFunds!$O67&\"-\"&[2]ActiveFunds!$R67","v":"P-Program P - Highway Construction/Preservation"},null,"405P","P-Program P - Highway Construction/Preservation"]
[null,"082-Public Disclosure","22W-1 Publc Disclsr Transp-State",{"$f":"LEFT(Table_clallam_Oversight_ActiveFunds[[#This Row],[Fund]],5)","v":"22W-1"},null,"305",65,"235-Dept Labor & Indust",{"$f":"LEFT(H68,3)","v":"235"},"05H-2","05H-2 Disaster Response-Federal",null,null,"405","Q00","T",false,"Program Q - Traffic Operations",{"$f":"[2]ActiveFunds!$O68&\"-\"&[2]ActiveFunds!$R68","v":"Q00-Program Q - Traffic Operations"},null,"405Q00","Q00-Program Q - Traffic Operations"]
[null,"083-WA St Leadership Bd","26H-1 WA Leader Board-State",{"$f":"LEFT(Table_clallam_Oversight_ActiveFunds[[#This Row],[Fund]],5)","v":"26H-1"},null,"310",66,"240-Licensing","240",{"$f":"MID(K69,1,5)","v":"05R-1"},"05R-1 Drinking Water Asst-State",null,null,"405","S00","T",false,"Program S - Transportation Management - Operating",{"$f":"[2]ActiveFunds!$O69&\"-\"&[2]ActiveFunds!$R69","v":"S00-Program S - Transportation Management - Operating"},null,{"$f":"N69&O69","v":"405S00"},{"$f":"O69&\"-\"&R69","v":"S00-Program S - Transportation Management - Operating"}]
[null,"083-WA St Leadership Bd","26J-6 WA Leader Brd Sp Lic-Non-Appr",{"$f":"LEFT(Table_clallam_Oversight_ActiveFunds[[#This Row],[Fund]],5)","v":"26J-6"},null,"315",67,"245-Military Dept","245","05W-1","05W-1 St Drought Prepare-State",null,null,"405","T00","T",false,"Program T - Transportation Planning, Data and Research - Op",{"$f":"[2]ActiveFunds!$O70&\"-\"&[2]ActiveFunds!$R70","v":"T00-Program T - Transportation Planning, Data and Research - Op"},null,"405T00","T00-Program T - Transportation Planning, Data and Research - Op"]
[null,"085-Secretary of State","001-1 General Fund-State",{"$f":"LEFT(Table_clallam_Oversight_ActiveFunds[[#This Row],[Fund]],5)","v":"001-1"},null,"340",68,"275-Public Empl Relation","275","060-1","060-1 Comm/Tech Cap Proj A-State",null,null,"405","U00","T",false,"Program U - Charges from Other Agencies",{"$f":"[2]ActiveFunds!$O71&\"-\"&[2]ActiveFunds!$R71","v":"U00-Program U - Charges from Other Agencies"},null,"405U00","U00-Program U - Charges from Other Agencies"]
[null,"085-Secretary of State","001-2 General Fund-Federal",{"$f":"LEFT(Table_clallam_Oversight_ActiveFunds[[#This Row],[Fund]],5)","v":"001-2"},null,"341",69,"300-DSHS","300","062-1","062-1 WSU Building Account-State",null,null,"405","V00","T",false,"Program V - Public Transportation",{"$f":"[2]ActiveFunds!$O72&\"-\"&[2]ActiveFunds!$R72","v":"V00-Program V - Public Transportation"},null,"405V00","V00-Program V - Public Transportation"]
[null,"085-Secretary of State","001-H General Fund-ARPA",{"$f":"LEFT(Table_clallam_Oversight_ActiveFunds[[#This Row],[Fund]],5)","v":"001-H"},null,"350",70,"303-Dept of Health","303","063-1","063-1 CWU Capital Projects-State",null,null,"405","X00","T",false,"Program X - Washington State Ferries - Operating",{"$f":"[2]ActiveFunds!$O73&\"-\"&[2]ActiveFunds!$R73","v":"X00-Program X - Washington State Ferries - Operating"},null,"405X00","X00-Program X - Washington State Ferries - Operating"]
[null,"085-Secretary of State","006-1 Public Records Effic-State",{"$f":"LEFT(Table_clallam_Oversight_ActiveFunds[[#This Row],[Fund]],5)","v":"006-1"},null,"351",71,"305-Veterans' Affairs","305","064-1","064-1 UW Building Account-State",null,null,"405","Y00","T",false,"Program Y - Rail - Operating",{"$f":"[2]ActiveFunds!$O74&\"-\"&[2]ActiveFunds!$R74","v":"Y00-Program Y - Rail - Operating"},null,"405Y00","Y00-Program Y - Rail - Operating"]
[null,"085-Secretary of State","06H-6 WA St Legacy Proj-Non-Appr",{"$f":"LEFT(Table_clallam_Oversight_ActiveFunds[[#This Row],[Fund]],5)","v":"06H-6"},null,"353",72,"307-Child, Youth, Family","307","065-1","065-1 WWU Capital Projects-State",null,null,"405","Z00","T",false,"Program Z - Local Programs - Operating",{"$f":"[2]ActiveFunds!$O75&\"-\"&[2]ActiveFunds!$R75","v":"Z00-Program Z - Local Programs - Operating"},null,"405Z00","Z00-Program Z - Local Programs - Operating"]
[null,"085-Secretary of State","12M-1 Charitable Org Ed-State",{"$f":"LEFT(Table_clallam_Oversight_ActiveFunds[[#This Row],[Fund]],5)","v":"12M-1"},null,"354",73,"310-Corrections","310","066-1","066-1 TESC Capital Project-State",null,null,"406","010","T",false,"Operating",{"$f":"[2]ActiveFunds!$O76&\"-\"&[2]ActiveFunds!$R76","v":"010-Operating"},null,"406010","010-Operating"]
[null,"085-Secretary of State","14E-1 WA St Library Ops-State",{"$f":"LEFT(Table_clallam_Oversight_ActiveFunds[[#This Row],[Fund]],5)","v":"14E-1"},null,"355",74,"315-Svcs for the Blind","315","06A-1","06A-1 Salmon Recovery Acct-State",null,null,"407","010","T",false,"Operating",{"$f":"[2]ActiveFunds!$O77&\"-\"&[2]ActiveFunds!$R77","v":"010-Operating"},null,"407010","010-Operating"]
[null,"085-Secretary of State","14E-6 WA St Library Ops-Non-Appr",{"$f":"LEFT(Table_clallam_Oversight_ActiveFunds[[#This Row],[Fund]],5)","v":"14E-6"},null,"357",75,"340-Student Achievement","340","06G-1","06G-1 Real Est App C Acct-State",null,null,"411","010","T",false,"Operating",{"$f":"[2]ActiveFunds!$O78&\"-\"&[2]ActiveFunds!$R78","v":"010-Operating"},null,"411010","010-Operating"]
[null,"085-Secretary of State","407-6 Secretary State Rev-Non-Appr",{"$f":"LEFT(Table_clallam_Oversight_ActiveFunds[[#This Row],[Fund]],5)","v":"407-6"},null,"359",76,"341-LEOFF 2 Retire Bd","341","06H-6","06H-6 WA St Legacy Proj-Non-Appr"]
[null,"085-Secretary of State","415-1 Personnel Svc Acct-State",{"$f":"LEFT(Table_clallam_Oversight_ActiveFunds[[#This Row],[Fund]],5)","v":"415-1"},null,"360",77,"350-Public Schools","350","06J-6","06J-6 Securities Pros Acct-Non-Appr"]
[null,"085-Secretary of State","441-1 Local Gov Archives-State",{"$f":"LEFT(Table_clallam_Oversight_ActiveFunds[[#This Row],[Fund]],5)","v":"441-1"},null,"365",78,"351-School for the Blind","351","06K-1","06K-1 Lead Paint Account-State"]
[null,"085-Secretary of State","470-6 Imaging Account-Non-Appr",{"$f":"LEFT(Table_clallam_Oversight_ActiveFunds[[#This Row],[Fund]],5)","v":"470-6"},null,"370",79,"353-Child Deaf Hrng Loss","353","06L-1","06L-1 Business Professions-State"]
[null,"085-Secretary of State","549-2 Election Account-Federal",{"$f":"LEFT(Table_clallam_Oversight_ActiveFunds[[#This Row],[Fund]],5)","v":"549-2"},null,"375",80,"354-Workforce Trng/Ed Bd","354","06R-1","06R-1 Real Estate Research-State"]
[null,"085-Secretary of State","706-2 COVID Fiscal Recover-Federal",{"$f":"LEFT(Table_clallam_Oversight_ActiveFunds[[#This Row],[Fund]],5)","v":"706-2"},null,"376",81,"355-Arch/Historic Preser","355","06T-1","06T-1 License Plate T Acct-State"]
[null,"086-Indian Affairs","001-1 General Fund-State",{"$f":"LEFT(Table_clallam_Oversight_ActiveFunds[[#This Row],[Fund]],5)","v":"001-1"},null,"380",82,"360-U W","360","071-1","071-1 Warm Water Game Fish-State"]
[null,"087-Asian-Pac-Amer Affr","001-1 General Fund-State",{"$f":"LEFT(Table_clallam_Oversight_ActiveFunds[[#This Row],[Fund]],5)","v":"001-1"},null,"387",83,"365-W S U","365","072-1","072-1 Improv-Water Supply - State"]
[null,"090-State Treasurer","001-1 General Fund-State",{"$f":"LEFT(Table_clallam_Oversight_ActiveFunds[[#This Row],[Fund]],5)","v":"001-1"},null,"390",84,"370-E W U","370","07A-6","07A-6 M L Fraud Pros Acct-Non-Appr"]
[null,"090-State Treasurer","404-1 Treasurer's Service-State",{"$f":"LEFT(Table_clallam_Oversight_ActiveFunds[[#This Row],[Fund]],5)","v":"404-1"},null,"395",85,"375-C W U","375","07E-1","07E-1 Con Harv Rev Account-State"]
[null,"091-Redistricting Comm","001-1 General Fund-State",{"$f":"LEFT(Table_clallam_Oversight_ActiveFunds[[#This Row],[Fund]],5)","v":"001-1"},null,"405",86,"376-T E S C","376","07E-6","07E-6 Con Harv Rev Account-Non-Appr"]
[null,"095-State Auditor","001-1 General Fund-State",{"$f":"LEFT(Table_clallam_Oversight_ActiveFunds[[#This Row],[Fund]],5)","v":"001-1"},null,"406",87,"380-W W U","380","07L-6","07L-6 Leg Int Trade Acct-Non-Appr"]
[null,"095-State Auditor","413-6 Municipal Revolving-Non-Appr",{"$f":"LEFT(Table_clallam_Oversight_ActiveFunds[[#This Row],[Fund]],5)","v":"413-6"},null,"407",88,"387-Arts Commission","387","07V-6","07V-6 Fish & Wild E Reward-Non-Appr"]
[null,"095-State Auditor","483-1 Auditing Svcs Revolv-State",{"$f":"LEFT(Table_clallam_Oversight_ActiveFunds[[#This Row],[Fund]],5)","v":"483-1"},null,"410",89,"390-Historical Society","390","07W-1","07W-1 Domestic Violence P-State"]
[null,"095-State Auditor","553-1 Perf Audits of Govt-State",{"$f":"LEFT(Table_clallam_Oversight_ActiveFunds[[#This Row],[Fund]],5)","v":"553-1"},null,"411",90,"395-East WA St Hist","395","080-1","080-1 Grade Crossing Acct-State"]
[null,"095-State Auditor","553-6 Perf Audits of Govt-Non-Appr",{"$f":"LEFT(Table_clallam_Oversight_ActiveFunds[[#This Row],[Fund]],5)","v":"553-6"},null,"460",91,"405-Dept Transportation","405","081-1","081-1 WSP Highway Account-State"]
[null,"099-Sal Elected Official","001-1 General Fund-State",{"$f":"LEFT(Table_clallam_Oversight_ActiveFunds[[#This Row],[Fund]],5)","v":"001-1"},null,"461",92,"406-County Road Admin Bd","406","081-2","081-2 WSP Highway Account-Federal"]
[null,"100-Attorney General","001-1 General Fund-State",{"$f":"LEFT(Table_clallam_Oversight_ActiveFunds[[#This Row],[Fund]],5)","v":"001-1"},null,"462",93,"407-Transpo Improve Bd","407","081-7","081-7 WSP Highway Account-Local"]
[null,"100-Attorney General","001-2 General Fund-Federal",{"$f":"LEFT(Table_clallam_Oversight_ActiveFunds[[#This Row],[Fund]],5)","v":"001-2"},null,"465",94,"410-Transportation Comm","410","082-1","082-1 Motorcycle Safety Ed-State"]
[null,"100-Attorney General","001-Y General Fund-Oth UAR",{"$f":"LEFT(Table_clallam_Oversight_ActiveFunds[[#This Row],[Fund]],5)","v":"001-Y"},null,"467",95,"411-FMSIB","411","084-1","084-1 Building Code Cncl-State"]
[null,"100-Attorney General","111-1 Public Srvc Revlv-State",{"$f":"LEFT(Table_clallam_Oversight_ActiveFunds[[#This Row],[Fund]],5)","v":"111-1"},null,"468",96,"460-Columbia River Gorge","460","086-1","086-1 Fire Serv Trng Acct-State"]
[null,"100-Attorney General","12F-6 Manf/Mob Hme Disp-Non-Appr",{"$f":"LEFT(Table_clallam_Oversight_ActiveFunds[[#This Row],[Fund]],5)","v":"12F-6"},null,"471",97,"461-Dept of Ecology",{"$f":"LEFT(H100,3)","v":"461"},"087-6","087-6 Park Land Trust Rvlg-Non-Appr"]
[null,"100-Attorney General","141-6 Fed Narcotics Forfet-Non-Appr",{"$f":"LEFT(Table_clallam_Oversight_ActiveFunds[[#This Row],[Fund]],5)","v":"141-6"},null,"477",98,"462-Pollution Liab Insur","462","08A-1","08A-1 Education Legacy T A-State"]
[null,"100-Attorney General","154-1 Motor Vehcle Arbitrn-State",{"$f":"LEFT(Table_clallam_Oversight_ActiveFunds[[#This Row],[Fund]],5)","v":"154-1"},null,"478",99,"463-Energy Fac Site Eval","463","08G-6","08G-6 Flexible Spend Admin-Non-Appr"]
[null,"100-Attorney General","17L-6 Foreclosure Fairness-Non-Appr",{"$f":"LEFT(Table_clallam_Oversight_ActiveFunds[[#This Row],[Fund]],5)","v":"17L-6"},null,"490",100,"465-Parks & Rec Comm","465","08H-1","08H-1 Military Rent and L-State"]
[null,"100-Attorney General","19A-1 Medicaid Fraud Pnlty-State",{"$f":"LEFT(Table_clallam_Oversight_ActiveFunds[[#This Row],[Fund]],5)","v":"19A-1"},null,"495",101,"467-Rec & Conservation","467","08J-6","08J-6 Prescrip Drug Cons A-Non-Appr"]
[null,"100-Attorney General","19P-1 Child Rescue Fund-State",{"$f":"LEFT(Table_clallam_Oversight_ActiveFunds[[#This Row],[Fund]],5)","v":"19P-1"},null,"540",102,"468-Env & Land Use Hrg","468","08K-1","08K-1 Problem Gambling Acc-State"]
[null,"100-Attorney General","25V-6 Charitable Assets Pr-Non-Appr",{"$f":"LEFT(Table_clallam_Oversight_ActiveFunds[[#This Row],[Fund]],5)","v":"25V-6"},null,"699",103,"471-Conservation Comm","471","08M-1","08M-1 Small City Pave/Side-State"]
[null,"100-Attorney General","405-1 Legal Serv Rev Acct-State",{"$f":"LEFT(Table_clallam_Oversight_ActiveFunds[[#This Row],[Fund]],5)","v":"405-1"},null,null,104,"477-Fish & Wildlife","477","08P-6","08P-6 State Parks Ed Enh-Non-Appr"]
[null,"100-Attorney General","424-6 Anti-Trust Revolving - Non-Appr",{"$f":"LEFT(Table_clallam_Oversight_ActiveFunds[[#This Row],[Fund]],5)","v":"424-6"},null,null,105,"478-Puget Sound Partner","478","08R-1","08R-1 Waste Tire Removal A-State"]
[null,"100-Attorney General","441-1 Local Gov Archives-State",{"$f":"LEFT(Table_clallam_Oversight_ActiveFunds[[#This Row],[Fund]],5)","v":"441-1"},null,null,106,"490-DNR","490","08V-6","08V-6 Veterans Stewardship-Non-Appr"]
[null,"100-Attorney General","828-1 Tobacco Prev/Ctl-State",{"$f":"LEFT(Table_clallam_Oversight_ActiveFunds[[#This Row],[Fund]],5)","v":"828-1"},null,null,107,"495-Agriculture","495","094-1","094-1 Trans Infrastructure-State"]
[null,"101-Caseload Forecast","001-1 General Fund-State",{"$f":"LEFT(Table_clallam_Oversight_ActiveFunds[[#This Row],[Fund]],5)","v":"001-1"},null,null,108,"540-Employment Security","540","095-1","095-1 Electrical License-State"]
[null,"101-Caseload Forecast","24J-1 Workforce Ed Invest-State",{"$f":"LEFT(Table_clallam_Oversight_ActiveFunds[[#This Row],[Fund]],5)","v":"24J-1"},null,null,109,"699-C T C S","699","096-1","096-1 Hwy Infrastructure-State"]
[null,"102-Financial Inst Dept","06J-6 Securities Pros Acct-Non-Appr",{"$f":"LEFT(Table_clallam_Oversight_ActiveFunds[[#This Row],[Fund]],5)","v":"06J-6"},null,null,110,null,null,"096-2","096-2 Hwy Infrastructure-Federal"]
[null,"102-Financial Inst Dept","07A-6 M L Fraud Pros Acct-Non-Appr",{"$f":"LEFT(Table_clallam_Oversight_ActiveFunds[[#This Row],[Fund]],5)","v":"07A-6"},null,null,null,null,null,"097-1","097-1 R V Account-State"]
[null,"102-Financial Inst Dept","300-6 Financial Svcs Regul-Non-Appr",{"$f":"LEFT(Table_clallam_Oversight_ActiveFunds[[#This Row],[Fund]],5)","v":"300-6"},null,null,null,null,null,"098-1","098-1 EW Pheas Enh Acct-State"]
[null,"103-Dept Commerce","001-1 General Fund-State",{"$f":"LEFT(Table_clallam_Oversight_ActiveFunds[[#This Row],[Fund]],5)","v":"001-1"},null,null,null,null,null,"099-1","099-1 PS Cap Construction-State"]
[null,"103-Dept Commerce","001-2 General Fund-Federal",{"$f":"LEFT(Table_clallam_Oversight_ActiveFunds[[#This Row],[Fund]],5)","v":"001-2"},null,null,null,null,null,"099-2","099-2 PS Cap Construction-Federal"]
[null,"103-Dept Commerce","001-7 General Fund-Local",{"$f":"LEFT(Table_clallam_Oversight_ActiveFunds[[#This Row],[Fund]],5)","v":"001-7"},null,null,null,null,null,"099-7","099-7 PS Cap Construction-Local"]
[null,"103-Dept Commerce","001-H General Fund-ARPA",{"$f":"LEFT(Table_clallam_Oversight_ActiveFunds[[#This Row],[Fund]],5)","v":"001-H"},null,null,null,null,null,"09B-6","09B-6 Boating Safety Ed C-Non-Appr"]
[null,"103-Dept Commerce","001-X General Fund-CRF App",{"$f":"LEFT(Table_clallam_Oversight_ActiveFunds[[#This Row],[Fund]],5)","v":"001-X"},null,null,null,null,null,"09E-1","09E-1 Freight Mobil Inv A-State"]
[null,"103-Dept Commerce","001-Z General Fund-CRRSA",{"$f":"LEFT(Table_clallam_Oversight_ActiveFunds[[#This Row],[Fund]],5)","v":"001-Z"},null,null,null,null,null,"09H-1","09H-1 Transpo Partner Acct-State"]
[null,"103-Dept Commerce","058-1 Public Works Assist-State",{"$f":"LEFT(Table_clallam_Oversight_ActiveFunds[[#This Row],[Fund]],5)","v":"058-1"},null,null,null,null,null,"09H-T","09H-T Transpo Partner Acct-Bonds"]
[null,"103-Dept Commerce","06K-1 Lead Paint Account-State",{"$f":"LEFT(Table_clallam_Oversight_ActiveFunds[[#This Row],[Fund]],5)","v":"06K-1"},null,null,null,null,null,"09J-6","09J-6 WA Coast Crab Pot B-Non-Appr"]
[null,"103-Dept Commerce","084-1 Building Code Cncl-State",{"$f":"LEFT(Table_clallam_Oversight_ActiveFunds[[#This Row],[Fund]],5)","v":"084-1"},null,null,null,null,null,"09L-6","09L-6 Nursing Res Center-Non-Appr"]
[null,"103-Dept Commerce","09R-1 Econ Dev Strat R A-State",{"$f":"LEFT(Table_clallam_Oversight_ActiveFunds[[#This Row],[Fund]],5)","v":"09R-1"},null,null,null,null,null,"09R-1","09R-1 Econ Dev Strat R A-State"]
[null,"103-Dept Commerce","107-1 Liquor Excise-State",{"$f":"LEFT(Table_clallam_Oversight_ActiveFunds[[#This Row],[Fund]],5)","v":"107-1"},null,null,null,null,null,"102-1","102-1 Rural Arterial Trust-State"]
[null,"103-Dept Commerce","10B-1 Home Security Fund-State",{"$f":"LEFT(Table_clallam_Oversight_ActiveFunds[[#This Row],[Fund]],5)","v":"10B-1"},null,null,null,null,null,"104-1","104-1 Lim Fish & Wildlife-State"]
[null,"103-Dept Commerce","12C-1 Affordable Housing-State",{"$f":"LEFT(Table_clallam_Oversight_ActiveFunds[[#This Row],[Fund]],5)","v":"12C-1"},null,null,null,null,null,"106-1","106-1 Highway Safety Acct-State"]
[null,"103-Dept Commerce","14H-1 Comm Pres/Dev Auth-State",{"$f":"LEFT(Table_clallam_Oversight_ActiveFunds[[#This Row],[Fund]],5)","v":"14H-1"},null,null,null,null,null,"106-2","106-2 Highway Safety Acct-Federal"]
[null,"103-Dept Commerce","14M-1 Finan Frd & Id Thft-State",{"$f":"LEFT(Table_clallam_Oversight_ActiveFunds[[#This Row],[Fund]],5)","v":"14M-1"},null,null,null,null,null,"106-7","106-7 Highway Safety Acct-Local"]
[null,"103-Dept Commerce","150-1 Low-Inc Weath/Str - State",{"$f":"LEFT(Table_clallam_Oversight_ActiveFunds[[#This Row],[Fund]],5)","v":"150-1"},null,null,null,null,null,"107-1","107-1 Liquor Excise-State"]
[null,"103-Dept Commerce","17L-6 Foreclosure Fairness-Non-Appr",{"$f":"LEFT(Table_clallam_Oversight_ActiveFunds[[#This Row],[Fund]],5)","v":"17L-6"},null,null,null,null,null,"108-1","108-1 Motor Vehicle Acct-State"]
[null,"103-Dept Commerce","19V-1 Cancer Research Endo-State",{"$f":"LEFT(Table_clallam_Oversight_ActiveFunds[[#This Row],[Fund]],5)","v":"19V-1"},null,null,null,null,null,{"$f":"MID(K133,1,5)","v":"108-2"},"108-2 Motor Vehicle Acct-Federal"]
[null,"103-Dept Commerce","205-6 Mobile Home Pk Reloc-Non-Appr",{"$f":"LEFT(Table_clallam_Oversight_ActiveFunds[[#This Row],[Fund]],5)","v":"205-6"},null,null,null,null,null,"108-7","108-7 Motor Vehicle Acct-Local"]
[null,"103-Dept Commerce","22S-6 Landlord Mitigation-Non-Appr",{"$f":"LEFT(Table_clallam_Oversight_ActiveFunds[[#This Row],[Fund]],5)","v":"22S-6"},null,null,null,null,null,"109-1","109-1 Puget Sd Ferry Oper-State"]
[null,"103-Dept Commerce","22T-1 SW Tourism Marketing-State",{"$f":"LEFT(Table_clallam_Oversight_ActiveFunds[[#This Row],[Fund]],5)","v":"22T-1"},null,null,null,null,null,"109-2","109-2 Puget Sd Ferry Oper-Federal"]
[null,"103-Dept Commerce","23R-1 Model Toxics Strmwtr-State",{"$f":"LEFT(Table_clallam_Oversight_ActiveFunds[[#This Row],[Fund]],5)","v":"23R-1"},null,null,null,null,null,"109-7","109-7 Puget Sd Ferry Oper-Local"]
[null,"103-Dept Commerce","263-1 Comm Economic Devel-State",{"$f":"LEFT(Table_clallam_Oversight_ActiveFunds[[#This Row],[Fund]],5)","v":"263-1"},null,null,null,null,null,"10B-1","10B-1 Home Security Fund-State"]
[null,"103-Dept Commerce","26U-1 Apple Health & Homes-State",{"$f":"LEFT(Table_clallam_Oversight_ActiveFunds[[#This Row],[Fund]],5)","v":"26U-1"},null,null,null,null,null,"10G-1","10G-1 Water Rights Track-State"]
[null,"103-Dept Commerce","27B-1 Elec Veh Incentive-State",{"$f":"LEFT(Table_clallam_Oversight_ActiveFunds[[#This Row],[Fund]],5)","v":"27B-1"},null,null,null,null,null,"110-1","110-1 Special Wildlife-State"]
[null,"103-Dept Commerce","285-1 Growth Mgmt Planning-State",{"$f":"LEFT(Table_clallam_Oversight_ActiveFunds[[#This Row],[Fund]],5)","v":"285-1"},null,null,null,null,null,"110-2","110-2 Special Wildlife-Federal"]
[null,"103-Dept Commerce","315-1 Dedicated Cannabis-State",{"$f":"LEFT(Table_clallam_Oversight_ActiveFunds[[#This Row],[Fund]],5)","v":"315-1"},null,null,null,null,null,"110-7","110-7 Special Wildlife-Local"]
[null,"103-Dept Commerce","501-1 Liquor Revolving Acc-State",{"$f":"LEFT(Table_clallam_Oversight_ActiveFunds[[#This Row],[Fund]],5)","v":"501-1"},null,null,null,null,null,"111-1","111-1 Public Srvc Revlv-State"]
[null,"103-Dept Commerce","532-1 Wa Housing Trust Acc-State",{"$f":"LEFT(Table_clallam_Oversight_ActiveFunds[[#This Row],[Fund]],5)","v":"532-1"},null,null,null,null,null,"111-2","111-2 Public Srvc Revlv-Federal"]
[null,"103-Dept Commerce","706-2 COVID Fiscal Recover-Federal",{"$f":"LEFT(Table_clallam_Oversight_ActiveFunds[[#This Row],[Fund]],5)","v":"706-2"},null,null,null,null,null,"116-6","116-6 Basic Data Account-Non-Appr"]
[null,"103-Dept Commerce","746-6 Hanford Econ Invest-Non-Appr",{"$f":"LEFT(Table_clallam_Oversight_ActiveFunds[[#This Row],[Fund]],5)","v":"746-6"},null,null,null,null,null,"119-2","119-2 Unemploy Comp Admin-Federal"]
[null,"103-Dept Commerce","759-6 Miscellaneous Pgm-Non-Appr",{"$f":"LEFT(Table_clallam_Oversight_ActiveFunds[[#This Row],[Fund]],5)","v":"759-6"},null,null,null,null,null,"11A-6","11A-6 Employment Training-Non-Appr"]
[null,"103-Dept Commerce","777-1 Prostitution Prevent-State",{"$f":"LEFT(Table_clallam_Oversight_ActiveFunds[[#This Row],[Fund]],5)","v":"777-1"},null,null,null,null,null,"11B-1","11B-1 Regnl Mob Grnt Acct-State"]
[null,"103-Dept Commerce","887-1 Pub Facil Const Loan-State",{"$f":"LEFT(Table_clallam_Oversight_ActiveFunds[[#This Row],[Fund]],5)","v":"887-1"},null,null,null,null,null,"11E-1","11E-1 Freight Mblty Multi-State"]
[null,"103-Dept Commerce","218-2 Multimodal Acct-Federal",{"$f":"LEFT(Table_clallam_Oversight_ActiveFunds[[#This Row],[Fund]],5)","v":"218-2"},null,null,null,null,null,"11H-1","11H-1 Forest & Fish Suppt-State"]
[null,"103-Dept Commerce","26Q-1 Move Ahead WA Flex-State",{"$f":"LEFT(Table_clallam_Oversight_ActiveFunds[[#This Row],[Fund]],5)","v":"26Q-1"},null,null,null,null,null,"11J-6","11J-6 Elec Product Recycle-Non-Appr"]
[null,"104-Econ & Rev Forecast","001-1 General Fund-State",{"$f":"LEFT(Table_clallam_Oversight_ActiveFunds[[#This Row],[Fund]],5)","v":"001-1"},null,null,null,null,null,"11K-1","11K-1 WA Auto Theft Prevnt-State"]
[null,"104-Econ & Rev Forecast","578-1 Lottery Admin Acct-State",{"$f":"LEFT(Table_clallam_Oversight_ActiveFunds[[#This Row],[Fund]],5)","v":"578-1"},null,null,null,null,null,"11V-7","11V-7 Veteran Estate Mgmt-Local"]
[null,"105-OFM","001-1 General Fund-State",{"$f":"LEFT(Table_clallam_Oversight_ActiveFunds[[#This Row],[Fund]],5)","v":"001-1"},null,null,null,null,null,"120-1","120-1 Admin Contingen Acct-State"]
[null,"105-OFM","001-2 General Fund-Federal",{"$f":"LEFT(Table_clallam_Oversight_ActiveFunds[[#This Row],[Fund]],5)","v":"001-2"},null,null,null,null,null,"125-1","125-1 Site Closure Account-State"]
[null,"105-OFM","001-7 General Fund-Local",{"$f":"LEFT(Table_clallam_Oversight_ActiveFunds[[#This Row],[Fund]],5)","v":"001-7"},null,null,null,null,null,"126-6","126-6 Agric Local Acct-Non-Appr"]
[null,"105-OFM","001-H General Fund-ARPA",{"$f":"LEFT(Table_clallam_Oversight_ActiveFunds[[#This Row],[Fund]],5)","v":"001-H"},null,null,null,null,null,"128-6","128-6 Grain Inspection-Non-Appr"]
[null,"105-OFM","09R-1 Econ Dev Strat R A-State",{"$f":"LEFT(Table_clallam_Oversight_ActiveFunds[[#This Row],[Fund]],5)","v":"09R-1"},null,null,null,null,null,"12C-1","12C-1 Affordable Housing-State"]
[null,"105-OFM","16R-6 Multiagency Permit T-Non-Appr",{"$f":"LEFT(Table_clallam_Oversight_ActiveFunds[[#This Row],[Fund]],5)","v":"16R-6"},null,null,null,null,null,"12F-6","12F-6 Manf/Mob Hme Disp-Non-Appr"]
[null,"105-OFM","24J-1 Workforce Ed Invest-State",{"$f":"LEFT(Table_clallam_Oversight_ActiveFunds[[#This Row],[Fund]],5)","v":"24J-1"},null,null,null,null,null,"12G-6","12G-6 Rockfish Research-Non-Appr"]
[null,"105-OFM","25N-1 988 BH Crisis Rsp Ln-State",{"$f":"LEFT(Table_clallam_Oversight_ActiveFunds[[#This Row],[Fund]],5)","v":"25N-1"},null,null,null,null,null,"12L-6","12L-6 Outdoor Ed & Rec-Non-Appr"]
[null,"105-OFM","415-1 Personnel Svc Acct-State",{"$f":"LEFT(Table_clallam_Oversight_ActiveFunds[[#This Row],[Fund]],5)","v":"415-1"},null,null,null,null,null,"12M-1","12M-1 Charitable Org Ed-State"]
[null,"105-OFM","421-6 Ed Tech Revolving-Non-Appr",{"$f":"LEFT(Table_clallam_Oversight_ActiveFunds[[#This Row],[Fund]],5)","v":"421-6"},null,null,null,null,null,"12P-1","12P-1 Geoduck Aquaculture-State"]
[null,"105-OFM","436-6 OFM Labor Relations-Non-Appr",{"$f":"LEFT(Table_clallam_Oversight_ActiveFunds[[#This Row],[Fund]],5)","v":"436-6"},null,null,null,null,null,"12T-1","12T-1 Trauma Brain Injury-State"]
[null,"105-OFM","455-1 Higher Ed Pers Svcs-State",{"$f":"LEFT(Table_clallam_Oversight_ActiveFunds[[#This Row],[Fund]],5)","v":"455-1"},null,null,null,null,null,"12T-6","12T-6 Trauma Brain Injury-Non-Appr"]
[null,"105-OFM","466-1 Statewide IT Sys Dev-State",{"$f":"LEFT(Table_clallam_Oversight_ActiveFunds[[#This Row],[Fund]],5)","v":"466-1"},null,null,null,null,null,"131-6","131-6 Fair Account-Non-Appr"]
[null,"105-OFM","468-1 OFM Central Services-State",{"$f":"LEFT(Table_clallam_Oversight_ActiveFunds[[#This Row],[Fund]],5)","v":"468-1"},null,null,null,null,null,"133-6","133-6 Childrens' Trst Acct-Non-Appr"]
[null,"105-OFM","472-1 Statewide IT Sys M&O-State",{"$f":"LEFT(Table_clallam_Oversight_ActiveFunds[[#This Row],[Fund]],5)","v":"472-1"},null,null,null,null,null,"134-1","134-1 Employment Service-State"]
[null,"105-OFM","472-6 Statewide IT Sys M&O-Non-Appr",{"$f":"LEFT(Table_clallam_Oversight_ActiveFunds[[#This Row],[Fund]],5)","v":"472-6"},null,null,null,null,null,"138-1","138-1 Insurance Comm Regul-State"]
[null,"105-OFM","553-1 Perf Audits of Govt-State",{"$f":"LEFT(Table_clallam_Oversight_ActiveFunds[[#This Row],[Fund]],5)","v":"553-1"},null,null,null,null,null,"141-6","141-6 Fed Narcotics Forfet-Non-Appr"]
[null,"105-OFM","706-2 COVID Fiscal Recover-Federal",{"$f":"LEFT(Table_clallam_Oversight_ActiveFunds[[#This Row],[Fund]],5)","v":"706-2"},null,null,null,null,null,"143-6","143-6 HE Federal Appr Acct-Non-Appr"]
[null,"105-OFM","108-1 Motor Vehicle Acct-State",{"$f":"LEFT(Table_clallam_Oversight_ActiveFunds[[#This Row],[Fund]],5)","v":"108-1"},null,null,null,null,null,"144-1","144-1 Tran Improv Account-State"]
[null,"105-OFM","109-1 Puget Sd Ferry Oper-State",{"$f":"LEFT(Table_clallam_Oversight_ActiveFunds[[#This Row],[Fund]],5)","v":"109-1"},null,null,null,null,null,"145-6","145-6 HE Grants/Contract-Non-Appr"]
[null,"105-OFM","218-1 Multimodal Acct-State",{"$f":"LEFT(Table_clallam_Oversight_ActiveFunds[[#This Row],[Fund]],5)","v":"218-1"},null,null,null,null,null,"146-1","146-1 Firearms Range Acct-State"]
[null,"107-Health Care Auth","001-1 General Fund-State",{"$f":"LEFT(Table_clallam_Oversight_ActiveFunds[[#This Row],[Fund]],5)","v":"001-1"},null,null,null,null,null,"148-6","148-6 HE Dedicated Local-Non-Appr"]
[null,"107-Health Care Auth","001-2 General Fund-Federal",{"$f":"LEFT(Table_clallam_Oversight_ActiveFunds[[#This Row],[Fund]],5)","v":"001-2"},null,null,null,null,null,"149-6","149-6 HE Operating Fees-Non-Appr"]
[null,"107-Health Care Auth","001-7 General Fund-Local",{"$f":"LEFT(Table_clallam_Oversight_ActiveFunds[[#This Row],[Fund]],5)","v":"001-7"},null,null,null,null,null,"14A-1","14A-1 Wildlife Rehab-State"]
[null,"107-Health Care Auth","001-C General Fund-Medicaid",{"$f":"LEFT(Table_clallam_Oversight_ActiveFunds[[#This Row],[Fund]],5)","v":"001-C"},null,null,null,null,null,"14E-1","14E-1 WA St Library Ops-State"]
[null,"107-Health Care Auth","001-H General Fund-ARPA",{"$f":"LEFT(Table_clallam_Oversight_ActiveFunds[[#This Row],[Fund]],5)","v":"001-H"},null,null,null,null,null,"14E-6","14E-6 WA St Library Ops-Non-Appr"]
[null,"107-Health Care Auth","001-W General Fund-Oth COVID",{"$f":"LEFT(Table_clallam_Oversight_ActiveFunds[[#This Row],[Fund]],5)","v":"001-W"},null,null,null,null,null,"14G-1","14G-1 Ballast Water Mgmt-State"]
[null,"107-Health Care Auth","001-Y General Fund-Oth UAR",{"$f":"LEFT(Table_clallam_Oversight_ActiveFunds[[#This Row],[Fund]],5)","v":"001-Y"},null,null,null,null,null,"14H-1","14H-1 Comm Pres/Dev Auth-State"]
[null,"107-Health Care Auth","001-Z General Fund-CRRSA",{"$f":"LEFT(Table_clallam_Oversight_ActiveFunds[[#This Row],[Fund]],5)","v":"001-Z"},null,null,null,null,null,"14M-1","14M-1 Finan Frd & Id Thft-State"]
[null,"107-Health Care Auth","03C-1 Emer Med/Trauma Care-State",{"$f":"LEFT(Table_clallam_Oversight_ActiveFunds[[#This Row],[Fund]],5)","v":"03C-1"},null,null,null,null,null,"14P-6","14P-6 Skeletal Human-Non-Appr"]
[null,"107-Health Care Auth","05C-1 Crim Justice Treatmt-State",{"$f":"LEFT(Table_clallam_Oversight_ActiveFunds[[#This Row],[Fund]],5)","v":"05C-1"},null,null,null,null,null,"14R-1","14R-1 Mil Dep ASSA-State"]
[null,"107-Health Care Auth","08A-1 Education Legacy T A-State",{"$f":"LEFT(Table_clallam_Oversight_ActiveFunds[[#This Row],[Fund]],5)","v":"08A-1"},null,null,null,null,null,"14V-1","14V-1 Ignition Interlock-State"]
[null,"107-Health Care Auth","08G-6 Flexible Spend Admin-Non-Appr",{"$f":"LEFT(Table_clallam_Oversight_ActiveFunds[[#This Row],[Fund]],5)","v":"08G-6"},null,null,null,null,null,"14W-6","14W-6 Reduced Cigarette Ig-Non-Appr"]
[null,"107-Health Care Auth","08J-6 Prescrip Drug Cons A-Non-Appr",{"$f":"LEFT(Table_clallam_Oversight_ActiveFunds[[#This Row],[Fund]],5)","v":"08J-6"},null,null,null,null,null,"150-1","150-1 Low-Inc Weath/Str - State"]
[null,"107-Health Care Auth","08K-1 Problem Gambling Acc-State",{"$f":"LEFT(Table_clallam_Oversight_ActiveFunds[[#This Row],[Fund]],5)","v":"08K-1"},null,null,null,null,null,"153-1","153-1 Rural Mobility-State"]
[null,"107-Health Care Auth","16W-1 Hospital Safety Net-State",{"$f":"LEFT(Table_clallam_Oversight_ActiveFunds[[#This Row],[Fund]],5)","v":"16W-1"},null,null,null,null,null,"154-1","154-1 Motor Vehcle Arbitrn-State"]
[null,"107-Health Care Auth","172-6 Basic Hlth Plan Trst-Non-Appr",{"$f":"LEFT(Table_clallam_Oversight_ActiveFunds[[#This Row],[Fund]],5)","v":"172-6"},null,null,null,null,null,"158-1","158-1 Aquatic Land Dredged-State"]
[null,"107-Health Care Auth","17T-1 Health Benefit Excha-State",{"$f":"LEFT(Table_clallam_Oversight_ActiveFunds[[#This Row],[Fund]],5)","v":"17T-1"},null,null,null,null,null,"159-6","159-6 Parks Improvement Ac-Non-Appr"]
[null,"107-Health Care Auth","23L-6 Indian Hlth Imp Rein-Non-Appr",{"$f":"LEFT(Table_clallam_Oversight_ActiveFunds[[#This Row],[Fund]],5)","v":"23L-6"},null,null,null,null,null,"15M-1","15M-1 Biotoxin Account-State"]
[null,"107-Health Care Auth","24L-1 Ambulance Transport-State",{"$f":"LEFT(Table_clallam_Oversight_ActiveFunds[[#This Row],[Fund]],5)","v":"24L-1"},null,null,null,null,null,"15V-1","15V-1 Funeral & Cemetery-State"]
[null,"107-Health Care Auth","24V-1 Telebehav Hea Acc Ac-State",{"$f":"LEFT(Table_clallam_Oversight_ActiveFunds[[#This Row],[Fund]],5)","v":"24V-1"},null,null,null,null,null,"15V-6","15V-6 Funeral & Cemetery-Non-Appr"]
[null,"107-Health Care Auth","25M-1 Hlth Care Afford-State",{"$f":"LEFT(Table_clallam_Oversight_ActiveFunds[[#This Row],[Fund]],5)","v":"25M-1"},null,null,null,null,null,"160-1","160-1 Wood Stove Education-State"]
[null,"107-Health Care Auth","25N-1 988 BH Crisis Rsp Ln-State",{"$f":"LEFT(Table_clallam_Oversight_ActiveFunds[[#This Row],[Fund]],5)","v":"25N-1"},null,null,null,null,null,"162-1","162-1 Farm Lbr Contractor-State"]
[null,"107-Health Care Auth","315-1 Dedicated Cannabis-State",{"$f":"LEFT(Table_clallam_Oversight_ActiveFunds[[#This Row],[Fund]],5)","v":"315-1"},null,null,null,null,null,{"$f":"MID(K197,1,5)","v":"163-1"},"163-1 Worker & Comm Right-State"]
[null,"107-Health Care Auth","418-1 St Hlth Care Admn Ac-State",{"$f":"LEFT(Table_clallam_Oversight_ActiveFunds[[#This Row],[Fund]],5)","v":"418-1"},null,null,null,null,null,"167-1","167-1 Nat Resources Conser-State"]
[null,"107-Health Care Auth","438-6 UDP Benefits Admin-Non-Appr",{"$f":"LEFT(Table_clallam_Oversight_ActiveFunds[[#This Row],[Fund]],5)","v":"438-6"},null,null,null,null,null,"169-6","169-6 Horse Racing Commsn-Non-Appr"]
[null,"107-Health Care Auth","439-6 UMP Admin Bene Acct-Non-Appr",{"$f":"LEFT(Table_clallam_Oversight_ActiveFunds[[#This Row],[Fund]],5)","v":"439-6"},null,null,null,null,null,"16A-1","16A-1 Judicial Stabil Trst-State"]
[null,"107-Health Care Auth","474-6 SEBB Flex Spend Admn-Non-Appr",{"$f":"LEFT(Table_clallam_Oversight_ActiveFunds[[#This Row],[Fund]],5)","v":"474-6"},null,null,null,null,null,"16B-1","16B-1 Landscape Architects-State"]
[null,"107-Health Care Auth","475-6 SEBB Dntl Admn Acct-Non-Appr",{"$f":"LEFT(Table_clallam_Oversight_ActiveFunds[[#This Row],[Fund]],5)","v":"475-6"},null,null,null,null,null,"16B-6","16B-6 Landscape Architects-Non-Appr"]
[null,"107-Health Care Auth","492-1 School Employees' In-State",{"$f":"LEFT(Table_clallam_Oversight_ActiveFunds[[#This Row],[Fund]],5)","v":"492-1"},null,null,null,null,null,"16G-6","16G-6 Univ Vaccine Purch-Non-Appr"]
[null,"107-Health Care Auth","492-6 School Employees' In-Non-Appr",{"$f":"LEFT(Table_clallam_Oversight_ActiveFunds[[#This Row],[Fund]],5)","v":"492-6"},null,null,null,null,null,"16J-1","16J-1 SR 520 Corridor Acct-State"]
[null,"107-Health Care Auth","493-6 School Empl Ins Acct-Non-Appr",{"$f":"LEFT(Table_clallam_Oversight_ActiveFunds[[#This Row],[Fund]],5)","v":"493-6"},null,null,null,null,null,"16L-6","16L-6 Accessible Community-Non-Appr"]
[null,"107-Health Care Auth","494-6 SEBB Med Ben Admin-Non-Appr",{"$f":"LEFT(Table_clallam_Oversight_ActiveFunds[[#This Row],[Fund]],5)","v":"494-6"},null,null,null,null,null,"16M-1","16M-1 Appraisal Mgmt Comp-State"]
[null,"107-Health Care Auth","609-1 Medical Aid Account-State",{"$f":"LEFT(Table_clallam_Oversight_ActiveFunds[[#This Row],[Fund]],5)","v":"609-1"},null,null,null,null,null,"16M-6","16M-6 Appraisal Mgmt Comp-Non-Appr"]
[null,"107-Health Care Auth","706-2 COVID Fiscal Recover-Federal",{"$f":"LEFT(Table_clallam_Oversight_ActiveFunds[[#This Row],[Fund]],5)","v":"706-2"},null,null,null,null,null,"16R-6","16R-6 Multiagency Permit T-Non-Appr"]
[null,"107-Health Care Auth","721-6 Pub Emp/Ret Ins-Non-Appr",{"$f":"LEFT(Table_clallam_Oversight_ActiveFunds[[#This Row],[Fund]],5)","v":"721-6"},null,null,null,null,null,"16T-6","16T-6 Product Stewardship-Non-Appr"]
[null,"110-Admin Hearings","180-6 Lcl Gov Adm Hearings-Non-Appr",{"$f":"LEFT(Table_clallam_Oversight_ActiveFunds[[#This Row],[Fund]],5)","v":"180-6"},null,null,null,null,null,"16V-1","16V-1 Water Rights Process-State"]
[null,"110-Admin Hearings","484-1 Admin Hearings Revol-State",{"$f":"LEFT(Table_clallam_Oversight_ActiveFunds[[#This Row],[Fund]],5)","v":"484-1"},null,null,null,null,null,"16W-1","16W-1 Hospital Safety Net-State"]
[null,"110-Admin Hearings","484-7 Admin Hearings Revol-Local",{"$f":"LEFT(Table_clallam_Oversight_ActiveFunds[[#This Row],[Fund]],5)","v":"484-7"},null,null,null,null,null,"172-6","172-6 Basic Hlth Plan Trst-Non-Appr"]
[null,"116-State Lottery Comm","433-6 Shared Game Lottery-Non-Appr",{"$f":"LEFT(Table_clallam_Oversight_ActiveFunds[[#This Row],[Fund]],5)","v":"433-6"},null,null,null,null,null,"176-1","176-1 Water Quality Permit-State"]
[null,"116-State Lottery Comm","577-6 State Lottery Acct-Non-Appr",{"$f":"LEFT(Table_clallam_Oversight_ActiveFunds[[#This Row],[Fund]],5)","v":"577-6"},null,null,null,null,null,"17B-1","17B-1 Home Visiting Svcs-State"]
[null,"116-State Lottery Comm","578-1 Lottery Admin Acct-State",{"$f":"LEFT(Table_clallam_Oversight_ActiveFunds[[#This Row],[Fund]],5)","v":"578-1"},null,null,null,null,null,"17B-2","17B-2 Home Visiting Svcs-Federal"]
[null,"117-Gambling Commission","141-6 Fed Narcotics Forfet-Non-Appr",{"$f":"LEFT(Table_clallam_Oversight_ActiveFunds[[#This Row],[Fund]],5)","v":"141-6"},null,null,null,null,null,"17F-1","17F-1 WA Opportunity Path-State"]
[null,"117-Gambling Commission","226-6 State Seizure Acct-Non-Appr",{"$f":"LEFT(Table_clallam_Oversight_ActiveFunds[[#This Row],[Fund]],5)","v":"226-6"},null,null,null,null,null,"17L-6","17L-6 Foreclosure Fairness-Non-Appr"]
[null,"117-Gambling Commission","884-6 Gambling Revolving-Non-Appr",{"$f":"LEFT(Table_clallam_Oversight_ActiveFunds[[#This Row],[Fund]],5)","v":"884-6"},null,null,null,null,null,"17M-6","17M-6 Indivi-Based/Portabl - Non-Appr"]
[null,"118-Hispanic Affairs","001-1 General Fund-State",{"$f":"LEFT(Table_clallam_Oversight_ActiveFunds[[#This Row],[Fund]],5)","v":"001-1"},null,null,null,null,null,"17N-1","17N-1 Complete Streets Gra-State"]
[null,"119-African-Amer Affrs","001-1 General Fund-State",{"$f":"LEFT(Table_clallam_Oversight_ActiveFunds[[#This Row],[Fund]],5)","v":"001-1"},null,null,null,null,null,"17P-1","17P-1 SR 520 Civil Penalty-State"]
[null,"120-Human Rights Comm","001-1 General Fund-State",{"$f":"LEFT(Table_clallam_Oversight_ActiveFunds[[#This Row],[Fund]],5)","v":"001-1"},null,null,null,null,null,"17R-1","17R-1 Aerospace Training S-State"]
[null,"120-Human Rights Comm","001-2 General Fund-Federal",{"$f":"LEFT(Table_clallam_Oversight_ActiveFunds[[#This Row],[Fund]],5)","v":"001-2"},null,null,null,null,null,"17T-1","17T-1 Health Benefit Excha-State"]
[null,"124-Retirement Systems","001-1 General Fund-State",{"$f":"LEFT(Table_clallam_Oversight_ActiveFunds[[#This Row],[Fund]],5)","v":"001-1"},null,null,null,null,null,"17W-1","17W-1 Limousine Carrier Ac-State"]
[null,"124-Retirement Systems","600-1 Retirmnt Sys Expense-State",{"$f":"LEFT(Table_clallam_Oversight_ActiveFunds[[#This Row],[Fund]],5)","v":"600-1"},null,null,null,null,null,"180-6","180-6 Lcl Gov Adm Hearings-Non-Appr"]
[null,"124-Retirement Systems","600-6 Retirmnt Sys Expense-Non-Appr",{"$f":"LEFT(Table_clallam_Oversight_ActiveFunds[[#This Row],[Fund]],5)","v":"600-6"},null,null,null,null,null,"182-1","182-1 Underground Storage-State"]
[null,"124-Retirement Systems","874-6 OASI Revolving Acct-Non-Appr",{"$f":"LEFT(Table_clallam_Oversight_ActiveFunds[[#This Row],[Fund]],5)","v":"874-6"},null,null,null,null,null,"184-6","184-6 St Hist Museum Fund-Non-Appr"]
[null,"124-Retirement Systems","888-6 Defrd Comp Admin Acc-Non-Appr",{"$f":"LEFT(Table_clallam_Oversight_ActiveFunds[[#This Row],[Fund]],5)","v":"888-6"},null,null,null,null,null,"185-6","185-6 East Wa Museum Acct-Non-Appr"]
[null,"126-Investment Board","031-1 Invest Bd Expense Ac-State",{"$f":"LEFT(Table_clallam_Oversight_ActiveFunds[[#This Row],[Fund]],5)","v":"031-1"},null,null,null,null,null,"186-1","186-1 County Arterial Pres-State"]
[null,"140-Revenue","001-1 General Fund-State",{"$f":"LEFT(Table_clallam_Oversight_ActiveFunds[[#This Row],[Fund]],5)","v":"001-1"},null,null,null,null,null,"18E-6","18E-6 Educator Certificati-Non-Appr"]
[null,"140-Revenue","02W-1 Timber Tax Distr Act-State",{"$f":"LEFT(Table_clallam_Oversight_ActiveFunds[[#This Row],[Fund]],5)","v":"02W-1"},null,null,null,null,null,"18J-1","18J-1 Capital Vessel Repla-State"]
[null,"140-Revenue","03N-1 Business License-State",{"$f":"LEFT(Table_clallam_Oversight_ActiveFunds[[#This Row],[Fund]],5)","v":"03N-1"},null,null,null,null,null,"18K-1","18K-1 24/7 Sobriety Acct-State"]
[null,"140-Revenue","044-1 Waste Reduct/Recycle-State",{"$f":"LEFT(Table_clallam_Oversight_ActiveFunds[[#This Row],[Fund]],5)","v":"044-1"},null,null,null,null,null,"190-1","190-1 Forest Assessment-State"]
[null,"140-Revenue","196-6 Unclmd Pers Prpty-Non-Appr",{"$f":"LEFT(Table_clallam_Oversight_ActiveFunds[[#This Row],[Fund]],5)","v":"196-6"},null,null,null,null,null,"190-6","190-6 Forest Assessment-Non-Appr"]
[null,"140-Revenue","23P-1 Model Toxics Oper-State",{"$f":"LEFT(Table_clallam_Oversight_ActiveFunds[[#This Row],[Fund]],5)","v":"23P-1"},null,null,null,null,null,"193-1","193-1 ST Forest Nursery-State"]
[null,"140-Revenue","300-1 Financial Svcs Regul-State",{"$f":"LEFT(Table_clallam_Oversight_ActiveFunds[[#This Row],[Fund]],5)","v":"300-1"},null,null,null,null,null,"193-6","193-6 ST Forest Nursery-Non-Appr"]
[null,"142-Tax Appeals Board","001-1 General Fund-State",{"$f":"LEFT(Table_clallam_Oversight_ActiveFunds[[#This Row],[Fund]],5)","v":"001-1"},null,null,null,null,null,"196-6","196-6 Unclmd Pers Prpty-Non-Appr"]
[null,"147-OMWBE","001-1 General Fund-State",{"$f":"LEFT(Table_clallam_Oversight_ActiveFunds[[#This Row],[Fund]],5)","v":"001-1"},null,null,null,null,null,"197-6","197-6 Statute Law Comm Pub-Non-Appr"]
[null,"147-OMWBE","453-1 Minority & Business-State",{"$f":"LEFT(Table_clallam_Oversight_ActiveFunds[[#This Row],[Fund]],5)","v":"453-1"},null,null,null,null,null,"198-1","198-1 Access Road Rev Acct-State"]
[null,"147-OMWBE","108-1 Motor Vehicle Acct-State",{"$f":"LEFT(Table_clallam_Oversight_ActiveFunds[[#This Row],[Fund]],5)","v":"108-1"},null,null,null,null,null,"198-6","198-6 Access Road Rev Acct-Non-Appr"]
[null,"160-Insurance Commission","001-2 General Fund-Federal",{"$f":"LEFT(Table_clallam_Oversight_ActiveFunds[[#This Row],[Fund]],5)","v":"001-2"},null,null,null,null,null,"199-1","199-1 Biosolids Prmt Acct-State"]
[null,"160-Insurance Commission","138-1 Insurance Comm Regul-State",{"$f":"LEFT(Table_clallam_Oversight_ActiveFunds[[#This Row],[Fund]],5)","v":"138-1"},null,null,null,null,null,"19A-1","19A-1 Medicaid Fraud Pnlty-State"]
[null,"160-Insurance Commission","24P-1 Insur Commiss Fraud-State",{"$f":"LEFT(Table_clallam_Oversight_ActiveFunds[[#This Row],[Fund]],5)","v":"24P-1"},null,null,null,null,null,"19B-6","19B-6 School for the BA-Non-Appr"]
[null,"163-Cons Tech Services","001-1 General Fund-State",{"$f":"LEFT(Table_clallam_Oversight_ActiveFunds[[#This Row],[Fund]],5)","v":"001-1"},null,null,null,null,null,"19C-1","19C-1 Forest Practices App-State"]
[null,"163-Cons Tech Services","458-1 CTS Revolving Acct-State",{"$f":"LEFT(Table_clallam_Oversight_ActiveFunds[[#This Row],[Fund]],5)","v":"458-1"},null,null,null,null,null,"19H-6","19H-6 Center for CDHLA-Non-Appr"]
[null,"163-Cons Tech Services","458-6 CTS Revolving Acct-Non-Appr",{"$f":"LEFT(Table_clallam_Oversight_ActiveFunds[[#This Row],[Fund]],5)","v":"458-6"},null,null,null,null,null,"19J-6","19J-6 Universal Comm Svcs-Non-Appr"]
[null,"165-Bd of Accountancy","02J-1 CPA Account-State",{"$f":"LEFT(Table_clallam_Oversight_ActiveFunds[[#This Row],[Fund]],5)","v":"02J-1"},null,null,null,null,null,"19L-1","19L-1 Charter Sch Ovr Acct-State"]
[null,"166-Bd of Registration","024-1 Profess Engineers'-State",{"$f":"LEFT(Table_clallam_Oversight_ActiveFunds[[#This Row],[Fund]],5)","v":"024-1"},null,null,null,null,null,"19P-1","19P-1 Child Rescue Fund-State"]
[null,"167-Forensic Investigatn","02K-1 Death Investigations-State",{"$f":"LEFT(Table_clallam_Oversight_ActiveFunds[[#This Row],[Fund]],5)","v":"02K-1"},null,null,null,null,null,"19T-1","19T-1 DOL Tech Improve-State"]
[null,"179-Dept Enterprise Svcs","001-1 General Fund-State",{"$f":"LEFT(Table_clallam_Oversight_ActiveFunds[[#This Row],[Fund]],5)","v":"001-1"},null,null,null,null,null,"19V-1","19V-1 Cancer Research Endo-State"]
[null,"179-Dept Enterprise Svcs","001-7 General Fund-Local",{"$f":"LEFT(Table_clallam_Oversight_ActiveFunds[[#This Row],[Fund]],5)","v":"001-7"},null,null,null,null,null,"19W-6","19W-6 Wolf-Livestock Confl - Non-Appr"]
[null,"179-Dept Enterprise Svcs","045-6 State Veh Park Acct-Non-Appr",{"$f":"LEFT(Table_clallam_Oversight_ActiveFunds[[#This Row],[Fund]],5)","v":"045-6"},null,null,null,null,null,"200-2","200-2 Reg Fish Salmonid-Federal"]
[null,"179-Dept Enterprise Svcs","084-1 Building Code Cncl-State",{"$f":"LEFT(Table_clallam_Oversight_ActiveFunds[[#This Row],[Fund]],5)","v":"084-1"},null,null,null,null,null,"201-1","201-1 DOL Services Account-State"]
[null,"179-Dept Enterprise Svcs","422-6 Enterprise Svc Acct-Non-Appr",{"$f":"LEFT(Table_clallam_Oversight_ActiveFunds[[#This Row],[Fund]],5)","v":"422-6"},null,null,null,null,null,"202-1","202-1 Med Test Site Licen-State"]
[null,"179-Dept Enterprise Svcs","546-6 Risk Mgmt Admin Acct-Non-Appr",{"$f":"LEFT(Table_clallam_Oversight_ActiveFunds[[#This Row],[Fund]],5)","v":"546-6"},null,null,null,null,null,"204-1","204-1 Volun Firefighters-State"]
[null,"179-Dept Enterprise Svcs","547-6 Liability Account-Non-Appr",{"$f":"LEFT(Table_clallam_Oversight_ActiveFunds[[#This Row],[Fund]],5)","v":"547-6"},null,null,null,null,null,"205-6","205-6 Mobile Home Pk Reloc-Non-Appr"]
[null,"185-Horse Racing Comm","169-6 Horse Racing Commsn-Non-Appr",{"$f":"LEFT(Table_clallam_Oversight_ActiveFunds[[#This Row],[Fund]],5)","v":"169-6"},null,null,null,null,null,"206-6","206-6 Cost of Supervision-Non-Appr"]
[null,"185-Horse Racing Comm","485-6 WA Bred Owners'-Non-Appr",{"$f":"LEFT(Table_clallam_Oversight_ActiveFunds[[#This Row],[Fund]],5)","v":"485-6"},null,null,null,null,null,"207-1","207-1 Hazardous Waste-State"]
[null,"185-Horse Racing Comm","497-6 Class C Purse Acct-Non-Appr",{"$f":"LEFT(Table_clallam_Oversight_ActiveFunds[[#This Row],[Fund]],5)","v":"497-6"},null,null,null,null,null,"209-6","209-6 Region Fisheries Enh-Non-Appr"]
[null,"190-Indust Insur Appeals","163-1 Worker & Comm Right-State",{"$f":"LEFT(Table_clallam_Oversight_ActiveFunds[[#This Row],[Fund]],5)","v":"163-1"},null,null,null,null,null,"20E-1","20E-1 WA Internet Crimes-State"]
[null,"190-Indust Insur Appeals","608-1 Accident Account-State",{"$f":"LEFT(Table_clallam_Oversight_ActiveFunds[[#This Row],[Fund]],5)","v":"608-1"},null,null,null,null,null,"20H-1","20H-1 Connecting WA Acct-State"]
[null,"190-Indust Insur Appeals","609-1 Medical Aid Account-State",{"$f":"LEFT(Table_clallam_Oversight_ActiveFunds[[#This Row],[Fund]],5)","v":"609-1"},null,null,null,null,null,{"$f":"MID(K261,1,5)","v":"20H-T"},"20H-T Connecting WA Acct-Bonds"]
[null,"195-Liquor Cannabis Bd","001-1 General Fund-State",{"$f":"LEFT(Table_clallam_Oversight_ActiveFunds[[#This Row],[Fund]],5)","v":"001-1"},null,null,null,null,null,"20J-1","20J-1 Electric Vehicle-State"]
[null,"195-Liquor Cannabis Bd","001-2 General Fund-Federal",{"$f":"LEFT(Table_clallam_Oversight_ActiveFunds[[#This Row],[Fund]],5)","v":"001-2"},null,null,null,null,null,"20L-Y","20L-Y Early Start Account-Oth UAR"]
[null,"195-Liquor Cannabis Bd","001-7 General Fund-Local",{"$f":"LEFT(Table_clallam_Oversight_ActiveFunds[[#This Row],[Fund]],5)","v":"001-7"},null,null,null,null,null,"20R-1","20R-1 Radioactive Mixed-State"]
[null,"195-Liquor Cannabis Bd","141-6 Fed Narcotics Forfet-Non-Appr",{"$f":"LEFT(Table_clallam_Oversight_ActiveFunds[[#This Row],[Fund]],5)","v":"141-6"},null,null,null,null,null,"20T-1","20T-1 PLIA UST Revolving-State"]
[null,"195-Liquor Cannabis Bd","315-1 Dedicated Cannabis-State",{"$f":"LEFT(Table_clallam_Oversight_ActiveFunds[[#This Row],[Fund]],5)","v":"315-1"},null,null,null,null,null,"210-6","210-6 Fire Protection Cont-Non-Appr"]
[null,"195-Liquor Cannabis Bd","501-1 Liquor Revolving Acc-State",{"$f":"LEFT(Table_clallam_Oversight_ActiveFunds[[#This Row],[Fund]],5)","v":"501-1"},null,null,null,null,null,"213-6","213-6 Veterans Emblem Acct-Non-Appr"]
[null,"205-Pilotage Commiss","025-1 Pilotage Account-State",{"$f":"LEFT(Table_clallam_Oversight_ActiveFunds[[#This Row],[Fund]],5)","v":"025-1"},null,null,null,null,null,"214-6","214-6 Temp Worker Housing-Non-Appr"]
[null,"215-Utilities/Transport","001-1 General Fund-State",{"$f":"LEFT(Table_clallam_Oversight_ActiveFunds[[#This Row],[Fund]],5)","v":"001-1"},null,null,null,null,null,"215-1","215-1 Special Category C-State"]
[null,"215-Utilities/Transport","001-7 General Fund-Local",{"$f":"LEFT(Table_clallam_Oversight_ActiveFunds[[#This Row],[Fund]],5)","v":"001-7"},null,null,null,null,null,"215-T","215-T Special Category C-Bonds"]
[null,"215-Utilities/Transport","111-1 Public Srvc Revlv-State",{"$f":"LEFT(Table_clallam_Oversight_ActiveFunds[[#This Row],[Fund]],5)","v":"111-1"},null,null,null,null,null,"216-1","216-1 Air Poll Contr Acct-State"]
[null,"215-Utilities/Transport","111-2 Public Srvc Revlv-Federal",{"$f":"LEFT(Table_clallam_Oversight_ActiveFunds[[#This Row],[Fund]],5)","v":"111-2"},null,null,null,null,null,"217-1","217-1 Oil Spill Prevn Acct-State"]
[null,"215-Utilities/Transport","19J-6 Universal Comm Svcs-Non-Appr",{"$f":"LEFT(Table_clallam_Oversight_ActiveFunds[[#This Row],[Fund]],5)","v":"19J-6"},null,null,null,null,null,"218-1","218-1 Multimodal Acct-State"]
[null,"215-Utilities/Transport","297-1 Pipeline Safety-State",{"$f":"LEFT(Table_clallam_Oversight_ActiveFunds[[#This Row],[Fund]],5)","v":"297-1"},null,null,null,null,null,"218-2","218-2 Multimodal Acct-Federal"]
[null,"215-Utilities/Transport","297-2 Pipeline Safety-Federal",{"$f":"LEFT(Table_clallam_Oversight_ActiveFunds[[#This Row],[Fund]],5)","v":"297-2"},null,null,null,null,null,"218-7","218-7 Multimodal Acct-Local"]
[null,"215-Utilities/Transport","025-1 Pilotage Account-State",{"$f":"LEFT(Table_clallam_Oversight_ActiveFunds[[#This Row],[Fund]],5)","v":"025-1"},null,null,null,null,null,"218-8","218-8 Multimodal Acct-Fed Stim"]
[null,"215-Utilities/Transport","080-1 Grade Crossing Acct-State",{"$f":"LEFT(Table_clallam_Oversight_ActiveFunds[[#This Row],[Fund]],5)","v":"080-1"},null,null,null,null,null,"219-1","219-1 Air Oper Permit Acct-State"]
[null,"215-Utilities/Transport","218-1 Multimodal Acct-State",{"$f":"LEFT(Table_clallam_Oversight_ActiveFunds[[#This Row],[Fund]],5)","v":"218-1"},null,null,null,null,null,"21C-6","21C-6 Sexual Assault Kit-Non-Appr"]
[null,"220-Bd Volun Firefighter","204-1 Volun Firefighters-State",{"$f":"LEFT(Table_clallam_Oversight_ActiveFunds[[#This Row],[Fund]],5)","v":"204-1"},null,null,null,null,null,"21E-1","21E-1 Con Pistol Lic Renew-State"]
[null,"225-State Patrol","001-1 General Fund-State",{"$f":"LEFT(Table_clallam_Oversight_ActiveFunds[[#This Row],[Fund]],5)","v":"001-1"},null,null,null,null,null,"21H-1","21H-1 WWT Plant Oper Cert-State"]
[null,"225-State Patrol","001-2 General Fund-Federal",{"$f":"LEFT(Table_clallam_Oversight_ActiveFunds[[#This Row],[Fund]],5)","v":"001-2"},null,null,null,null,null,"21N-1","21N-1 NE WA Wolf-Livestock - State"]
[null,"225-State Patrol","001-7 General Fund-Local",{"$f":"LEFT(Table_clallam_Oversight_ActiveFunds[[#This Row],[Fund]],5)","v":"001-7"},null,null,null,null,null,"21Q-1","21Q-1 Forest Hlth Rev Acct-State"]
[null,"225-State Patrol","02K-1 Death Investigations-State",{"$f":"LEFT(Table_clallam_Oversight_ActiveFunds[[#This Row],[Fund]],5)","v":"02K-1"},null,null,null,null,null,"21Q-6","21Q-6 Forest Hlth Rev Acct-Non-Appr"]
[null,"225-State Patrol","03L-1 Cnty Criminal Justic-State",{"$f":"LEFT(Table_clallam_Oversight_ActiveFunds[[#This Row],[Fund]],5)","v":"03L-1"},null,null,null,null,null,"21S-1","21S-1 Aquat Invas Spec Mgt-State"]
[null,"225-State Patrol","03M-1 Munic Criminal Justi-State",{"$f":"LEFT(Table_clallam_Oversight_ActiveFunds[[#This Row],[Fund]],5)","v":"03M-1"},null,null,null,null,null,"21V-1","21V-1 Constr Regis Inspect-State"]
[null,"225-State Patrol","03P-1 Fire Svcs Trust Acct-State",{"$f":"LEFT(Table_clallam_Oversight_ActiveFunds[[#This Row],[Fund]],5)","v":"03P-1"},null,null,null,null,null,"223-1","223-1 Oil Spill Response-State"]
[null,"225-State Patrol","04V-1 Veh License Fraud-State",{"$f":"LEFT(Table_clallam_Oversight_ActiveFunds[[#This Row],[Fund]],5)","v":"04V-1"},null,null,null,null,null,"225-1","225-1 Fngrprint ID Account-State"]
[null,"225-State Patrol","05H-1 Disaster Response-State",{"$f":"LEFT(Table_clallam_Oversight_ActiveFunds[[#This Row],[Fund]],5)","v":"05H-1"},null,null,null,null,null,"226-6","226-6 State Seizure Acct-Non-Appr"]
[null,"225-State Patrol","086-1 Fire Serv Trng Acct-State",{"$f":"LEFT(Table_clallam_Oversight_ActiveFunds[[#This Row],[Fund]],5)","v":"086-1"},null,null,null,null,null,"22F-1","22F-1 Fam Med Lv Insurance-State"]
[null,"225-State Patrol","141-6 Fed Narcotics Forfet-Non-Appr",{"$f":"LEFT(Table_clallam_Oversight_ActiveFunds[[#This Row],[Fund]],5)","v":"141-6"},null,null,null,null,null,"22G-6","22G-6 Photovolt Mod Rcycl-Non-Appr"]
[null,"225-State Patrol","14W-6 Reduced Cigarette Ig-Non-Appr",{"$f":"LEFT(Table_clallam_Oversight_ActiveFunds[[#This Row],[Fund]],5)","v":"14W-6"},null,null,null,null,null,"22J-1","22J-1 Abandoned RV Acct-State"]
[null,"225-State Patrol","20E-1 WA Internet Crimes-State",{"$f":"LEFT(Table_clallam_Oversight_ActiveFunds[[#This Row],[Fund]],5)","v":"20E-1"},null,null,null,null,null,"22N-6","22N-6 F&W Fed Lnds Rev-Non-Appr"]
[null,"225-State Patrol","210-6 Fire Protection Cont-Non-Appr",{"$f":"LEFT(Table_clallam_Oversight_ActiveFunds[[#This Row],[Fund]],5)","v":"210-6"},null,null,null,null,null,"22P-1","22P-1 Nat Rsrc Fed Lnds Rv-State"]
[null,"225-State Patrol","21C-6 Sexual Assault Kit-Non-Appr",{"$f":"LEFT(Table_clallam_Oversight_ActiveFunds[[#This Row],[Fund]],5)","v":"21C-6"},null,null,null,null,null,"22P-6","22P-6 Nat Rsrc Fed Lnds Rv-Non-Appr"]
[null,"225-State Patrol","225-1 Fngrprint ID Account-State",{"$f":"LEFT(Table_clallam_Oversight_ActiveFunds[[#This Row],[Fund]],5)","v":"225-1"},null,null,null,null,null,"22S-6","22S-6 Landlord Mitigation-Non-Appr"]
[null,"225-State Patrol","226-6 State Seizure Acct-Non-Appr",{"$f":"LEFT(Table_clallam_Oversight_ActiveFunds[[#This Row],[Fund]],5)","v":"226-6"},null,null,null,null,null,"22T-1","22T-1 SW Tourism Marketing-State"]
[null,"225-State Patrol","23P-1 Model Toxics Oper-State",{"$f":"LEFT(Table_clallam_Oversight_ActiveFunds[[#This Row],[Fund]],5)","v":"23P-1"},null,null,null,null,null,"22U-1","22U-1 Secure Drug Takeback-State"]
[null,"225-State Patrol","24T-6 Firearms Bckgrnd Chk-Non-Appr",{"$f":"LEFT(Table_clallam_Oversight_ActiveFunds[[#This Row],[Fund]],5)","v":"24T-6"},null,null,null,null,null,"22V-6","22V-6 Medical Student Loan-Non-Appr"]
[null,"225-State Patrol","315-1 Dedicated Cannabis-State",{"$f":"LEFT(Table_clallam_Oversight_ActiveFunds[[#This Row],[Fund]],5)","v":"315-1"},null,null,null,null,null,"22W-1","22W-1 Publc Disclsr Transp-State"]
[null,"225-State Patrol","515-6 DNA Data Base Acct-Non-Appr",{"$f":"LEFT(Table_clallam_Oversight_ActiveFunds[[#This Row],[Fund]],5)","v":"515-6"},null,null,null,null,null,"234-1","234-1 Public Works Admin-State"]
[null,"225-State Patrol","081-1 WSP Highway Account-State",{"$f":"LEFT(Table_clallam_Oversight_ActiveFunds[[#This Row],[Fund]],5)","v":"081-1"},null,null,null,null,null,"235-1","235-1 Youth Tobacco/Vapor-State"]
[null,"225-State Patrol","081-2 WSP Highway Account-Federal",{"$f":"LEFT(Table_clallam_Oversight_ActiveFunds[[#This Row],[Fund]],5)","v":"081-2"},null,null,null,null,null,"23A-6","23A-6 Student Ln Advocate-Non-Appr"]
[null,"225-State Patrol","081-7 WSP Highway Account-Local",{"$f":"LEFT(Table_clallam_Oversight_ActiveFunds[[#This Row],[Fund]],5)","v":"081-7"},null,null,null,null,null,"23L-6","23L-6 Indian Hlth Imp Rein-Non-Appr"]
[null,"225-State Patrol","106-1 Highway Safety Acct-State",{"$f":"LEFT(Table_clallam_Oversight_ActiveFunds[[#This Row],[Fund]],5)","v":"106-1"},null,null,null,null,null,"23M-6","23M-6 CRAB Emer Loan Acct-Non-Appr"]
[null,"225-State Patrol","14V-1 Ignition Interlock-State",{"$f":"LEFT(Table_clallam_Oversight_ActiveFunds[[#This Row],[Fund]],5)","v":"14V-1"},null,null,null,null,null,"23P-1","23P-1 Model Toxics Oper-State"]
[null,"225-State Patrol","16J-1 SR 520 Corridor Acct-State",{"$f":"LEFT(Table_clallam_Oversight_ActiveFunds[[#This Row],[Fund]],5)","v":"16J-1"},null,null,null,null,null,"23P-7","23P-7 Model Toxics Oper-Local"]
[null,"225-State Patrol","218-1 Multimodal Acct-State",{"$f":"LEFT(Table_clallam_Oversight_ActiveFunds[[#This Row],[Fund]],5)","v":"218-1"},null,null,null,null,null,"23R-1","23R-1 Model Toxics Strmwtr-State"]
[null,"225-State Patrol","471-6 St Patrol N A R Acct-Non-Appr",{"$f":"LEFT(Table_clallam_Oversight_ActiveFunds[[#This Row],[Fund]],5)","v":"471-6"},null,null,null,null,null,"23S-1","23S-1 PS Gateway Facility-State"]
[null,"225-State Patrol","511-1 Tacoma Narrows Toll-State",{"$f":"LEFT(Table_clallam_Oversight_ActiveFunds[[#This Row],[Fund]],5)","v":"511-1"},null,null,null,null,null,"23V-1","23V-1 Voluntary Cleanup Ac-State"]
[null,"225-State Patrol","595-1 I-405/SR167 Exp Toll - State",{"$f":"LEFT(Table_clallam_Oversight_ActiveFunds[[#This Row],[Fund]],5)","v":"595-1"},null,null,null,null,null,"23W-1","23W-1 Paint Prdct Steward-State"]
[null,"227-Criminal Justice Trn","001-1 General Fund-State",{"$f":"LEFT(Table_clallam_Oversight_ActiveFunds[[#This Row],[Fund]],5)","v":"001-1"},null,null,null,null,null,"24A-6","24A-6 Beh He Ln Rep Pr Acc-Non-Appr"]
[null,"227-Criminal Justice Trn","001-7 General Fund-Local",{"$f":"LEFT(Table_clallam_Oversight_ActiveFunds[[#This Row],[Fund]],5)","v":"001-7"},null,null,null,null,null,"24B-1","24B-1 Found Pub Hlth Svc-State"]
[null,"227-Criminal Justice Trn","02K-1 Death Investigations-State",{"$f":"LEFT(Table_clallam_Oversight_ActiveFunds[[#This Row],[Fund]],5)","v":"02K-1"},null,null,null,null,null,"24G-6","24G-6 Hemp Regulatory Acct-Non-Appr"]
[null,"227-Criminal Justice Trn","03M-1 Munic Criminal Justi-State",{"$f":"LEFT(Table_clallam_Oversight_ActiveFunds[[#This Row],[Fund]],5)","v":"03M-1"},null,null,null,null,null,"24J-1","24J-1 Workforce Ed Invest-State"]
[null,"227-Criminal Justice Trn","11K-1 WA Auto Theft Prevnt-State",{"$f":"LEFT(Table_clallam_Oversight_ActiveFunds[[#This Row],[Fund]],5)","v":"11K-1"},null,null,null,null,null,"24K-1","24K-1 Agy Finan Trans Acct-State"]
[null,"227-Criminal Justice Trn","18K-1 24/7 Sobriety Acct-State",{"$f":"LEFT(Table_clallam_Oversight_ActiveFunds[[#This Row],[Fund]],5)","v":"18K-1"},null,null,null,null,null,"24L-1","24L-1 Ambulance Transport-State"]
[null,"227-Criminal Justice Trn","20E-1 WA Internet Crimes-State",{"$f":"LEFT(Table_clallam_Oversight_ActiveFunds[[#This Row],[Fund]],5)","v":"20E-1"},null,null,null,null,null,"24N-1","24N-1 Fish Wildlife Consv-State"]
[null,"228-Traffic Safety Comm","106-1 Highway Safety Acct-State",{"$f":"LEFT(Table_clallam_Oversight_ActiveFunds[[#This Row],[Fund]],5)","v":"106-1"},null,null,null,null,null,"24P-1","24P-1 Insur Commiss Fraud-State"]
[null,"228-Traffic Safety Comm","106-2 Highway Safety Acct-Federal",{"$f":"LEFT(Table_clallam_Oversight_ActiveFunds[[#This Row],[Fund]],5)","v":"106-2"},null,null,null,null,null,"24Q-1","24Q-1 Cooper Jones Active-State"]
[null,"228-Traffic Safety Comm","106-7 Highway Safety Acct-Local",{"$f":"LEFT(Table_clallam_Oversight_ActiveFunds[[#This Row],[Fund]],5)","v":"106-7"},null,null,null,null,null,"24T-6","24T-6 Firearms Bckgrnd Chk-Non-Appr"]
[null,"228-Traffic Safety Comm","24Q-1 Cooper Jones Active-State",{"$f":"LEFT(Table_clallam_Oversight_ActiveFunds[[#This Row],[Fund]],5)","v":"24Q-1"},null,null,null,null,null,"24V-1","24V-1 Telebehav Hea Acc Ac-State"]
[null,"228-Traffic Safety Comm","780-1 School Zone Safety-State",{"$f":"LEFT(Table_clallam_Oversight_ActiveFunds[[#This Row],[Fund]],5)","v":"780-1"},null,null,null,null,null,"259-6","259-6 Coastal Crab-Non-Appr"]
[null,"229-Ind Investigations","001-1 General Fund-State",{"$f":"LEFT(Table_clallam_Oversight_ActiveFunds[[#This Row],[Fund]],5)","v":"001-1"},null,null,null,null,null,"25B-1","25B-1 Unemp Ins Relief-State"]
[null,"235-Dept Labor & Indust","001-1 General Fund-State",{"$f":"LEFT(Table_clallam_Oversight_ActiveFunds[[#This Row],[Fund]],5)","v":"001-1"},null,null,null,null,null,"25C-2","25C-2 Elem Sec Sch Emrg Re-Federal"]
[null,"235-Dept Labor & Indust","001-2 General Fund-Federal",{"$f":"LEFT(Table_clallam_Oversight_ActiveFunds[[#This Row],[Fund]],5)","v":"001-2"},null,null,null,null,null,{"$f":"MID(K325,1,5)","v":"25M-1"},"25M-1 Hlth Care Afford-State"]
[null,"235-Dept Labor & Indust","01F-6 Crime Victims Compen-Non-Appr",{"$f":"LEFT(Table_clallam_Oversight_ActiveFunds[[#This Row],[Fund]],5)","v":"01F-6"},null,null,null,null,null,"25N-1","25N-1 988 BH Crisis Rsp Ln-State"]
[null,"235-Dept Labor & Indust","03B-1 Asbestos Account-State",{"$f":"LEFT(Table_clallam_Oversight_ActiveFunds[[#This Row],[Fund]],5)","v":"03B-1"},null,null,null,null,null,"25P-1","25P-1 Wildfire Forest Comm-State"]
[null,"235-Dept Labor & Indust","095-1 Electrical License-State",{"$f":"LEFT(Table_clallam_Oversight_ActiveFunds[[#This Row],[Fund]],5)","v":"095-1"},null,null,null,null,null,"25Q-1","25Q-1 Clean Fuels Pgm Acct-State"]
[null,"235-Dept Labor & Indust","162-1 Farm Lbr Contractor-State",{"$f":"LEFT(Table_clallam_Oversight_ActiveFunds[[#This Row],[Fund]],5)","v":"162-1"},null,null,null,null,null,"25R-6","25R-6 Recycled Content Acc-Non-Appr"]
[null,"235-Dept Labor & Indust","163-1 Worker & Comm Right-State",{"$f":"LEFT(Table_clallam_Oversight_ActiveFunds[[#This Row],[Fund]],5)","v":"163-1"},null,null,null,null,null,"25V-6","25V-6 Charitable Assets Pr-Non-Appr"]
[null,"235-Dept Labor & Indust","21V-1 Constr Regis Inspect-State",{"$f":"LEFT(Table_clallam_Oversight_ActiveFunds[[#This Row],[Fund]],5)","v":"21V-1"},null,null,null,null,null,"25W-1","25W-1 Driver License Tech-State"]
[null,"235-Dept Labor & Indust","234-1 Public Works Admin-State",{"$f":"LEFT(Table_clallam_Oversight_ActiveFunds[[#This Row],[Fund]],5)","v":"234-1"},null,null,null,null,null,"262-1","262-1 Mfr Home Install/Trn-State"]
[null,"235-Dept Labor & Indust","262-1 Mfr Home Install/Trn-State",{"$f":"LEFT(Table_clallam_Oversight_ActiveFunds[[#This Row],[Fund]],5)","v":"262-1"},null,null,null,null,null,"263-1","263-1 Comm Economic Devel-State"]
[null,"235-Dept Labor & Indust","27D-6 Drvr Rsrc Cntr Fund-Non-Appr",{"$f":"LEFT(Table_clallam_Oversight_ActiveFunds[[#This Row],[Fund]],5)","v":"27D-6"},null,null,null,null,null,"267-1","267-1 Recreation Resources-State"]
[null,"235-Dept Labor & Indust","445-6 SI Emp ORA-Non-Appr",{"$f":"LEFT(Table_clallam_Oversight_ActiveFunds[[#This Row],[Fund]],5)","v":"445-6"},null,null,null,null,null,"268-1","268-1 NOVA Program Account-State"]
[null,"235-Dept Labor & Indust","608-1 Accident Account-State",{"$f":"LEFT(Table_clallam_Oversight_ActiveFunds[[#This Row],[Fund]],5)","v":"608-1"},null,null,null,null,null,"269-1","269-1 Parks Renewal Acct-State"]
[null,"235-Dept Labor & Indust","608-2 Accident Account-Federal",{"$f":"LEFT(Table_clallam_Oversight_ActiveFunds[[#This Row],[Fund]],5)","v":"608-2"},null,null,null,null,null,"269-7","269-7 Parks Renewal Acct-Local"]
[null,"235-Dept Labor & Indust","608-6 Accident Account-Non-Appr",{"$f":"LEFT(Table_clallam_Oversight_ActiveFunds[[#This Row],[Fund]],5)","v":"608-6"},null,null,null,null,null,"26A-1","26A-1 Carbon Emissions Red-State"]
[null,"235-Dept Labor & Indust","609-1 Medical Aid Account-State",{"$f":"LEFT(Table_clallam_Oversight_ActiveFunds[[#This Row],[Fund]],5)","v":"609-1"},null,null,null,null,null,"26B-1","26B-1 Climate Investment-State"]
[null,"235-Dept Labor & Indust","609-2 Medical Aid Account-Federal",{"$f":"LEFT(Table_clallam_Oversight_ActiveFunds[[#This Row],[Fund]],5)","v":"609-2"},null,null,null,null,null,"26G-7","26G-7 Energy Fac Site Eval-Local"]
[null,"235-Dept Labor & Indust","609-6 Medical Aid Account-Non-Appr",{"$f":"LEFT(Table_clallam_Oversight_ActiveFunds[[#This Row],[Fund]],5)","v":"609-6"},null,null,null,null,null,"26H-1","26H-1 WA Leader Board-State"]
[null,"235-Dept Labor & Indust","885-1 Plumbing Certificate-State",{"$f":"LEFT(Table_clallam_Oversight_ActiveFunds[[#This Row],[Fund]],5)","v":"885-1"},null,null,null,null,null,"26J-6","26J-6 WA Leader Brd Sp Lic-Non-Appr"]
[null,"235-Dept Labor & Indust","892-1 Pressure Systems Saf-State",{"$f":"LEFT(Table_clallam_Oversight_ActiveFunds[[#This Row],[Fund]],5)","v":"892-1"},null,null,null,null,null,"26M-1","26M-1 Climate Actv Transpo-State"]
[null,"240-Licensing","001-1 General Fund-State",{"$f":"LEFT(Table_clallam_Oversight_ActiveFunds[[#This Row],[Fund]],5)","v":"001-1"},null,null,null,null,null,"26N-1","26N-1 Climate Transit Pgms-State"]
[null,"240-Licensing","003-1 Architects' License-State",{"$f":"LEFT(Table_clallam_Oversight_ActiveFunds[[#This Row],[Fund]],5)","v":"003-1"},null,null,null,null,null,"26P-1","26P-1 Move Ahead WA Acct-State"]
[null,"240-Licensing","026-1 Real Estate Cmsn-State",{"$f":"LEFT(Table_clallam_Oversight_ActiveFunds[[#This Row],[Fund]],5)","v":"026-1"},null,null,null,null,null,"26P-2","26P-2 Move Ahead WA Acct-Federal"]
[null,"240-Licensing","04E-1 Uniform Commer Code-State",{"$f":"LEFT(Table_clallam_Oversight_ActiveFunds[[#This Row],[Fund]],5)","v":"04E-1"},null,null,null,null,null,"26Q-1","26Q-1 Move Ahead WA Flex-State"]
[null,"240-Licensing","04F-1 Real Est Ed Pgm Acct-State",{"$f":"LEFT(Table_clallam_Oversight_ActiveFunds[[#This Row],[Fund]],5)","v":"04F-1"},null,null,null,null,null,"26Q-2","26Q-2 Move Ahead WA Flex-Federal"]
[null,"240-Licensing","06G-1 Real Est App C Acct-State",{"$f":"LEFT(Table_clallam_Oversight_ActiveFunds[[#This Row],[Fund]],5)","v":"06G-1"},null,null,null,null,null,"26T-6","26T-6 WA Student Loan-Non-Appr"]
[null,"240-Licensing","06L-1 Business Professions-State",{"$f":"LEFT(Table_clallam_Oversight_ActiveFunds[[#This Row],[Fund]],5)","v":"06L-1"},null,null,null,null,null,"26U-1","26U-1 Apple Health & Homes-State"]
[null,"240-Licensing","06R-1 Real Estate Research-State",{"$f":"LEFT(Table_clallam_Oversight_ActiveFunds[[#This Row],[Fund]],5)","v":"06R-1"},null,null,null,null,null,"27B-1","27B-1 Elec Veh Incentive-State"]
[null,"240-Licensing","146-1 Firearms Range Acct-State",{"$f":"LEFT(Table_clallam_Oversight_ActiveFunds[[#This Row],[Fund]],5)","v":"146-1"},null,null,null,null,null,"27D-6","27D-6 Drvr Rsrc Cntr Fund-Non-Appr"]
[null,"240-Licensing","15V-1 Funeral & Cemetery-State",{"$f":"LEFT(Table_clallam_Oversight_ActiveFunds[[#This Row],[Fund]],5)","v":"15V-1"},null,null,null,null,null,"285-1","285-1 Growth Mgmt Planning-State"]
[null,"240-Licensing","15V-6 Funeral & Cemetery-Non-Appr",{"$f":"LEFT(Table_clallam_Oversight_ActiveFunds[[#This Row],[Fund]],5)","v":"15V-6"},null,null,null,null,null,"297-1","297-1 Pipeline Safety-State"]
[null,"240-Licensing","16B-1 Landscape Architects-State",{"$f":"LEFT(Table_clallam_Oversight_ActiveFunds[[#This Row],[Fund]],5)","v":"16B-1"},null,null,null,null,null,"297-2","297-2 Pipeline Safety-Federal"]
[null,"240-Licensing","16B-6 Landscape Architects-Non-Appr",{"$f":"LEFT(Table_clallam_Oversight_ActiveFunds[[#This Row],[Fund]],5)","v":"16B-6"},null,null,null,null,null,"298-1","298-1 Geologists' Account-State"]
[null,"240-Licensing","16M-1 Appraisal Mgmt Comp-State",{"$f":"LEFT(Table_clallam_Oversight_ActiveFunds[[#This Row],[Fund]],5)","v":"16M-1"},null,null,null,null,null,"298-6","298-6 Geologists' Account-Non-Appr"]
[null,"240-Licensing","16M-6 Appraisal Mgmt Comp-Non-Appr",{"$f":"LEFT(Table_clallam_Oversight_ActiveFunds[[#This Row],[Fund]],5)","v":"16M-6"},null,null,null,null,null,"300-1","300-1 Financial Svcs Regul-State"]
[null,"240-Licensing","21E-1 Con Pistol Lic Renew-State",{"$f":"LEFT(Table_clallam_Oversight_ActiveFunds[[#This Row],[Fund]],5)","v":"21E-1"},null,null,null,null,null,"300-6","300-6 Financial Svcs Regul-Non-Appr"]
[null,"240-Licensing","298-1 Geologists' Account-State",{"$f":"LEFT(Table_clallam_Oversight_ActiveFunds[[#This Row],[Fund]],5)","v":"298-1"},null,null,null,null,null,"315-1","315-1 Dedicated Cannabis-State"]
[null,"240-Licensing","298-6 Geologists' Account-Non-Appr",{"$f":"LEFT(Table_clallam_Oversight_ActiveFunds[[#This Row],[Fund]],5)","v":"298-6"},null,null,null,null,null,"319-7","319-7 Public Health Supp-Local"]
[null,"240-Licensing","513-1 Derelict Vessel Rmv-State",{"$f":"LEFT(Table_clallam_Oversight_ActiveFunds[[#This Row],[Fund]],5)","v":"513-1"},null,null,null,null,null,"320-6","320-6 PS Crab Pot Buoy Tag-Non-Appr"]
[null,"240-Licensing","048-1 Marine Fuel Tax Refu-State",{"$f":"LEFT(Table_clallam_Oversight_ActiveFunds[[#This Row],[Fund]],5)","v":"048-1"},null,null,null,null,null,"401-6","401-6 Correctional Industr-Non-Appr"]
[null,"240-Licensing","06T-1 License Plate T Acct-State",{"$f":"LEFT(Table_clallam_Oversight_ActiveFunds[[#This Row],[Fund]],5)","v":"06T-1"},null,null,null,null,null,"404-1","404-1 Treasurer's Service-State"]
[null,"240-Licensing","082-1 Motorcycle Safety Ed-State",{"$f":"LEFT(Table_clallam_Oversight_ActiveFunds[[#This Row],[Fund]],5)","v":"082-1"},null,null,null,null,null,"405-1","405-1 Legal Serv Rev Acct-State"]
[null,"240-Licensing","104-1 Lim Fish & Wildlife-State",{"$f":"LEFT(Table_clallam_Oversight_ActiveFunds[[#This Row],[Fund]],5)","v":"104-1"},null,null,null,null,null,"406-1","406-1 Sal & Insur Incr-Rev - State"]
[null,"240-Licensing","106-1 Highway Safety Acct-State",{"$f":"LEFT(Table_clallam_Oversight_ActiveFunds[[#This Row],[Fund]],5)","v":"106-1"},null,null,null,null,null,"407-6","407-6 Secretary State Rev-Non-Appr"]
[null,"240-Licensing","106-2 Highway Safety Acct-Federal",{"$f":"LEFT(Table_clallam_Oversight_ActiveFunds[[#This Row],[Fund]],5)","v":"106-2"},null,null,null,null,null,"408-6","408-6 Coastal Protec Acct-Non-Appr"]
[null,"240-Licensing","108-1 Motor Vehicle Acct-State",{"$f":"LEFT(Table_clallam_Oversight_ActiveFunds[[#This Row],[Fund]],5)","v":"108-1"},null,null,null,null,null,"410-6","410-6 Transp Equipment Acc-Non-Appr"]
[null,"240-Licensing","108-2 Motor Vehicle Acct-Federal",{"$f":"LEFT(Table_clallam_Oversight_ActiveFunds[[#This Row],[Fund]],5)","v":"108-2"},null,null,null,null,null,"413-6","413-6 Municipal Revolving-Non-Appr"]
[null,"240-Licensing","108-7 Motor Vehicle Acct-Local",{"$f":"LEFT(Table_clallam_Oversight_ActiveFunds[[#This Row],[Fund]],5)","v":"108-7"},null,null,null,null,null,"415-1","415-1 Personnel Svc Acct-State"]
[null,"240-Licensing","14V-1 Ignition Interlock-State",{"$f":"LEFT(Table_clallam_Oversight_ActiveFunds[[#This Row],[Fund]],5)","v":"14V-1"},null,null,null,null,null,"418-1","418-1 St Hlth Care Admn Ac-State"]
[null,"240-Licensing","17W-1 Limousine Carrier Ac-State",{"$f":"LEFT(Table_clallam_Oversight_ActiveFunds[[#This Row],[Fund]],5)","v":"17W-1"},null,null,null,null,null,"421-6","421-6 Ed Tech Revolving-Non-Appr"]
[null,"240-Licensing","19T-1 DOL Tech Improve-State",{"$f":"LEFT(Table_clallam_Oversight_ActiveFunds[[#This Row],[Fund]],5)","v":"19T-1"},null,null,null,null,null,"422-6","422-6 Enterprise Svc Acct-Non-Appr"]
[null,"240-Licensing","201-1 DOL Services Account-State",{"$f":"LEFT(Table_clallam_Oversight_ActiveFunds[[#This Row],[Fund]],5)","v":"201-1"},null,null,null,null,null,"424-6","424-6 Anti-Trust Revolving - Non-Appr"]
[null,"240-Licensing","20J-1 Electric Vehicle-State",{"$f":"LEFT(Table_clallam_Oversight_ActiveFunds[[#This Row],[Fund]],5)","v":"20J-1"},null,null,null,null,null,"433-6","433-6 Shared Game Lottery-Non-Appr"]
[null,"240-Licensing","22J-1 Abandoned RV Acct-State",{"$f":"LEFT(Table_clallam_Oversight_ActiveFunds[[#This Row],[Fund]],5)","v":"22J-1"},null,null,null,null,null,"436-6","436-6 OFM Labor Relations-Non-Appr"]
[null,"240-Licensing","24K-1 Agy Finan Trans Acct-State",{"$f":"LEFT(Table_clallam_Oversight_ActiveFunds[[#This Row],[Fund]],5)","v":"24K-1"},null,null,null,null,null,"438-6","438-6 UDP Benefits Admin-Non-Appr"]
[null,"240-Licensing","25W-1 Driver License Tech-State",{"$f":"LEFT(Table_clallam_Oversight_ActiveFunds[[#This Row],[Fund]],5)","v":"25W-1"},null,null,null,null,null,"439-6","439-6 UMP Admin Bene Acct-Non-Appr"]
[null,"240-Licensing","26Q-1 Move Ahead WA Flex-State",{"$f":"LEFT(Table_clallam_Oversight_ActiveFunds[[#This Row],[Fund]],5)","v":"26Q-1"},null,null,null,null,null,"441-1","441-1 Local Gov Archives-State"]
[null,"245-Military Dept","001-1 General Fund-State",{"$f":"LEFT(Table_clallam_Oversight_ActiveFunds[[#This Row],[Fund]],5)","v":"001-1"},null,null,null,null,null,"442-6","442-6 Leg Gift Center Acct-Non-Appr"]
[null,"245-Military Dept","001-2 General Fund-Federal",{"$f":"LEFT(Table_clallam_Oversight_ActiveFunds[[#This Row],[Fund]],5)","v":"001-2"},null,null,null,null,null,"443-6","443-6 Data Proc-Hi Educ - Non-Appr"]
[null,"245-Military Dept","001-H General Fund-ARPA",{"$f":"LEFT(Table_clallam_Oversight_ActiveFunds[[#This Row],[Fund]],5)","v":"001-H"},null,null,null,null,null,"444-6","444-6 Fish & Wild Equip-Non-Appr"]
[null,"245-Military Dept","03F-1 911 Account-State",{"$f":"LEFT(Table_clallam_Oversight_ActiveFunds[[#This Row],[Fund]],5)","v":"03F-1"},null,null,null,null,null,"445-6","445-6 SI Emp ORA-Non-Appr"]
[null,"245-Military Dept","05H-1 Disaster Response-State",{"$f":"LEFT(Table_clallam_Oversight_ActiveFunds[[#This Row],[Fund]],5)","v":"05H-1"},null,null,null,null,null,"447-6","447-6 Info Tech Invest Rev-Non-Appr"]
[null,"245-Military Dept","05H-2 Disaster Response-Federal",{"$f":"LEFT(Table_clallam_Oversight_ActiveFunds[[#This Row],[Fund]],5)","v":"05H-2"},null,null,null,null,null,"453-1","453-1 Minority & Business-State"]
[null,"245-Military Dept","08H-1 Military Rent and L-State",{"$f":"LEFT(Table_clallam_Oversight_ActiveFunds[[#This Row],[Fund]],5)","v":"08H-1"},null,null,null,null,null,"455-1","455-1 Higher Ed Pers Svcs-State"]
[null,"245-Military Dept","14R-1 Mil Dep ASSA-State",{"$f":"LEFT(Table_clallam_Oversight_ActiveFunds[[#This Row],[Fund]],5)","v":"14R-1"},null,null,null,null,null,"458-1","458-1 CTS Revolving Acct-State"]
[null,"245-Military Dept","163-1 Worker & Comm Right-State",{"$f":"LEFT(Table_clallam_Oversight_ActiveFunds[[#This Row],[Fund]],5)","v":"163-1"},null,null,null,null,null,{"$f":"MID(K389,1,5)","v":"458-6"},"458-6 CTS Revolving Acct-Non-Appr"]
[null,"245-Military Dept","217-1 Oil Spill Prevn Acct-State",{"$f":"LEFT(Table_clallam_Oversight_ActiveFunds[[#This Row],[Fund]],5)","v":"217-1"},null,null,null,null,null,"463-6","463-6 WA College Sav Prog-Non-Appr"]
[null,"275-Public Empl Relation","001-1 General Fund-State",{"$f":"LEFT(Table_clallam_Oversight_ActiveFunds[[#This Row],[Fund]],5)","v":"001-1"},null,null,null,null,null,"466-1","466-1 Statewide IT Sys Dev-State"]
[null,"275-Public Empl Relation","415-1 Personnel Svc Acct-State",{"$f":"LEFT(Table_clallam_Oversight_ActiveFunds[[#This Row],[Fund]],5)","v":"415-1"},null,null,null,null,null,"468-1","468-1 OFM Central Services-State"]
[null,"275-Public Empl Relation","455-1 Higher Ed Pers Svcs-State",{"$f":"LEFT(Table_clallam_Oversight_ActiveFunds[[#This Row],[Fund]],5)","v":"455-1"},null,null,null,null,null,"470-6","470-6 Imaging Account-Non-Appr"]
[null,"300-DSHS","001-1 General Fund-State",{"$f":"LEFT(Table_clallam_Oversight_ActiveFunds[[#This Row],[Fund]],5)","v":"001-1"},null,null,null,null,null,"471-6","471-6 St Patrol N A R Acct-Non-Appr"]
[null,"300-DSHS","001-2 General Fund-Federal",{"$f":"LEFT(Table_clallam_Oversight_ActiveFunds[[#This Row],[Fund]],5)","v":"001-2"},null,null,null,null,null,"472-1","472-1 Statewide IT Sys M&O-State"]
[null,"300-DSHS","001-7 General Fund-Local",{"$f":"LEFT(Table_clallam_Oversight_ActiveFunds[[#This Row],[Fund]],5)","v":"001-7"},null,null,null,null,null,"472-6","472-6 Statewide IT Sys M&O-Non-Appr"]
[null,"300-DSHS","001-A General Fund-Fam Supt",{"$f":"LEFT(Table_clallam_Oversight_ActiveFunds[[#This Row],[Fund]],5)","v":"001-A"},null,null,null,null,null,"474-6","474-6 SEBB Flex Spend Admn-Non-Appr"]
[null,"300-DSHS","001-C General Fund-Medicaid",{"$f":"LEFT(Table_clallam_Oversight_ActiveFunds[[#This Row],[Fund]],5)","v":"001-C"},null,null,null,null,null,"475-6","475-6 SEBB Dntl Admn Acct-Non-Appr"]
[null,"300-DSHS","001-D General Fund-TANF",{"$f":"LEFT(Table_clallam_Oversight_ActiveFunds[[#This Row],[Fund]],5)","v":"001-D"},null,null,null,null,null,"480-6","480-6 Financial Education-Non-Appr"]
[null,"300-DSHS","001-H General Fund-ARPA",{"$f":"LEFT(Table_clallam_Oversight_ActiveFunds[[#This Row],[Fund]],5)","v":"001-H"},null,null,null,null,null,"483-1","483-1 Auditing Svcs Revolv-State"]
[null,"300-DSHS","001-W General Fund-Oth COVID",{"$f":"LEFT(Table_clallam_Oversight_ActiveFunds[[#This Row],[Fund]],5)","v":"001-W"},null,null,null,null,null,"484-1","484-1 Admin Hearings Revol-State"]
[null,"300-DSHS","001-X General Fund-CRF App",{"$f":"LEFT(Table_clallam_Oversight_ActiveFunds[[#This Row],[Fund]],5)","v":"001-X"},null,null,null,null,null,"484-7","484-7 Admin Hearings Revol-Local"]
[null,"300-DSHS","001-Y General Fund-Oth UAR",{"$f":"LEFT(Table_clallam_Oversight_ActiveFunds[[#This Row],[Fund]],5)","v":"001-Y"},null,null,null,null,null,"485-6","485-6 WA Bred Owners'-Non-Appr"]
[null,"300-DSHS","001-Z General Fund-CRRSA",{"$f":"LEFT(Table_clallam_Oversight_ActiveFunds[[#This Row],[Fund]],5)","v":"001-Z"},null,null,null,null,null,"489-1","489-1 Pension Fund Stabilz-State"]
[null,"300-DSHS","07W-1 Domestic Violence P-State",{"$f":"LEFT(Table_clallam_Oversight_ActiveFunds[[#This Row],[Fund]],5)","v":"07W-1"},null,null,null,null,null,"492-1","492-1 School Employees' In-State"]
[null,"300-DSHS","12T-1 Trauma Brain Injury-State",{"$f":"LEFT(Table_clallam_Oversight_ActiveFunds[[#This Row],[Fund]],5)","v":"12T-1"},null,null,null,null,null,"492-6","492-6 School Employees' In-Non-Appr"]
[null,"300-DSHS","12T-6 Trauma Brain Injury-Non-Appr",{"$f":"LEFT(Table_clallam_Oversight_ActiveFunds[[#This Row],[Fund]],5)","v":"12T-6"},null,null,null,null,null,"493-6","493-6 School Empl Ins Acct-Non-Appr"]
[null,"300-DSHS","562-1 Skilled Nursing Fac-State",{"$f":"LEFT(Table_clallam_Oversight_ActiveFunds[[#This Row],[Fund]],5)","v":"562-1"},null,null,null,null,null,"494-6","494-6 SEBB Med Ben Admin-Non-Appr"]
[null,"300-DSHS","567-1 Long-Term Svcs & Spt - State",{"$f":"LEFT(Table_clallam_Oversight_ActiveFunds[[#This Row],[Fund]],5)","v":"567-1"},null,null,null,null,null,"496-6","496-6 Future Teachers-Non-Appr"]
[null,"300-DSHS","706-2 COVID Fiscal Recover-Federal",{"$f":"LEFT(Table_clallam_Oversight_ActiveFunds[[#This Row],[Fund]],5)","v":"706-2"},null,null,null,null,null,"497-6","497-6 Class C Purse Acct-Non-Appr"]
[null,"300-DSHS","851-1 Dev Dis Comm Sv Acct-State",{"$f":"LEFT(Table_clallam_Oversight_ActiveFunds[[#This Row],[Fund]],5)","v":"851-1"},null,null,null,null,null,"501-1","501-1 Liquor Revolving Acc-State"]
[null,"303-Dept of Health","001-1 General Fund-State",{"$f":"LEFT(Table_clallam_Oversight_ActiveFunds[[#This Row],[Fund]],5)","v":"001-1"},null,null,null,null,null,"503-6","503-6 Tuitn Recovery Trust-Non-Appr"]
[null,"303-Dept of Health","001-2 General Fund-Federal",{"$f":"LEFT(Table_clallam_Oversight_ActiveFunds[[#This Row],[Fund]],5)","v":"001-2"},null,null,null,null,null,"505-6","505-6 U of W Hospital-Non-Appr"]
[null,"303-Dept of Health","001-7 General Fund-Local",{"$f":"LEFT(Table_clallam_Oversight_ActiveFunds[[#This Row],[Fund]],5)","v":"001-7"},null,null,null,null,null,"507-1","507-1 Oyster Reserve Land-State"]
[null,"303-Dept of Health","002-1 Hospital Data Collec-State",{"$f":"LEFT(Table_clallam_Oversight_ActiveFunds[[#This Row],[Fund]],5)","v":"002-1"},null,null,null,null,null,"511-1","511-1 Tacoma Narrows Toll-State"]
[null,"303-Dept of Health","02G-1 Health Prfessns Acct-State",{"$f":"LEFT(Table_clallam_Oversight_ActiveFunds[[#This Row],[Fund]],5)","v":"02G-1"},null,null,null,null,null,"513-1","513-1 Derelict Vessel Rmv-State"]
[null,"303-Dept of Health","02R-1 Aquatic Lands Acct-State",{"$f":"LEFT(Table_clallam_Oversight_ActiveFunds[[#This Row],[Fund]],5)","v":"02R-1"},null,null,null,null,null,"515-6","515-6 DNA Data Base Acct-Non-Appr"]
[null,"303-Dept of Health","03C-1 Emer Med/Trauma Care-State",{"$f":"LEFT(Table_clallam_Oversight_ActiveFunds[[#This Row],[Fund]],5)","v":"03C-1"},null,null,null,null,null,"516-6","516-6 Fruit/Vegetable Insp-Non-Appr"]
[null,"303-Dept of Health","03R-1 Safe Drink Wtr Acct-State",{"$f":"LEFT(Table_clallam_Oversight_ActiveFunds[[#This Row],[Fund]],5)","v":"03R-1"},null,null,null,null,null,"532-1","532-1 Wa Housing Trust Acc-State"]
[null,"303-Dept of Health","04R-2 Drinking Water Assis-Federal",{"$f":"LEFT(Table_clallam_Oversight_ActiveFunds[[#This Row],[Fund]],5)","v":"04R-2"},null,null,null,null,null,"535-1","535-1 Alaskan Way Viaduct-State"]
[null,"303-Dept of Health","04W-1 Water Works Op Cert-State",{"$f":"LEFT(Table_clallam_Oversight_ActiveFunds[[#This Row],[Fund]],5)","v":"04W-1"},null,null,null,null,null,"536-6","536-6 Federal Food Service-Non-Appr"]
[null,"303-Dept of Health","05R-1 Drinking Water Asst-State",{"$f":"LEFT(Table_clallam_Oversight_ActiveFunds[[#This Row],[Fund]],5)","v":"05R-1"},null,null,null,null,null,"543-1","543-1 Judicial Info System-State"]
[null,"303-Dept of Health","09L-6 Nursing Res Center-Non-Appr",{"$f":"LEFT(Table_clallam_Oversight_ActiveFunds[[#This Row],[Fund]],5)","v":"09L-6"},null,null,null,null,null,"544-1","544-1 Pollution Liab Insur-State"]
[null,"303-Dept of Health","125-1 Site Closure Account-State",{"$f":"LEFT(Table_clallam_Oversight_ActiveFunds[[#This Row],[Fund]],5)","v":"125-1"},null,null,null,null,null,"545-6","545-6 Heating Oil Pollut-Non-Appr"]
[null,"303-Dept of Health","15M-1 Biotoxin Account-State",{"$f":"LEFT(Table_clallam_Oversight_ActiveFunds[[#This Row],[Fund]],5)","v":"15M-1"},null,null,null,null,null,"546-6","546-6 Risk Mgmt Admin Acct-Non-Appr"]
[null,"303-Dept of Health","16G-6 Univ Vaccine Purch-Non-Appr",{"$f":"LEFT(Table_clallam_Oversight_ActiveFunds[[#This Row],[Fund]],5)","v":"16G-6"},null,null,null,null,null,"547-6","547-6 Liability Account-Non-Appr"]
[null,"303-Dept of Health","19A-1 Medicaid Fraud Pnlty-State",{"$f":"LEFT(Table_clallam_Oversight_ActiveFunds[[#This Row],[Fund]],5)","v":"19A-1"},null,null,null,null,null,"548-6","548-6 LEOFF Plan 2 Expense-Non-Appr"]
[null,"303-Dept of Health","202-1 Med Test Site Licen-State",{"$f":"LEFT(Table_clallam_Oversight_ActiveFunds[[#This Row],[Fund]],5)","v":"202-1"},null,null,null,null,null,"549-2","549-2 Election Account-Federal"]
[null,"303-Dept of Health","214-6 Temp Worker Housing-Non-Appr",{"$f":"LEFT(Table_clallam_Oversight_ActiveFunds[[#This Row],[Fund]],5)","v":"214-6"},null,null,null,null,null,"550-1","550-1 Transp 2003 (Nickel)-State"]
[null,"303-Dept of Health","22U-1 Secure Drug Takeback-State",{"$f":"LEFT(Table_clallam_Oversight_ActiveFunds[[#This Row],[Fund]],5)","v":"22U-1"},null,null,null,null,null,"553-1","553-1 Perf Audits of Govt-State"]
[null,"303-Dept of Health","235-1 Youth Tobacco/Vapor-State",{"$f":"LEFT(Table_clallam_Oversight_ActiveFunds[[#This Row],[Fund]],5)","v":"235-1"},null,null,null,null,null,"553-6","553-6 Perf Audits of Govt-Non-Appr"]
[null,"303-Dept of Health","23P-1 Model Toxics Oper-State",{"$f":"LEFT(Table_clallam_Oversight_ActiveFunds[[#This Row],[Fund]],5)","v":"23P-1"},null,null,null,null,null,"561-6","561-6 Comm/Tech College In-Non-Appr"]
[null,"303-Dept of Health","25N-1 988 BH Crisis Rsp Ln-State",{"$f":"LEFT(Table_clallam_Oversight_ActiveFunds[[#This Row],[Fund]],5)","v":"25N-1"},null,null,null,null,null,"562-1","562-1 Skilled Nursing Fac-State"]
[null,"303-Dept of Health","315-1 Dedicated Cannabis-State",{"$f":"LEFT(Table_clallam_Oversight_ActiveFunds[[#This Row],[Fund]],5)","v":"315-1"},null,null,null,null,null,"564-1","564-1 Water Poll Ctrl Adm-State"]
[null,"303-Dept of Health","319-7 Public Health Supp-Local",{"$f":"LEFT(Table_clallam_Oversight_ActiveFunds[[#This Row],[Fund]],5)","v":"319-7"},null,null,null,null,null,"566-1","566-1 Comm Forest Trust-State"]
[null,"303-Dept of Health","608-1 Accident Account-State",{"$f":"LEFT(Table_clallam_Oversight_ActiveFunds[[#This Row],[Fund]],5)","v":"608-1"},null,null,null,null,null,"567-1","567-1 Long-Term Svcs & Spt - State"]
[null,"303-Dept of Health","609-1 Medical Aid Account-State",{"$f":"LEFT(Table_clallam_Oversight_ActiveFunds[[#This Row],[Fund]],5)","v":"609-1"},null,null,null,null,null,"571-1","571-1 Multiuse Roadway Saf-State"]
[null,"303-Dept of Health","704-6 Covid19PubHeaRespAcc-Non-Appr",{"$f":"LEFT(Table_clallam_Oversight_ActiveFunds[[#This Row],[Fund]],5)","v":"704-6"},null,null,null,null,null,"577-6","577-6 State Lottery Acct-Non-Appr"]
[null,"303-Dept of Health","706-2 COVID Fiscal Recover-Federal",{"$f":"LEFT(Table_clallam_Oversight_ActiveFunds[[#This Row],[Fund]],5)","v":"706-2"},null,null,null,null,null,"578-1","578-1 Lottery Admin Acct-State"]
[null,"305-Veterans' Affairs","001-1 General Fund-State",{"$f":"LEFT(Table_clallam_Oversight_ActiveFunds[[#This Row],[Fund]],5)","v":"001-1"},null,null,null,null,null,"595-1","595-1 I-405/SR167 Exp Toll - State"]
[null,"305-Veterans' Affairs","001-2 General Fund-Federal",{"$f":"LEFT(Table_clallam_Oversight_ActiveFunds[[#This Row],[Fund]],5)","v":"001-2"},null,null,null,null,null,"600-1","600-1 Retirmnt Sys Expense-State"]
[null,"305-Veterans' Affairs","001-7 General Fund-Local",{"$f":"LEFT(Table_clallam_Oversight_ActiveFunds[[#This Row],[Fund]],5)","v":"001-7"},null,null,null,null,null,"600-6","600-6 Retirmnt Sys Expense-Non-Appr"]
[null,"305-Veterans' Affairs","001-H General Fund-ARPA",{"$f":"LEFT(Table_clallam_Oversight_ActiveFunds[[#This Row],[Fund]],5)","v":"001-H"},null,null,null,null,null,"608-1","608-1 Accident Account-State"]
[null,"305-Veterans' Affairs","001-W General Fund-Oth COVID",{"$f":"LEFT(Table_clallam_Oversight_ActiveFunds[[#This Row],[Fund]],5)","v":"001-W"},null,null,null,null,null,"608-2","608-2 Accident Account-Federal"]
[null,"305-Veterans' Affairs","042-1 C E P and R I Acct-State",{"$f":"LEFT(Table_clallam_Oversight_ActiveFunds[[#This Row],[Fund]],5)","v":"042-1"},null,null,null,null,null,"608-6","608-6 Accident Account-Non-Appr"]
[null,"305-Veterans' Affairs","08V-6 Veterans Stewardship-Non-Appr",{"$f":"LEFT(Table_clallam_Oversight_ActiveFunds[[#This Row],[Fund]],5)","v":"08V-6"},null,null,null,null,null,"609-1","609-1 Medical Aid Account-State"]
[null,"305-Veterans' Affairs","11V-7 Veteran Estate Mgmt-Local",{"$f":"LEFT(Table_clallam_Oversight_ActiveFunds[[#This Row],[Fund]],5)","v":"11V-7"},null,null,null,null,null,"609-2","609-2 Medical Aid Account-Federal"]
[null,"305-Veterans' Affairs","213-6 Veterans Emblem Acct-Non-Appr",{"$f":"LEFT(Table_clallam_Oversight_ActiveFunds[[#This Row],[Fund]],5)","v":"213-6"},null,null,null,null,null,"609-6","609-6 Medical Aid Account-Non-Appr"]
[null,"307-Child, Youth, Family","001-0 General Fund-Fed Grnt",{"$f":"LEFT(Table_clallam_Oversight_ActiveFunds[[#This Row],[Fund]],5)","v":"001-0"},null,null,null,null,null,"704-6","704-6 Covid19PubHeaRespAcc-Non-Appr"]
[null,"307-Child, Youth, Family","001-1 General Fund-State",{"$f":"LEFT(Table_clallam_Oversight_ActiveFunds[[#This Row],[Fund]],5)","v":"001-1"},null,null,null,null,null,"706-2","706-2 COVID Fiscal Recover-Federal"]
[null,"307-Child, Youth, Family","001-2 General Fund-Federal",{"$f":"LEFT(Table_clallam_Oversight_ActiveFunds[[#This Row],[Fund]],5)","v":"001-2"},null,null,null,null,null,"721-6","721-6 Pub Emp/Ret Ins-Non-Appr"]
[null,"307-Child, Youth, Family","001-7 General Fund-Local",{"$f":"LEFT(Table_clallam_Oversight_ActiveFunds[[#This Row],[Fund]],5)","v":"001-7"},null,null,null,null,null,"746-6","746-6 Hanford Econ Invest-Non-Appr"]
[null,"307-Child, Youth, Family","001-A General Fund-Fam Supt",{"$f":"LEFT(Table_clallam_Oversight_ActiveFunds[[#This Row],[Fund]],5)","v":"001-A"},null,null,null,null,null,{"$f":"MID(K453,1,5)","v":"747-1"},"747-1 Hlth Profsnl Loan/Sc-State"]
[null,"307-Child, Youth, Family","001-C General Fund-Medicaid",{"$f":"LEFT(Table_clallam_Oversight_ActiveFunds[[#This Row],[Fund]],5)","v":"001-C"},null,null,null,null,null,"747-6","747-6 Hlth Profsnl Loan/Sc-Non-Appr"]
[null,"307-Child, Youth, Family","001-H General Fund-ARPA",{"$f":"LEFT(Table_clallam_Oversight_ActiveFunds[[#This Row],[Fund]],5)","v":"001-H"},null,null,null,null,null,"748-6","748-6 WA Career/College In-Non-Appr"]
[null,"307-Child, Youth, Family","001-Z General Fund-CRRSA",{"$f":"LEFT(Table_clallam_Oversight_ActiveFunds[[#This Row],[Fund]],5)","v":"001-Z"},null,null,null,null,null,"759-6","759-6 Miscellaneous Pgm-Non-Appr"]
[null,"307-Child, Youth, Family","08A-1 Education Legacy T A-State",{"$f":"LEFT(Table_clallam_Oversight_ActiveFunds[[#This Row],[Fund]],5)","v":"08A-1"},null,null,null,null,null,"777-1","777-1 Prostitution Prevent-State"]
[null,"307-Child, Youth, Family","11K-1 WA Auto Theft Prevnt-State",{"$f":"LEFT(Table_clallam_Oversight_ActiveFunds[[#This Row],[Fund]],5)","v":"11K-1"},null,null,null,null,null,"780-1","780-1 School Zone Safety-State"]
[null,"307-Child, Youth, Family","133-6 Childrens' Trst Acct-Non-Appr",{"$f":"LEFT(Table_clallam_Oversight_ActiveFunds[[#This Row],[Fund]],5)","v":"133-6"},null,null,null,null,null,"785-6","785-6 State Ed Trust Fund-Non-Appr"]
[null,"307-Child, Youth, Family","17B-1 Home Visiting Svcs-State",{"$f":"LEFT(Table_clallam_Oversight_ActiveFunds[[#This Row],[Fund]],5)","v":"17B-1"},null,null,null,null,null,"788-6","788-6 Adv College Tuit Pay-Non-Appr"]
[null,"307-Child, Youth, Family","17B-2 Home Visiting Svcs-Federal",{"$f":"LEFT(Table_clallam_Oversight_ActiveFunds[[#This Row],[Fund]],5)","v":"17B-2"},null,null,null,null,null,"818-1","818-1 Youth Athletic Facil-State"]
[null,"307-Child, Youth, Family","17F-1 WA Opportunity Path-State",{"$f":"LEFT(Table_clallam_Oversight_ActiveFunds[[#This Row],[Fund]],5)","v":"17F-1"},null,null,null,null,null,"823-6","823-6 Livestock Nutr Mgmt-Non-Appr"]
[null,"307-Child, Youth, Family","17M-6 Indivi-Based/Portabl - Non-Appr",{"$f":"LEFT(Table_clallam_Oversight_ActiveFunds[[#This Row],[Fund]],5)","v":"17M-6"},null,null,null,null,null,"828-1","828-1 Tobacco Prev/Ctl-State"]
[null,"307-Child, Youth, Family","20L-Y Early Start Account-Oth UAR",{"$f":"LEFT(Table_clallam_Oversight_ActiveFunds[[#This Row],[Fund]],5)","v":"20L-Y"},null,null,null,null,null,"830-1","830-1 Agric College Trst-State"]
[null,"307-Child, Youth, Family","24J-1 Workforce Ed Invest-State",{"$f":"LEFT(Table_clallam_Oversight_ActiveFunds[[#This Row],[Fund]],5)","v":"24J-1"},null,null,null,null,null,"835-6","835-6 4-Yr St Child Care - Non-Appr"]
[null,"307-Child, Youth, Family","706-2 COVID Fiscal Recover-Federal",{"$f":"LEFT(Table_clallam_Oversight_ActiveFunds[[#This Row],[Fund]],5)","v":"706-2"},null,null,null,null,null,"851-1","851-1 Dev Dis Comm Sv Acct-State"]
[null,"310-Corrections","001-1 General Fund-State",{"$f":"LEFT(Table_clallam_Oversight_ActiveFunds[[#This Row],[Fund]],5)","v":"001-1"},null,null,null,null,null,"874-6","874-6 OASI Revolving Acct-Non-Appr"]
[null,"310-Corrections","001-2 General Fund-Federal",{"$f":"LEFT(Table_clallam_Oversight_ActiveFunds[[#This Row],[Fund]],5)","v":"001-2"},null,null,null,null,null,"884-6","884-6 Gambling Revolving-Non-Appr"]
[null,"310-Corrections","001-7 General Fund-Local",{"$f":"LEFT(Table_clallam_Oversight_ActiveFunds[[#This Row],[Fund]],5)","v":"001-7"},null,null,null,null,null,"885-1","885-1 Plumbing Certificate-State"]
[null,"310-Corrections","001-X General Fund-CRF App",{"$f":"LEFT(Table_clallam_Oversight_ActiveFunds[[#This Row],[Fund]],5)","v":"001-X"},null,null,null,null,null,"887-1","887-1 Pub Facil Const Loan-State"]
[null,"310-Corrections","11K-1 WA Auto Theft Prevnt-State",{"$f":"LEFT(Table_clallam_Oversight_ActiveFunds[[#This Row],[Fund]],5)","v":"11K-1"},null,null,null,null,null,"888-6","888-6 Defrd Comp Admin Acc-Non-Appr"]
[null,"310-Corrections","141-6 Fed Narcotics Forfet-Non-Appr",{"$f":"LEFT(Table_clallam_Oversight_ActiveFunds[[#This Row],[Fund]],5)","v":"141-6"},null,null,null,null,null,"892-1","892-1 Pressure Systems Saf-State"]
[null,"310-Corrections","206-6 Cost of Supervision-Non-Appr",{"$f":"LEFT(Table_clallam_Oversight_ActiveFunds[[#This Row],[Fund]],5)","v":"206-6"}]
[null,"310-Corrections","226-6 State Seizure Acct-Non-Appr",{"$f":"LEFT(Table_clallam_Oversight_ActiveFunds[[#This Row],[Fund]],5)","v":"226-6"}]
[null,"310-Corrections","401-6 Correctional Industr-Non-Appr",{"$f":"LEFT(Table_clallam_Oversight_ActiveFunds[[#This Row],[Fund]],5)","v":"401-6"}]
[null,"310-Corrections","706-2 COVID Fiscal Recover-Federal",{"$f":"LEFT(Table_clallam_Oversight_ActiveFunds[[#This Row],[Fund]],5)","v":"706-2"}]
[null,"315-Svcs for the Blind","001-1 General Fund-State",{"$f":"LEFT(Table_clallam_Oversight_ActiveFunds[[#This Row],[Fund]],5)","v":"001-1"}]
[null,"315-Svcs for the Blind","001-2 General Fund-Federal",{"$f":"LEFT(Table_clallam_Oversight_ActiveFunds[[#This Row],[Fund]],5)","v":"001-2"}]
[null,"315-Svcs for the Blind","001-7 General Fund-Local",{"$f":"LEFT(Table_clallam_Oversight_ActiveFunds[[#This Row],[Fund]],5)","v":"001-7"}]
[null,"315-Svcs for the Blind","02H-6 Business Enterprises-Non-Appr",{"$f":"LEFT(Table_clallam_Oversight_ActiveFunds[[#This Row],[Fund]],5)","v":"02H-6"}]
[null,"340-Student Achievement","001-1 General Fund-State",{"$f":"LEFT(Table_clallam_Oversight_ActiveFunds[[#This Row],[Fund]],5)","v":"001-1"}]
[null,"340-Student Achievement","001-2 General Fund-Federal",{"$f":"LEFT(Table_clallam_Oversight_ActiveFunds[[#This Row],[Fund]],5)","v":"001-2"}]
[null,"340-Student Achievement","001-7 General Fund-Local",{"$f":"LEFT(Table_clallam_Oversight_ActiveFunds[[#This Row],[Fund]],5)","v":"001-7"}]
[null,"340-Student Achievement","001-H General Fund-ARPA",{"$f":"LEFT(Table_clallam_Oversight_ActiveFunds[[#This Row],[Fund]],5)","v":"001-H"}]
[null,"340-Student Achievement","08A-1 Education Legacy T A-State",{"$f":"LEFT(Table_clallam_Oversight_ActiveFunds[[#This Row],[Fund]],5)","v":"08A-1"}]
[null,"340-Student Achievement","17F-1 WA Opportunity Path-State",{"$f":"LEFT(Table_clallam_Oversight_ActiveFunds[[#This Row],[Fund]],5)","v":"17F-1"}]
[null,"340-Student Achievement","17R-1 Aerospace Training S-State",{"$f":"LEFT(Table_clallam_Oversight_ActiveFunds[[#This Row],[Fund]],5)","v":"17R-1"}]
[null,"340-Student Achievement","22V-6 Medical Student Loan-Non-Appr",{"$f":"LEFT(Table_clallam_Oversight_ActiveFunds[[#This Row],[Fund]],5)","v":"22V-6"}]
[null,"340-Student Achievement","23A-6 Student Ln Advocate-Non-Appr",{"$f":"LEFT(Table_clallam_Oversight_ActiveFunds[[#This Row],[Fund]],5)","v":"23A-6"}]
[null,"340-Student Achievement","24A-6 Beh He Ln Rep Pr Acc-Non-Appr",{"$f":"LEFT(Table_clallam_Oversight_ActiveFunds[[#This Row],[Fund]],5)","v":"24A-6"}]
[null,"340-Student Achievement","24J-1 Workforce Ed Invest-State",{"$f":"LEFT(Table_clallam_Oversight_ActiveFunds[[#This Row],[Fund]],5)","v":"24J-1"}]
[null,"340-Student Achievement","26T-6 WA Student Loan-Non-Appr",{"$f":"LEFT(Table_clallam_Oversight_ActiveFunds[[#This Row],[Fund]],5)","v":"26T-6"}]
[null,"340-Student Achievement","463-6 WA College Sav Prog-Non-Appr",{"$f":"LEFT(Table_clallam_Oversight_ActiveFunds[[#This Row],[Fund]],5)","v":"463-6"}]
[null,"340-Student Achievement","496-6 Future Teachers-Non-Appr",{"$f":"LEFT(Table_clallam_Oversight_ActiveFunds[[#This Row],[Fund]],5)","v":"496-6"}]
[null,"340-Student Achievement","747-1 Hlth Profsnl Loan/Sc-State",{"$f":"LEFT(Table_clallam_Oversight_ActiveFunds[[#This Row],[Fund]],5)","v":"747-1"}]
[null,"340-Student Achievement","747-6 Hlth Profsnl Loan/Sc-Non-Appr",{"$f":"LEFT(Table_clallam_Oversight_ActiveFunds[[#This Row],[Fund]],5)","v":"747-6"}]
[null,"340-Student Achievement","748-6 WA Career/College In-Non-Appr",{"$f":"LEFT(Table_clallam_Oversight_ActiveFunds[[#This Row],[Fund]],5)","v":"748-6"}]
[null,"340-Student Achievement","785-6 State Ed Trust Fund-Non-Appr",{"$f":"LEFT(Table_clallam_Oversight_ActiveFunds[[#This Row],[Fund]],5)","v":"785-6"}]
[null,"340-Student Achievement","788-6 Adv College Tuit Pay-Non-Appr",{"$f":"LEFT(Table_clallam_Oversight_ActiveFunds[[#This Row],[Fund]],5)","v":"788-6"}]
[null,"340-Student Achievement","835-6 4-Yr St Child Care - Non-Appr",{"$f":"LEFT(Table_clallam_Oversight_ActiveFunds[[#This Row],[Fund]],5)","v":"835-6"}]
[null,"341-LEOFF 2 Retire Bd","548-6 LEOFF Plan 2 Expense-Non-Appr",{"$f":"LEFT(Table_clallam_Oversight_ActiveFunds[[#This Row],[Fund]],5)","v":"548-6"}]
[null,"350-Public Schools","001-1 General Fund-State",{"$f":"LEFT(Table_clallam_Oversight_ActiveFunds[[#This Row],[Fund]],5)","v":"001-1"}]
[null,"350-Public Schools","001-2 General Fund-Federal",{"$f":"LEFT(Table_clallam_Oversight_ActiveFunds[[#This Row],[Fund]],5)","v":"001-2"}]
[null,"350-Public Schools","001-7 General Fund-Local",{"$f":"LEFT(Table_clallam_Oversight_ActiveFunds[[#This Row],[Fund]],5)","v":"001-7"}]
[null,"350-Public Schools","001-C General Fund-Medicaid",{"$f":"LEFT(Table_clallam_Oversight_ActiveFunds[[#This Row],[Fund]],5)","v":"001-C"}]
[null,"350-Public Schools","001-H General Fund-ARPA",{"$f":"LEFT(Table_clallam_Oversight_ActiveFunds[[#This Row],[Fund]],5)","v":"001-H"}]
[null,"350-Public Schools","001-Z General Fund-CRRSA",{"$f":"LEFT(Table_clallam_Oversight_ActiveFunds[[#This Row],[Fund]],5)","v":"001-Z"}]
[null,"350-Public Schools","08A-1 Education Legacy T A-State",{"$f":"LEFT(Table_clallam_Oversight_ActiveFunds[[#This Row],[Fund]],5)","v":"08A-1"}]
[null,"350-Public Schools","17F-1 WA Opportunity Path-State",{"$f":"LEFT(Table_clallam_Oversight_ActiveFunds[[#This Row],[Fund]],5)","v":"17F-1"}]
[null,"350-Public Schools","18E-6 Educator Certificati-Non-Appr",{"$f":"LEFT(Table_clallam_Oversight_ActiveFunds[[#This Row],[Fund]],5)","v":"18E-6"}]
[null,"350-Public Schools","19L-1 Charter Sch Ovr Acct-State",{"$f":"LEFT(Table_clallam_Oversight_ActiveFunds[[#This Row],[Fund]],5)","v":"19L-1"}]
[null,"350-Public Schools","24J-1 Workforce Ed Invest-State",{"$f":"LEFT(Table_clallam_Oversight_ActiveFunds[[#This Row],[Fund]],5)","v":"24J-1"}]
[null,"350-Public Schools","25C-2 Elem Sec Sch Emrg Re-Federal",{"$f":"LEFT(Table_clallam_Oversight_ActiveFunds[[#This Row],[Fund]],5)","v":"25C-2"}]
[null,"350-Public Schools","315-1 Dedicated Cannabis-State",{"$f":"LEFT(Table_clallam_Oversight_ActiveFunds[[#This Row],[Fund]],5)","v":"315-1"}]
[null,"350-Public Schools","480-6 Financial Education-Non-Appr",{"$f":"LEFT(Table_clallam_Oversight_ActiveFunds[[#This Row],[Fund]],5)","v":"480-6"}]
[null,"350-Public Schools","536-6 Federal Food Service-Non-Appr",{"$f":"LEFT(Table_clallam_Oversight_ActiveFunds[[#This Row],[Fund]],5)","v":"536-6"}]
[null,"350-Public Schools","553-1 Perf Audits of Govt-State",{"$f":"LEFT(Table_clallam_Oversight_ActiveFunds[[#This Row],[Fund]],5)","v":"553-1"}]
[null,"350-Public Schools","706-2 COVID Fiscal Recover-Federal",{"$f":"LEFT(Table_clallam_Oversight_ActiveFunds[[#This Row],[Fund]],5)","v":"706-2"}]
[null,"350-Public Schools","759-6 Miscellaneous Pgm-Non-Appr",{"$f":"LEFT(Table_clallam_Oversight_ActiveFunds[[#This Row],[Fund]],5)","v":"759-6"}]
[null,"351-School for the Blind","001-1 General Fund-State",{"$f":"LEFT(Table_clallam_Oversight_ActiveFunds[[#This Row],[Fund]],5)","v":"001-1"}]
[null,"351-School for the Blind","001-7 General Fund-Local",{"$f":"LEFT(Table_clallam_Oversight_ActiveFunds[[#This Row],[Fund]],5)","v":"001-7"}]
[null,"351-School for the Blind","19B-6 School for the BA-Non-Appr",{"$f":"LEFT(Table_clallam_Oversight_ActiveFunds[[#This Row],[Fund]],5)","v":"19B-6"}]
[null,"353-Child Deaf Hrng Loss","001-1 General Fund-State",{"$f":"LEFT(Table_clallam_Oversight_ActiveFunds[[#This Row],[Fund]],5)","v":"001-1"}]
[null,"353-Child Deaf Hrng Loss","19H-6 Center for CDHLA-Non-Appr",{"$f":"LEFT(Table_clallam_Oversight_ActiveFunds[[#This Row],[Fund]],5)","v":"19H-6"}]
[null,"354-Workforce Trng/Ed Bd","001-1 General Fund-State",{"$f":"LEFT(Table_clallam_Oversight_ActiveFunds[[#This Row],[Fund]],5)","v":"001-1"}]
[null,"354-Workforce Trng/Ed Bd","001-2 General Fund-Federal",{"$f":"LEFT(Table_clallam_Oversight_ActiveFunds[[#This Row],[Fund]],5)","v":"001-2"}]
[null,"354-Workforce Trng/Ed Bd","001-7 General Fund-Local",{"$f":"LEFT(Table_clallam_Oversight_ActiveFunds[[#This Row],[Fund]],5)","v":"001-7"}]
[null,"354-Workforce Trng/Ed Bd","24J-1 Workforce Ed Invest-State",{"$f":"LEFT(Table_clallam_Oversight_ActiveFunds[[#This Row],[Fund]],5)","v":"24J-1"}]
[null,"354-Workforce Trng/Ed Bd","503-6 Tuitn Recovery Trust-Non-Appr",{"$f":"LEFT(Table_clallam_Oversight_ActiveFunds[[#This Row],[Fund]],5)","v":"503-6"}]
[null,"354-Workforce Trng/Ed Bd","706-2 COVID Fiscal Recover-Federal",{"$f":"LEFT(Table_clallam_Oversight_ActiveFunds[[#This Row],[Fund]],5)","v":"706-2"}]
[null,"355-Arch/Historic Preser","001-1 General Fund-State",{"$f":"LEFT(Table_clallam_Oversight_ActiveFunds[[#This Row],[Fund]],5)","v":"001-1"}]
[null,"355-Arch/Historic Preser","001-2 General Fund-Federal",{"$f":"LEFT(Table_clallam_Oversight_ActiveFunds[[#This Row],[Fund]],5)","v":"001-2"}]
[null,"355-Arch/Historic Preser","001-7 General Fund-Local",{"$f":"LEFT(Table_clallam_Oversight_ActiveFunds[[#This Row],[Fund]],5)","v":"001-7"}]
[null,"355-Arch/Historic Preser","14P-6 Skeletal Human-Non-Appr",{"$f":"LEFT(Table_clallam_Oversight_ActiveFunds[[#This Row],[Fund]],5)","v":"14P-6"}]
[null,"355-Arch/Historic Preser","108-1 Motor Vehicle Acct-State",{"$f":"LEFT(Table_clallam_Oversight_ActiveFunds[[#This Row],[Fund]],5)","v":"108-1"}]
[null,"360-U W","001-1 General Fund-State",{"$f":"LEFT(Table_clallam_Oversight_ActiveFunds[[#This Row],[Fund]],5)","v":"001-1"}]
[null,"360-U W","02R-1 Aquatic Lands Acct-State",{"$f":"LEFT(Table_clallam_Oversight_ActiveFunds[[#This Row],[Fund]],5)","v":"02R-1"}]
[null,"360-U W","064-1 UW Building Account-State",{"$f":"LEFT(Table_clallam_Oversight_ActiveFunds[[#This Row],[Fund]],5)","v":"064-1"}]
[null,"360-U W","08A-1 Education Legacy T A-State",{"$f":"LEFT(Table_clallam_Oversight_ActiveFunds[[#This Row],[Fund]],5)","v":"08A-1"}]
[null,"360-U W","09R-1 Econ Dev Strat R A-State",{"$f":"LEFT(Table_clallam_Oversight_ActiveFunds[[#This Row],[Fund]],5)","v":"09R-1"}]
[null,"360-U W","12P-1 Geoduck Aquaculture-State",{"$f":"LEFT(Table_clallam_Oversight_ActiveFunds[[#This Row],[Fund]],5)","v":"12P-1"}]
[null,"360-U W","145-6 HE Grants/Contract-Non-Appr",{"$f":"LEFT(Table_clallam_Oversight_ActiveFunds[[#This Row],[Fund]],5)","v":"145-6"}]
[null,"360-U W","148-6 HE Dedicated Local-Non-Appr",{"$f":"LEFT(Table_clallam_Oversight_ActiveFunds[[#This Row],[Fund]],5)","v":"148-6"}]
[null,"360-U W","149-6 HE Operating Fees-Non-Appr",{"$f":"LEFT(Table_clallam_Oversight_ActiveFunds[[#This Row],[Fund]],5)","v":"149-6"}]
[null,"360-U W","15M-1 Biotoxin Account-State",{"$f":"LEFT(Table_clallam_Oversight_ActiveFunds[[#This Row],[Fund]],5)","v":"15M-1"}]
[null,"360-U W","24J-1 Workforce Ed Invest-State",{"$f":"LEFT(Table_clallam_Oversight_ActiveFunds[[#This Row],[Fund]],5)","v":"24J-1"}]
[null,"360-U W","315-1 Dedicated Cannabis-State",{"$f":"LEFT(Table_clallam_Oversight_ActiveFunds[[#This Row],[Fund]],5)","v":"315-1"}]
[null,"360-U W","505-6 U of W Hospital-Non-Appr",{"$f":"LEFT(Table_clallam_Oversight_ActiveFunds[[#This Row],[Fund]],5)","v":"505-6"}]
[null,"360-U W","608-1 Accident Account-State",{"$f":"LEFT(Table_clallam_Oversight_ActiveFunds[[#This Row],[Fund]],5)","v":"608-1"}]
[null,"360-U W","609-1 Medical Aid Account-State",{"$f":"LEFT(Table_clallam_Oversight_ActiveFunds[[#This Row],[Fund]],5)","v":"609-1"}]
[null,"365-W S U","001-1 General Fund-State",{"$f":"LEFT(Table_clallam_Oversight_ActiveFunds[[#This Row],[Fund]],5)","v":"001-1"}]
[null,"365-W S U","001-Z General Fund-CRRSA",{"$f":"LEFT(Table_clallam_Oversight_ActiveFunds[[#This Row],[Fund]],5)","v":"001-Z"}]
[null,"365-W S U","044-1 Waste Reduct/Recycle-State",{"$f":"LEFT(Table_clallam_Oversight_ActiveFunds[[#This Row],[Fund]],5)","v":"044-1"}]
[null,"365-W S U","062-1 WSU Building Account-State",{"$f":"LEFT(Table_clallam_Oversight_ActiveFunds[[#This Row],[Fund]],5)","v":"062-1"}]
[null,"365-W S U","08A-1 Education Legacy T A-State",{"$f":"LEFT(Table_clallam_Oversight_ActiveFunds[[#This Row],[Fund]],5)","v":"08A-1"}]
[null,"365-W S U","143-6 HE Federal Appr Acct-Non-Appr",{"$f":"LEFT(Table_clallam_Oversight_ActiveFunds[[#This Row],[Fund]],5)","v":"143-6"}]
[null,"365-W S U","145-6 HE Grants/Contract-Non-Appr",{"$f":"LEFT(Table_clallam_Oversight_ActiveFunds[[#This Row],[Fund]],5)","v":"145-6"}]
[null,"365-W S U","148-6 HE Dedicated Local-Non-Appr",{"$f":"LEFT(Table_clallam_Oversight_ActiveFunds[[#This Row],[Fund]],5)","v":"148-6"}]
[null,"365-W S U","149-6 HE Operating Fees-Non-Appr",{"$f":"LEFT(Table_clallam_Oversight_ActiveFunds[[#This Row],[Fund]],5)","v":"149-6"}]
[null,"365-W S U","23P-1 Model Toxics Oper-State",{"$f":"LEFT(Table_clallam_Oversight_ActiveFunds[[#This Row],[Fund]],5)","v":"23P-1"}]
[null,"365-W S U","24J-1 Workforce Ed Invest-State",{"$f":"LEFT(Table_clallam_Oversight_ActiveFunds[[#This Row],[Fund]],5)","v":"24J-1"}]
[null,"365-W S U","315-1 Dedicated Cannabis-State",{"$f":"LEFT(Table_clallam_Oversight_ActiveFunds[[#This Row],[Fund]],5)","v":"315-1"}]
[null,"365-W S U","108-1 Motor Vehicle Acct-State",{"$f":"LEFT(Table_clallam_Oversight_ActiveFunds[[#This Row],[Fund]],5)","v":"108-1"}]
[null,"365-W S U","218-1 Multimodal Acct-State",{"$f":"LEFT(Table_clallam_Oversight_ActiveFunds[[#This Row],[Fund]],5)","v":"218-1"}]
[null,"370-E W U","001-1 General Fund-State",{"$f":"LEFT(Table_clallam_Oversight_ActiveFunds[[#This Row],[Fund]],5)","v":"001-1"}]
[null,"370-E W U","08A-1 Education Legacy T A-State",{"$f":"LEFT(Table_clallam_Oversight_ActiveFunds[[#This Row],[Fund]],5)","v":"08A-1"}]
[null,"370-E W U","145-6 HE Grants/Contract-Non-Appr",{"$f":"LEFT(Table_clallam_Oversight_ActiveFunds[[#This Row],[Fund]],5)","v":"145-6"}]
[null,"370-E W U","148-6 HE Dedicated Local-Non-Appr",{"$f":"LEFT(Table_clallam_Oversight_ActiveFunds[[#This Row],[Fund]],5)","v":"148-6"}]
[null,"370-E W U","149-6 HE Operating Fees-Non-Appr",{"$f":"LEFT(Table_clallam_Oversight_ActiveFunds[[#This Row],[Fund]],5)","v":"149-6"}]
[null,"370-E W U","24J-1 Workforce Ed Invest-State",{"$f":"LEFT(Table_clallam_Oversight_ActiveFunds[[#This Row],[Fund]],5)","v":"24J-1"}]
[null,"375-C W U","001-1 General Fund-State",{"$f":"LEFT(Table_clallam_Oversight_ActiveFunds[[#This Row],[Fund]],5)","v":"001-1"}]
[null,"375-C W U","063-1 CWU Capital Projects-State",{"$f":"LEFT(Table_clallam_Oversight_ActiveFunds[[#This Row],[Fund]],5)","v":"063-1"}]
[null,"375-C W U","08A-1 Education Legacy T A-State",{"$f":"LEFT(Table_clallam_Oversight_ActiveFunds[[#This Row],[Fund]],5)","v":"08A-1"}]
[null,"375-C W U","145-6 HE Grants/Contract-Non-Appr",{"$f":"LEFT(Table_clallam_Oversight_ActiveFunds[[#This Row],[Fund]],5)","v":"145-6"}]
[null,"375-C W U","148-6 HE Dedicated Local-Non-Appr",{"$f":"LEFT(Table_clallam_Oversight_ActiveFunds[[#This Row],[Fund]],5)","v":"148-6"}]
[null,"375-C W U","149-6 HE Operating Fees-Non-Appr",{"$f":"LEFT(Table_clallam_Oversight_ActiveFunds[[#This Row],[Fund]],5)","v":"149-6"}]
[null,"375-C W U","24J-1 Workforce Ed Invest-State",{"$f":"LEFT(Table_clallam_Oversight_ActiveFunds[[#This Row],[Fund]],5)","v":"24J-1"}]
[null,"376-T E S C","001-1 General Fund-State",{"$f":"LEFT(Table_clallam_Oversight_ActiveFunds[[#This Row],[Fund]],5)","v":"001-1"}]
[null,"376-T E S C","066-1 TESC Capital Project-State",{"$f":"LEFT(Table_clallam_Oversight_ActiveFunds[[#This Row],[Fund]],5)","v":"066-1"}]
[null,"376-T E S C","08A-1 Education Legacy T A-State",{"$f":"LEFT(Table_clallam_Oversight_ActiveFunds[[#This Row],[Fund]],5)","v":"08A-1"}]
[null,"376-T E S C","145-6 HE Grants/Contract-Non-Appr",{"$f":"LEFT(Table_clallam_Oversight_ActiveFunds[[#This Row],[Fund]],5)","v":"145-6"}]
[null,"376-T E S C","148-6 HE Dedicated Local-Non-Appr",{"$f":"LEFT(Table_clallam_Oversight_ActiveFunds[[#This Row],[Fund]],5)","v":"148-6"}]
[null,"376-T E S C","149-6 HE Operating Fees-Non-Appr",{"$f":"LEFT(Table_clallam_Oversight_ActiveFunds[[#This Row],[Fund]],5)","v":"149-6"}]
[null,"376-T E S C","24J-1 Workforce Ed Invest-State",{"$f":"LEFT(Table_clallam_Oversight_ActiveFunds[[#This Row],[Fund]],5)","v":"24J-1"}]
[null,"376-T E S C","108-1 Motor Vehicle Acct-State",{"$f":"LEFT(Table_clallam_Oversight_ActiveFunds[[#This Row],[Fund]],5)","v":"108-1"}]
[null,"380-W W U","001-1 General Fund-State",{"$f":"LEFT(Table_clallam_Oversight_ActiveFunds[[#This Row],[Fund]],5)","v":"001-1"}]
[null,"380-W W U","065-1 WWU Capital Projects-State",{"$f":"LEFT(Table_clallam_Oversight_ActiveFunds[[#This Row],[Fund]],5)","v":"065-1"}]
[null,"380-W W U","08A-1 Education Legacy T A-State",{"$f":"LEFT(Table_clallam_Oversight_ActiveFunds[[#This Row],[Fund]],5)","v":"08A-1"}]
[null,"380-W W U","145-6 HE Grants/Contract-Non-Appr",{"$f":"LEFT(Table_clallam_Oversight_ActiveFunds[[#This Row],[Fund]],5)","v":"145-6"}]
[null,"380-W W U","148-6 HE Dedicated Local-Non-Appr",{"$f":"LEFT(Table_clallam_Oversight_ActiveFunds[[#This Row],[Fund]],5)","v":"148-6"}]
[null,"380-W W U","149-6 HE Operating Fees-Non-Appr",{"$f":"LEFT(Table_clallam_Oversight_ActiveFunds[[#This Row],[Fund]],5)","v":"149-6"}]
[null,"380-W W U","24J-1 Workforce Ed Invest-State",{"$f":"LEFT(Table_clallam_Oversight_ActiveFunds[[#This Row],[Fund]],5)","v":"24J-1"}]
[null,"387-Arts Commission","001-1 General Fund-State",{"$f":"LEFT(Table_clallam_Oversight_ActiveFunds[[#This Row],[Fund]],5)","v":"001-1"}]
[null,"387-Arts Commission","001-2 General Fund-Federal",{"$f":"LEFT(Table_clallam_Oversight_ActiveFunds[[#This Row],[Fund]],5)","v":"001-2"}]
[null,"387-Arts Commission","001-7 General Fund-Local",{"$f":"LEFT(Table_clallam_Oversight_ActiveFunds[[#This Row],[Fund]],5)","v":"001-7"}]
[null,"387-Arts Commission","001-H General Fund-ARPA",{"$f":"LEFT(Table_clallam_Oversight_ActiveFunds[[#This Row],[Fund]],5)","v":"001-H"}]
[null,"387-Arts Commission","001-Y General Fund-Oth UAR",{"$f":"LEFT(Table_clallam_Oversight_ActiveFunds[[#This Row],[Fund]],5)","v":"001-Y"}]
[null,"387-Arts Commission","706-2 COVID Fiscal Recover-Federal",{"$f":"LEFT(Table_clallam_Oversight_ActiveFunds[[#This Row],[Fund]],5)","v":"706-2"}]
[null,"390-Historical Society","001-1 General Fund-State",{"$f":"LEFT(Table_clallam_Oversight_ActiveFunds[[#This Row],[Fund]],5)","v":"001-1"}]
[null,"390-Historical Society","184-6 St Hist Museum Fund-Non-Appr",{"$f":"LEFT(Table_clallam_Oversight_ActiveFunds[[#This Row],[Fund]],5)","v":"184-6"}]
[null,"395-East WA St Hist","001-1 General Fund-State",{"$f":"LEFT(Table_clallam_Oversight_ActiveFunds[[#This Row],[Fund]],5)","v":"001-1"}]
[null,"395-East WA St Hist","185-6 East Wa Museum Acct-Non-Appr",{"$f":"LEFT(Table_clallam_Oversight_ActiveFunds[[#This Row],[Fund]],5)","v":"185-6"}]
[null,"405-Dept Transportation","02M-1 Essential Rail Asst-State",{"$f":"LEFT(Table_clallam_Oversight_ActiveFunds[[#This Row],[Fund]],5)","v":"02M-1"}]
[null,"405-Dept Transportation","039-1 Aeronautics-State",{"$f":"LEFT(Table_clallam_Oversight_ActiveFunds[[#This Row],[Fund]],5)","v":"039-1"}]
[null,"405-Dept Transportation","039-2 Aeronautics-Federal",{"$f":"LEFT(Table_clallam_Oversight_ActiveFunds[[#This Row],[Fund]],5)","v":"039-2"}]
[null,"405-Dept Transportation","039-7 Aeronautics-Local",{"$f":"LEFT(Table_clallam_Oversight_ActiveFunds[[#This Row],[Fund]],5)","v":"039-7"}]
[null,"405-Dept Transportation","045-1 State Veh Park Acct-State",{"$f":"LEFT(Table_clallam_Oversight_ActiveFunds[[#This Row],[Fund]],5)","v":"045-1"}]
[null,"405-Dept Transportation","08R-1 Waste Tire Removal A-State",{"$f":"LEFT(Table_clallam_Oversight_ActiveFunds[[#This Row],[Fund]],5)","v":"08R-1"}]
[null,"405-Dept Transportation","094-1 Trans Infrastructure-State",{"$f":"LEFT(Table_clallam_Oversight_ActiveFunds[[#This Row],[Fund]],5)","v":"094-1"}]
[null,"405-Dept Transportation","096-1 Hwy Infrastructure-State",{"$f":"LEFT(Table_clallam_Oversight_ActiveFunds[[#This Row],[Fund]],5)","v":"096-1"}]
[null,"405-Dept Transportation","096-2 Hwy Infrastructure-Federal",{"$f":"LEFT(Table_clallam_Oversight_ActiveFunds[[#This Row],[Fund]],5)","v":"096-2"}]
[null,"405-Dept Transportation","097-1 R V Account-State",{"$f":"LEFT(Table_clallam_Oversight_ActiveFunds[[#This Row],[Fund]],5)","v":"097-1"}]
[null,"405-Dept Transportation","099-1 PS Cap Construction-State",{"$f":"LEFT(Table_clallam_Oversight_ActiveFunds[[#This Row],[Fund]],5)","v":"099-1"}]
[null,"405-Dept Transportation","099-2 PS Cap Construction-Federal",{"$f":"LEFT(Table_clallam_Oversight_ActiveFunds[[#This Row],[Fund]],5)","v":"099-2"}]
[null,"405-Dept Transportation","099-7 PS Cap Construction-Local",{"$f":"LEFT(Table_clallam_Oversight_ActiveFunds[[#This Row],[Fund]],5)","v":"099-7"}]
[null,"405-Dept Transportation","09H-1 Transpo Partner Acct-State",{"$f":"LEFT(Table_clallam_Oversight_ActiveFunds[[#This Row],[Fund]],5)","v":"09H-1"}]
[null,"405-Dept Transportation","09H-T Transpo Partner Acct-Bonds",{"$f":"LEFT(Table_clallam_Oversight_ActiveFunds[[#This Row],[Fund]],5)","v":"09H-T"}]
[null,"405-Dept Transportation","108-1 Motor Vehicle Acct-State",{"$f":"LEFT(Table_clallam_Oversight_ActiveFunds[[#This Row],[Fund]],5)","v":"108-1"}]
[null,"405-Dept Transportation","108-2 Motor Vehicle Acct-Federal",{"$f":"LEFT(Table_clallam_Oversight_ActiveFunds[[#This Row],[Fund]],5)","v":"108-2"}]
[null,"405-Dept Transportation","108-7 Motor Vehicle Acct-Local",{"$f":"LEFT(Table_clallam_Oversight_ActiveFunds[[#This Row],[Fund]],5)","v":"108-7"}]
[null,"405-Dept Transportation","109-1 Puget Sd Ferry Oper-State",{"$f":"LEFT(Table_clallam_Oversight_ActiveFunds[[#This Row],[Fund]],5)","v":"109-1"}]
[null,"405-Dept Transportation","109-2 Puget Sd Ferry Oper-Federal",{"$f":"LEFT(Table_clallam_Oversight_ActiveFunds[[#This Row],[Fund]],5)","v":"109-2"}]
[null,"405-Dept Transportation","109-7 Puget Sd Ferry Oper-Local",{"$f":"LEFT(Table_clallam_Oversight_ActiveFunds[[#This Row],[Fund]],5)","v":"109-7"}]
[null,"405-Dept Transportation","11B-1 Regnl Mob Grnt Acct-State",{"$f":"LEFT(Table_clallam_Oversight_ActiveFunds[[#This Row],[Fund]],5)","v":"11B-1"}]
[null,"405-Dept Transportation","153-1 Rural Mobility-State",{"$f":"LEFT(Table_clallam_Oversight_ActiveFunds[[#This Row],[Fund]],5)","v":"153-1"}]
[null,"405-Dept Transportation","16J-1 SR 520 Corridor Acct-State",{"$f":"LEFT(Table_clallam_Oversight_ActiveFunds[[#This Row],[Fund]],5)","v":"16J-1"}]
[null,"405-Dept Transportation","17P-1 SR 520 Civil Penalty-State",{"$f":"LEFT(Table_clallam_Oversight_ActiveFunds[[#This Row],[Fund]],5)","v":"17P-1"}]
[null,"405-Dept Transportation","18J-1 Capital Vessel Repla-State",{"$f":"LEFT(Table_clallam_Oversight_ActiveFunds[[#This Row],[Fund]],5)","v":"18J-1"}]
[null,"405-Dept Transportation","20H-1 Connecting WA Acct-State",{"$f":"LEFT(Table_clallam_Oversight_ActiveFunds[[#This Row],[Fund]],5)","v":"20H-1"}]
[null,"405-Dept Transportation","20H-T Connecting WA Acct-Bonds",{"$f":"LEFT(Table_clallam_Oversight_ActiveFunds[[#This Row],[Fund]],5)","v":"20H-T"}]
[null,"405-Dept Transportation","20J-1 Electric Vehicle-State",{"$f":"LEFT(Table_clallam_Oversight_ActiveFunds[[#This Row],[Fund]],5)","v":"20J-1"}]
[null,"405-Dept Transportation","215-1 Special Category C-State",{"$f":"LEFT(Table_clallam_Oversight_ActiveFunds[[#This Row],[Fund]],5)","v":"215-1"}]
[null,"405-Dept Transportation","215-T Special Category C-Bonds",{"$f":"LEFT(Table_clallam_Oversight_ActiveFunds[[#This Row],[Fund]],5)","v":"215-T"}]
[null,"405-Dept Transportation","218-1 Multimodal Acct-State",{"$f":"LEFT(Table_clallam_Oversight_ActiveFunds[[#This Row],[Fund]],5)","v":"218-1"}]
[null,"405-Dept Transportation","218-2 Multimodal Acct-Federal",{"$f":"LEFT(Table_clallam_Oversight_ActiveFunds[[#This Row],[Fund]],5)","v":"218-2"}]
[null,"405-Dept Transportation","218-7 Multimodal Acct-Local",{"$f":"LEFT(Table_clallam_Oversight_ActiveFunds[[#This Row],[Fund]],5)","v":"218-7"}]
[null,"405-Dept Transportation","218-8 Multimodal Acct-Fed Stim",{"$f":"LEFT(Table_clallam_Oversight_ActiveFunds[[#This Row],[Fund]],5)","v":"218-8"}]
[null,"405-Dept Transportation","23S-1 PS Gateway Facility-State",{"$f":"LEFT(Table_clallam_Oversight_ActiveFunds[[#This Row],[Fund]],5)","v":"23S-1"}]
[null,"405-Dept Transportation","24K-1 Agy Finan Trans Acct-State",{"$f":"LEFT(Table_clallam_Oversight_ActiveFunds[[#This Row],[Fund]],5)","v":"24K-1"}]
[null,"405-Dept Transportation","26A-1 Carbon Emissions Red-State",{"$f":"LEFT(Table_clallam_Oversight_ActiveFunds[[#This Row],[Fund]],5)","v":"26A-1"}]
[null,"405-Dept Transportation","26M-1 Climate Actv Transpo-State",{"$f":"LEFT(Table_clallam_Oversight_ActiveFunds[[#This Row],[Fund]],5)","v":"26M-1"}]
[null,"405-Dept Transportation","26N-1 Climate Transit Pgms-State",{"$f":"LEFT(Table_clallam_Oversight_ActiveFunds[[#This Row],[Fund]],5)","v":"26N-1"}]
[null,"405-Dept Transportation","26P-1 Move Ahead WA Acct-State",{"$f":"LEFT(Table_clallam_Oversight_ActiveFunds[[#This Row],[Fund]],5)","v":"26P-1"}]
[null,"405-Dept Transportation","26P-2 Move Ahead WA Acct-Federal",{"$f":"LEFT(Table_clallam_Oversight_ActiveFunds[[#This Row],[Fund]],5)","v":"26P-2"}]
[null,"405-Dept Transportation","26Q-1 Move Ahead WA Flex-State",{"$f":"LEFT(Table_clallam_Oversight_ActiveFunds[[#This Row],[Fund]],5)","v":"26Q-1"}]
[null,"405-Dept Transportation","26Q-2 Move Ahead WA Flex-Federal",{"$f":"LEFT(Table_clallam_Oversight_ActiveFunds[[#This Row],[Fund]],5)","v":"26Q-2"}]
[null,"405-Dept Transportation","410-6 Transp Equipment Acc-Non-Appr",{"$f":"LEFT(Table_clallam_Oversight_ActiveFunds[[#This Row],[Fund]],5)","v":"410-6"}]
[null,"405-Dept Transportation","511-1 Tacoma Narrows Toll-State",{"$f":"LEFT(Table_clallam_Oversight_ActiveFunds[[#This Row],[Fund]],5)","v":"511-1"}]
[null,"405-Dept Transportation","535-1 Alaskan Way Viaduct-State",{"$f":"LEFT(Table_clallam_Oversight_ActiveFunds[[#This Row],[Fund]],5)","v":"535-1"}]
[null,"405-Dept Transportation","550-1 Transp 2003 (Nickel)-State",{"$f":"LEFT(Table_clallam_Oversight_ActiveFunds[[#This Row],[Fund]],5)","v":"550-1"}]
[null,"405-Dept Transportation","571-1 Multiuse Roadway Saf-State",{"$f":"LEFT(Table_clallam_Oversight_ActiveFunds[[#This Row],[Fund]],5)","v":"571-1"}]
[null,"405-Dept Transportation","595-1 I-405/SR167 Exp Toll - State",{"$f":"LEFT(Table_clallam_Oversight_ActiveFunds[[#This Row],[Fund]],5)","v":"595-1"}]
[null,"405-Dept Transportation","706-2 COVID Fiscal Recover-Federal",{"$f":"LEFT(Table_clallam_Oversight_ActiveFunds[[#This Row],[Fund]],5)","v":"706-2"}]
[null,"406-County Road Admin Bd","102-1 Rural Arterial Trust-State",{"$f":"LEFT(Table_clallam_Oversight_ActiveFunds[[#This Row],[Fund]],5)","v":"102-1"}]
[null,"406-County Road Admin Bd","108-1 Motor Vehicle Acct-State",{"$f":"LEFT(Table_clallam_Oversight_ActiveFunds[[#This Row],[Fund]],5)","v":"108-1"}]
[null,"406-County Road Admin Bd","186-1 County Arterial Pres-State",{"$f":"LEFT(Table_clallam_Oversight_ActiveFunds[[#This Row],[Fund]],5)","v":"186-1"}]
[null,"406-County Road Admin Bd","23M-6 CRAB Emer Loan Acct-Non-Appr",{"$f":"LEFT(Table_clallam_Oversight_ActiveFunds[[#This Row],[Fund]],5)","v":"23M-6"}]
[null,"406-County Road Admin Bd","26P-1 Move Ahead WA Acct-State",{"$f":"LEFT(Table_clallam_Oversight_ActiveFunds[[#This Row],[Fund]],5)","v":"26P-1"}]
[null,"407-Transpo Improve Bd","08M-1 Small City Pave/Side-State",{"$f":"LEFT(Table_clallam_Oversight_ActiveFunds[[#This Row],[Fund]],5)","v":"08M-1"}]
[null,"407-Transpo Improve Bd","144-1 Tran Improv Account-State",{"$f":"LEFT(Table_clallam_Oversight_ActiveFunds[[#This Row],[Fund]],5)","v":"144-1"}]
[null,"407-Transpo Improve Bd","17N-1 Complete Streets Gra-State",{"$f":"LEFT(Table_clallam_Oversight_ActiveFunds[[#This Row],[Fund]],5)","v":"17N-1"}]
[null,"407-Transpo Improve Bd","26M-1 Climate Actv Transpo-State",{"$f":"LEFT(Table_clallam_Oversight_ActiveFunds[[#This Row],[Fund]],5)","v":"26M-1"}]
[null,"407-Transpo Improve Bd","26P-1 Move Ahead WA Acct-State",{"$f":"LEFT(Table_clallam_Oversight_ActiveFunds[[#This Row],[Fund]],5)","v":"26P-1"}]
[null,"410-Transportation Comm","108-1 Motor Vehicle Acct-State",{"$f":"LEFT(Table_clallam_Oversight_ActiveFunds[[#This Row],[Fund]],5)","v":"108-1"}]
[null,"410-Transportation Comm","16J-1 SR 520 Corridor Acct-State",{"$f":"LEFT(Table_clallam_Oversight_ActiveFunds[[#This Row],[Fund]],5)","v":"16J-1"}]
[null,"410-Transportation Comm","511-1 Tacoma Narrows Toll-State",{"$f":"LEFT(Table_clallam_Oversight_ActiveFunds[[#This Row],[Fund]],5)","v":"511-1"}]
[null,"410-Transportation Comm","535-1 Alaskan Way Viaduct-State",{"$f":"LEFT(Table_clallam_Oversight_ActiveFunds[[#This Row],[Fund]],5)","v":"535-1"}]
[null,"410-Transportation Comm","595-1 I-405/SR167 Exp Toll - State",{"$f":"LEFT(Table_clallam_Oversight_ActiveFunds[[#This Row],[Fund]],5)","v":"595-1"}]
[null,"411-FMSIB","09E-1 Freight Mobil Inv A-State",{"$f":"LEFT(Table_clallam_Oversight_ActiveFunds[[#This Row],[Fund]],5)","v":"09E-1"}]
[null,"411-FMSIB","11E-1 Freight Mblty Multi-State",{"$f":"LEFT(Table_clallam_Oversight_ActiveFunds[[#This Row],[Fund]],5)","v":"11E-1"}]
[null,"460-Columbia River Gorge","001-1 General Fund-State",{"$f":"LEFT(Table_clallam_Oversight_ActiveFunds[[#This Row],[Fund]],5)","v":"001-1"}]
[null,"460-Columbia River Gorge","001-2 General Fund-Federal",{"$f":"LEFT(Table_clallam_Oversight_ActiveFunds[[#This Row],[Fund]],5)","v":"001-2"}]
[null,"460-Columbia River Gorge","001-7 General Fund-Local",{"$f":"LEFT(Table_clallam_Oversight_ActiveFunds[[#This Row],[Fund]],5)","v":"001-7"}]
[null,"461-Dept of Ecology","001-1 General Fund-State",{"$f":"LEFT(Table_clallam_Oversight_ActiveFunds[[#This Row],[Fund]],5)","v":"001-1"}]
[null,"461-Dept of Ecology","001-2 General Fund-Federal",{"$f":"LEFT(Table_clallam_Oversight_ActiveFunds[[#This Row],[Fund]],5)","v":"001-2"}]
[null,"461-Dept of Ecology","001-7 General Fund-Local",{"$f":"LEFT(Table_clallam_Oversight_ActiveFunds[[#This Row],[Fund]],5)","v":"001-7"}]
[null,"461-Dept of Ecology","027-1 Reclamation Acct-State",{"$f":"LEFT(Table_clallam_Oversight_ActiveFunds[[#This Row],[Fund]],5)","v":"027-1"}]
[null,"461-Dept of Ecology","02P-1 Flood Control Assist-State",{"$f":"LEFT(Table_clallam_Oversight_ActiveFunds[[#This Row],[Fund]],5)","v":"02P-1"}]
[null,"461-Dept of Ecology","02R-1 Aquatic Lands Acct-State",{"$f":"LEFT(Table_clallam_Oversight_ActiveFunds[[#This Row],[Fund]],5)","v":"02R-1"}]
[null,"461-Dept of Ecology","032-1 Emergency Water Proj-State",{"$f":"LEFT(Table_clallam_Oversight_ActiveFunds[[#This Row],[Fund]],5)","v":"032-1"}]
[null,"461-Dept of Ecology","044-1 Waste Reduct/Recycle-State",{"$f":"LEFT(Table_clallam_Oversight_ActiveFunds[[#This Row],[Fund]],5)","v":"044-1"}]
[null,"461-Dept of Ecology","05W-1 St Drought Prepare-State",{"$f":"LEFT(Table_clallam_Oversight_ActiveFunds[[#This Row],[Fund]],5)","v":"05W-1"}]
[null,"461-Dept of Ecology","072-1 Improv-Water Supply - State",{"$f":"LEFT(Table_clallam_Oversight_ActiveFunds[[#This Row],[Fund]],5)","v":"072-1"}]
[null,"461-Dept of Ecology","10G-1 Water Rights Track-State",{"$f":"LEFT(Table_clallam_Oversight_ActiveFunds[[#This Row],[Fund]],5)","v":"10G-1"}]
[null,"461-Dept of Ecology","116-6 Basic Data Account-Non-Appr",{"$f":"LEFT(Table_clallam_Oversight_ActiveFunds[[#This Row],[Fund]],5)","v":"116-6"}]
[null,"461-Dept of Ecology","11J-6 Elec Product Recycle-Non-Appr",{"$f":"LEFT(Table_clallam_Oversight_ActiveFunds[[#This Row],[Fund]],5)","v":"11J-6"}]
[null,"461-Dept of Ecology","125-1 Site Closure Account-State",{"$f":"LEFT(Table_clallam_Oversight_ActiveFunds[[#This Row],[Fund]],5)","v":"125-1"}]
[null,"461-Dept of Ecology","160-1 Wood Stove Education-State",{"$f":"LEFT(Table_clallam_Oversight_ActiveFunds[[#This Row],[Fund]],5)","v":"160-1"}]
[null,"461-Dept of Ecology","163-1 Worker & Comm Right-State",{"$f":"LEFT(Table_clallam_Oversight_ActiveFunds[[#This Row],[Fund]],5)","v":"163-1"}]
[null,"461-Dept of Ecology","16T-6 Product Stewardship-Non-Appr",{"$f":"LEFT(Table_clallam_Oversight_ActiveFunds[[#This Row],[Fund]],5)","v":"16T-6"}]
[null,"461-Dept of Ecology","16V-1 Water Rights Process-State",{"$f":"LEFT(Table_clallam_Oversight_ActiveFunds[[#This Row],[Fund]],5)","v":"16V-1"}]
[null,"461-Dept of Ecology","176-1 Water Quality Permit-State",{"$f":"LEFT(Table_clallam_Oversight_ActiveFunds[[#This Row],[Fund]],5)","v":"176-1"}]
[null,"461-Dept of Ecology","182-1 Underground Storage-State",{"$f":"LEFT(Table_clallam_Oversight_ActiveFunds[[#This Row],[Fund]],5)","v":"182-1"}]
[null,"461-Dept of Ecology","199-1 Biosolids Prmt Acct-State",{"$f":"LEFT(Table_clallam_Oversight_ActiveFunds[[#This Row],[Fund]],5)","v":"199-1"}]
[null,"461-Dept of Ecology","207-1 Hazardous Waste-State",{"$f":"LEFT(Table_clallam_Oversight_ActiveFunds[[#This Row],[Fund]],5)","v":"207-1"}]
[null,"461-Dept of Ecology","20R-1 Radioactive Mixed-State",{"$f":"LEFT(Table_clallam_Oversight_ActiveFunds[[#This Row],[Fund]],5)","v":"20R-1"}]
[null,"461-Dept of Ecology","216-1 Air Poll Contr Acct-State",{"$f":"LEFT(Table_clallam_Oversight_ActiveFunds[[#This Row],[Fund]],5)","v":"216-1"}]
[null,"461-Dept of Ecology","217-1 Oil Spill Prevn Acct-State",{"$f":"LEFT(Table_clallam_Oversight_ActiveFunds[[#This Row],[Fund]],5)","v":"217-1"}]
[null,"461-Dept of Ecology","219-1 Air Oper Permit Acct-State",{"$f":"LEFT(Table_clallam_Oversight_ActiveFunds[[#This Row],[Fund]],5)","v":"219-1"}]
[null,"461-Dept of Ecology","21H-1 WWT Plant Oper Cert-State",{"$f":"LEFT(Table_clallam_Oversight_ActiveFunds[[#This Row],[Fund]],5)","v":"21H-1"}]
[null,"461-Dept of Ecology","223-1 Oil Spill Response-State",{"$f":"LEFT(Table_clallam_Oversight_ActiveFunds[[#This Row],[Fund]],5)","v":"223-1"}]
[null,"461-Dept of Ecology","22G-6 Photovolt Mod Rcycl-Non-Appr",{"$f":"LEFT(Table_clallam_Oversight_ActiveFunds[[#This Row],[Fund]],5)","v":"22G-6"}]
[null,"461-Dept of Ecology","23P-1 Model Toxics Oper-State",{"$f":"LEFT(Table_clallam_Oversight_ActiveFunds[[#This Row],[Fund]],5)","v":"23P-1"}]
[null,"461-Dept of Ecology","23P-7 Model Toxics Oper-Local",{"$f":"LEFT(Table_clallam_Oversight_ActiveFunds[[#This Row],[Fund]],5)","v":"23P-7"}]
[null,"461-Dept of Ecology","23R-1 Model Toxics Strmwtr-State",{"$f":"LEFT(Table_clallam_Oversight_ActiveFunds[[#This Row],[Fund]],5)","v":"23R-1"}]
[null,"461-Dept of Ecology","23V-1 Voluntary Cleanup Ac-State",{"$f":"LEFT(Table_clallam_Oversight_ActiveFunds[[#This Row],[Fund]],5)","v":"23V-1"}]
[null,"461-Dept of Ecology","23W-1 Paint Prdct Steward-State",{"$f":"LEFT(Table_clallam_Oversight_ActiveFunds[[#This Row],[Fund]],5)","v":"23W-1"}]
[null,"461-Dept of Ecology","25Q-1 Clean Fuels Pgm Acct-State",{"$f":"LEFT(Table_clallam_Oversight_ActiveFunds[[#This Row],[Fund]],5)","v":"25Q-1"}]
[null,"461-Dept of Ecology","25R-6 Recycled Content Acc-Non-Appr",{"$f":"LEFT(Table_clallam_Oversight_ActiveFunds[[#This Row],[Fund]],5)","v":"25R-6"}]
[null,"461-Dept of Ecology","26B-1 Climate Investment-State",{"$f":"LEFT(Table_clallam_Oversight_ActiveFunds[[#This Row],[Fund]],5)","v":"26B-1"}]
[null,"461-Dept of Ecology","315-1 Dedicated Cannabis-State",{"$f":"LEFT(Table_clallam_Oversight_ActiveFunds[[#This Row],[Fund]],5)","v":"315-1"}]
[null,"461-Dept of Ecology","408-6 Coastal Protec Acct-Non-Appr",{"$f":"LEFT(Table_clallam_Oversight_ActiveFunds[[#This Row],[Fund]],5)","v":"408-6"}]
[null,"461-Dept of Ecology","564-1 Water Poll Ctrl Adm-State",{"$f":"LEFT(Table_clallam_Oversight_ActiveFunds[[#This Row],[Fund]],5)","v":"564-1"}]
[null,"461-Dept of Ecology","08R-1 Waste Tire Removal A-State",{"$f":"LEFT(Table_clallam_Oversight_ActiveFunds[[#This Row],[Fund]],5)","v":"08R-1"}]
[null,"462-Pollution Liab Insur","001-2 General Fund-Federal",{"$f":"LEFT(Table_clallam_Oversight_ActiveFunds[[#This Row],[Fund]],5)","v":"001-2"}]
[null,"462-Pollution Liab Insur","20T-1 PLIA UST Revolving-State",{"$f":"LEFT(Table_clallam_Oversight_ActiveFunds[[#This Row],[Fund]],5)","v":"20T-1"}]
[null,"462-Pollution Liab Insur","544-1 Pollution Liab Insur-State",{"$f":"LEFT(Table_clallam_Oversight_ActiveFunds[[#This Row],[Fund]],5)","v":"544-1"}]
[null,"462-Pollution Liab Insur","545-6 Heating Oil Pollut-Non-Appr",{"$f":"LEFT(Table_clallam_Oversight_ActiveFunds[[#This Row],[Fund]],5)","v":"545-6"}]
[null,"463-Energy Fac Site Eval","001-1 General Fund-State",{"$f":"LEFT(Table_clallam_Oversight_ActiveFunds[[#This Row],[Fund]],5)","v":"001-1"}]
[null,"463-Energy Fac Site Eval","26G-7 Energy Fac Site Eval-Local",{"$f":"LEFT(Table_clallam_Oversight_ActiveFunds[[#This Row],[Fund]],5)","v":"26G-7"}]
[null,"465-Parks & Rec Comm","001-1 General Fund-State",{"$f":"LEFT(Table_clallam_Oversight_ActiveFunds[[#This Row],[Fund]],5)","v":"001-1"}]
[null,"465-Parks & Rec Comm","001-2 General Fund-Federal",{"$f":"LEFT(Table_clallam_Oversight_ActiveFunds[[#This Row],[Fund]],5)","v":"001-2"}]
[null,"465-Parks & Rec Comm","007-1 Winter Recreation-State",{"$f":"LEFT(Table_clallam_Oversight_ActiveFunds[[#This Row],[Fund]],5)","v":"007-1"}]
[null,"465-Parks & Rec Comm","018-1 Millersylvania Park-State",{"$f":"LEFT(Table_clallam_Oversight_ActiveFunds[[#This Row],[Fund]],5)","v":"018-1"}]
[null,"465-Parks & Rec Comm","01B-1 ORV/NonHiwy Veh Acct-State",{"$f":"LEFT(Table_clallam_Oversight_ActiveFunds[[#This Row],[Fund]],5)","v":"01B-1"}]
[null,"465-Parks & Rec Comm","01M-1 Snowmobile Account-State",{"$f":"LEFT(Table_clallam_Oversight_ActiveFunds[[#This Row],[Fund]],5)","v":"01M-1"}]
[null,"465-Parks & Rec Comm","02R-1 Aquatic Lands Acct-State",{"$f":"LEFT(Table_clallam_Oversight_ActiveFunds[[#This Row],[Fund]],5)","v":"02R-1"}]
[null,"465-Parks & Rec Comm","08P-6 State Parks Ed Enh-Non-Appr",{"$f":"LEFT(Table_clallam_Oversight_ActiveFunds[[#This Row],[Fund]],5)","v":"08P-6"}]
[null,"465-Parks & Rec Comm","09B-6 Boating Safety Ed C-Non-Appr",{"$f":"LEFT(Table_clallam_Oversight_ActiveFunds[[#This Row],[Fund]],5)","v":"09B-6"}]
[null,"465-Parks & Rec Comm","12L-6 Outdoor Ed & Rec-Non-Appr",{"$f":"LEFT(Table_clallam_Oversight_ActiveFunds[[#This Row],[Fund]],5)","v":"12L-6"}]
[null,"465-Parks & Rec Comm","159-6 Parks Improvement Ac-Non-Appr",{"$f":"LEFT(Table_clallam_Oversight_ActiveFunds[[#This Row],[Fund]],5)","v":"159-6"}]
[null,"465-Parks & Rec Comm","269-1 Parks Renewal Acct-State",{"$f":"LEFT(Table_clallam_Oversight_ActiveFunds[[#This Row],[Fund]],5)","v":"269-1"}]
[null,"465-Parks & Rec Comm","269-7 Parks Renewal Acct-Local",{"$f":"LEFT(Table_clallam_Oversight_ActiveFunds[[#This Row],[Fund]],5)","v":"269-7"}]
[null,"465-Parks & Rec Comm","108-1 Motor Vehicle Acct-State",{"$f":"LEFT(Table_clallam_Oversight_ActiveFunds[[#This Row],[Fund]],5)","v":"108-1"}]
[null,"467-Rec & Conservation","001-1 General Fund-State",{"$f":"LEFT(Table_clallam_Oversight_ActiveFunds[[#This Row],[Fund]],5)","v":"001-1"}]
[null,"467-Rec & Conservation","001-2 General Fund-Federal",{"$f":"LEFT(Table_clallam_Oversight_ActiveFunds[[#This Row],[Fund]],5)","v":"001-2"}]
[null,"467-Rec & Conservation","001-7 General Fund-Local",{"$f":"LEFT(Table_clallam_Oversight_ActiveFunds[[#This Row],[Fund]],5)","v":"001-7"}]
[null,"467-Rec & Conservation","02R-1 Aquatic Lands Acct-State",{"$f":"LEFT(Table_clallam_Oversight_ActiveFunds[[#This Row],[Fund]],5)","v":"02R-1"}]
[null,"467-Rec & Conservation","06A-1 Salmon Recovery Acct-State",{"$f":"LEFT(Table_clallam_Oversight_ActiveFunds[[#This Row],[Fund]],5)","v":"06A-1"}]
[null,"467-Rec & Conservation","146-1 Firearms Range Acct-State",{"$f":"LEFT(Table_clallam_Oversight_ActiveFunds[[#This Row],[Fund]],5)","v":"146-1"}]
[null,"467-Rec & Conservation","267-1 Recreation Resources-State",{"$f":"LEFT(Table_clallam_Oversight_ActiveFunds[[#This Row],[Fund]],5)","v":"267-1"}]
[null,"467-Rec & Conservation","268-1 NOVA Program Account-State",{"$f":"LEFT(Table_clallam_Oversight_ActiveFunds[[#This Row],[Fund]],5)","v":"268-1"}]
[null,"467-Rec & Conservation","818-1 Youth Athletic Facil-State",{"$f":"LEFT(Table_clallam_Oversight_ActiveFunds[[#This Row],[Fund]],5)","v":"818-1"}]
[null,"468-Env & Land Use Hrg","001-1 General Fund-State",{"$f":"LEFT(Table_clallam_Oversight_ActiveFunds[[#This Row],[Fund]],5)","v":"001-1"}]
[null,"471-Conservation Comm","001-1 General Fund-State",{"$f":"LEFT(Table_clallam_Oversight_ActiveFunds[[#This Row],[Fund]],5)","v":"001-1"}]
[null,"471-Conservation Comm","001-2 General Fund-Federal",{"$f":"LEFT(Table_clallam_Oversight_ActiveFunds[[#This Row],[Fund]],5)","v":"001-2"}]
[null,"471-Conservation Comm","001-7 General Fund-Local",{"$f":"LEFT(Table_clallam_Oversight_ActiveFunds[[#This Row],[Fund]],5)","v":"001-7"}]
[null,"471-Conservation Comm","058-1 Public Works Assist-State",{"$f":"LEFT(Table_clallam_Oversight_ActiveFunds[[#This Row],[Fund]],5)","v":"058-1"}]
[null,"471-Conservation Comm","06A-1 Salmon Recovery Acct-State",{"$f":"LEFT(Table_clallam_Oversight_ActiveFunds[[#This Row],[Fund]],5)","v":"06A-1"}]
[null,"471-Conservation Comm","23P-1 Model Toxics Oper-State",{"$f":"LEFT(Table_clallam_Oversight_ActiveFunds[[#This Row],[Fund]],5)","v":"23P-1"}]
[null,"477-Fish & Wildlife","001-1 General Fund-State",{"$f":"LEFT(Table_clallam_Oversight_ActiveFunds[[#This Row],[Fund]],5)","v":"001-1"}]
[null,"477-Fish & Wildlife","001-2 General Fund-Federal",{"$f":"LEFT(Table_clallam_Oversight_ActiveFunds[[#This Row],[Fund]],5)","v":"001-2"}]
[null,"477-Fish & Wildlife","001-7 General Fund-Local",{"$f":"LEFT(Table_clallam_Oversight_ActiveFunds[[#This Row],[Fund]],5)","v":"001-7"}]
[null,"477-Fish & Wildlife","01B-1 ORV/NonHiwy Veh Acct-State",{"$f":"LEFT(Table_clallam_Oversight_ActiveFunds[[#This Row],[Fund]],5)","v":"01B-1"}]
[null,"477-Fish & Wildlife","02R-1 Aquatic Lands Acct-State",{"$f":"LEFT(Table_clallam_Oversight_ActiveFunds[[#This Row],[Fund]],5)","v":"02R-1"}]
[null,"477-Fish & Wildlife","04M-1 Recreatnl Fish Enhan-State",{"$f":"LEFT(Table_clallam_Oversight_ActiveFunds[[#This Row],[Fund]],5)","v":"04M-1"}]
[null,"477-Fish & Wildlife","06A-1 Salmon Recovery Acct-State",{"$f":"LEFT(Table_clallam_Oversight_ActiveFunds[[#This Row],[Fund]],5)","v":"06A-1"}]
[null,"477-Fish & Wildlife","071-1 Warm Water Game Fish-State",{"$f":"LEFT(Table_clallam_Oversight_ActiveFunds[[#This Row],[Fund]],5)","v":"071-1"}]
[null,"477-Fish & Wildlife","07V-6 Fish & Wild E Reward-Non-Appr",{"$f":"LEFT(Table_clallam_Oversight_ActiveFunds[[#This Row],[Fund]],5)","v":"07V-6"}]
[null,"477-Fish & Wildlife","098-1 EW Pheas Enh Acct-State",{"$f":"LEFT(Table_clallam_Oversight_ActiveFunds[[#This Row],[Fund]],5)","v":"098-1"}]
[null,"477-Fish & Wildlife","09J-6 WA Coast Crab Pot B-Non-Appr",{"$f":"LEFT(Table_clallam_Oversight_ActiveFunds[[#This Row],[Fund]],5)","v":"09J-6"}]
[null,"477-Fish & Wildlife","104-1 Lim Fish & Wildlife-State",{"$f":"LEFT(Table_clallam_Oversight_ActiveFunds[[#This Row],[Fund]],5)","v":"104-1"}]
[null,"477-Fish & Wildlife","110-1 Special Wildlife-State",{"$f":"LEFT(Table_clallam_Oversight_ActiveFunds[[#This Row],[Fund]],5)","v":"110-1"}]
[null,"477-Fish & Wildlife","110-2 Special Wildlife-Federal",{"$f":"LEFT(Table_clallam_Oversight_ActiveFunds[[#This Row],[Fund]],5)","v":"110-2"}]
[null,"477-Fish & Wildlife","110-7 Special Wildlife-Local",{"$f":"LEFT(Table_clallam_Oversight_ActiveFunds[[#This Row],[Fund]],5)","v":"110-7"}]
[null,"477-Fish & Wildlife","12G-6 Rockfish Research-Non-Appr",{"$f":"LEFT(Table_clallam_Oversight_ActiveFunds[[#This Row],[Fund]],5)","v":"12G-6"}]
[null,"477-Fish & Wildlife","14A-1 Wildlife Rehab-State",{"$f":"LEFT(Table_clallam_Oversight_ActiveFunds[[#This Row],[Fund]],5)","v":"14A-1"}]
[null,"477-Fish & Wildlife","14G-1 Ballast Water Mgmt-State",{"$f":"LEFT(Table_clallam_Oversight_ActiveFunds[[#This Row],[Fund]],5)","v":"14G-1"}]
[null,"477-Fish & Wildlife","19W-6 Wolf-Livestock Confl - Non-Appr",{"$f":"LEFT(Table_clallam_Oversight_ActiveFunds[[#This Row],[Fund]],5)","v":"19W-6"}]
[null,"477-Fish & Wildlife","200-2 Reg Fish Salmonid-Federal",{"$f":"LEFT(Table_clallam_Oversight_ActiveFunds[[#This Row],[Fund]],5)","v":"200-2"}]
[null,"477-Fish & Wildlife","209-6 Region Fisheries Enh-Non-Appr",{"$f":"LEFT(Table_clallam_Oversight_ActiveFunds[[#This Row],[Fund]],5)","v":"209-6"}]
[null,"477-Fish & Wildlife","217-1 Oil Spill Prevn Acct-State",{"$f":"LEFT(Table_clallam_Oversight_ActiveFunds[[#This Row],[Fund]],5)","v":"217-1"}]
[null,"477-Fish & Wildlife","21S-1 Aquat Invas Spec Mgt-State",{"$f":"LEFT(Table_clallam_Oversight_ActiveFunds[[#This Row],[Fund]],5)","v":"21S-1"}]
[null,"477-Fish & Wildlife","22N-6 F&W Fed Lnds Rev-Non-Appr",{"$f":"LEFT(Table_clallam_Oversight_ActiveFunds[[#This Row],[Fund]],5)","v":"22N-6"}]
[null,"477-Fish & Wildlife","23P-1 Model Toxics Oper-State",{"$f":"LEFT(Table_clallam_Oversight_ActiveFunds[[#This Row],[Fund]],5)","v":"23P-1"}]
[null,"477-Fish & Wildlife","24N-1 Fish Wildlife Consv-State",{"$f":"LEFT(Table_clallam_Oversight_ActiveFunds[[#This Row],[Fund]],5)","v":"24N-1"}]
[null,"477-Fish & Wildlife","259-6 Coastal Crab-Non-Appr",{"$f":"LEFT(Table_clallam_Oversight_ActiveFunds[[#This Row],[Fund]],5)","v":"259-6"}]
[null,"477-Fish & Wildlife","320-6 PS Crab Pot Buoy Tag-Non-Appr",{"$f":"LEFT(Table_clallam_Oversight_ActiveFunds[[#This Row],[Fund]],5)","v":"320-6"}]
[null,"477-Fish & Wildlife","444-6 Fish & Wild Equip-Non-Appr",{"$f":"LEFT(Table_clallam_Oversight_ActiveFunds[[#This Row],[Fund]],5)","v":"444-6"}]
[null,"477-Fish & Wildlife","507-1 Oyster Reserve Land-State",{"$f":"LEFT(Table_clallam_Oversight_ActiveFunds[[#This Row],[Fund]],5)","v":"507-1"}]
[null,"477-Fish & Wildlife","108-1 Motor Vehicle Acct-State",{"$f":"LEFT(Table_clallam_Oversight_ActiveFunds[[#This Row],[Fund]],5)","v":"108-1"}]
[null,"478-Puget Sound Partner","001-1 General Fund-State",{"$f":"LEFT(Table_clallam_Oversight_ActiveFunds[[#This Row],[Fund]],5)","v":"001-1"}]
[null,"478-Puget Sound Partner","001-2 General Fund-Federal",{"$f":"LEFT(Table_clallam_Oversight_ActiveFunds[[#This Row],[Fund]],5)","v":"001-2"}]
[null,"478-Puget Sound Partner","02R-1 Aquatic Lands Acct-State",{"$f":"LEFT(Table_clallam_Oversight_ActiveFunds[[#This Row],[Fund]],5)","v":"02R-1"}]
[null,"478-Puget Sound Partner","23P-1 Model Toxics Oper-State",{"$f":"LEFT(Table_clallam_Oversight_ActiveFunds[[#This Row],[Fund]],5)","v":"23P-1"}]
[null,"490-DNR","001-1 General Fund-State",{"$f":"LEFT(Table_clallam_Oversight_ActiveFunds[[#This Row],[Fund]],5)","v":"001-1"}]
[null,"490-DNR","001-2 General Fund-Federal",{"$f":"LEFT(Table_clallam_Oversight_ActiveFunds[[#This Row],[Fund]],5)","v":"001-2"}]
[null,"490-DNR","001-7 General Fund-Local",{"$f":"LEFT(Table_clallam_Oversight_ActiveFunds[[#This Row],[Fund]],5)","v":"001-7"}]
[null,"490-DNR","014-1 Forest Development-State",{"$f":"LEFT(Table_clallam_Oversight_ActiveFunds[[#This Row],[Fund]],5)","v":"014-1"}]
[null,"490-DNR","01B-1 ORV/NonHiwy Veh Acct-State",{"$f":"LEFT(Table_clallam_Oversight_ActiveFunds[[#This Row],[Fund]],5)","v":"01B-1"}]
[null,"490-DNR","02A-1 Surveys & Maps Acct-State",{"$f":"LEFT(Table_clallam_Oversight_ActiveFunds[[#This Row],[Fund]],5)","v":"02A-1"}]
[null,"490-DNR","02R-1 Aquatic Lands Acct-State",{"$f":"LEFT(Table_clallam_Oversight_ActiveFunds[[#This Row],[Fund]],5)","v":"02R-1"}]
[null,"490-DNR","030-6 Land Cont Forst Fire-Non-Appr",{"$f":"LEFT(Table_clallam_Oversight_ActiveFunds[[#This Row],[Fund]],5)","v":"030-6"}]
[null,"490-DNR","041-1 Res Mgmt Cost Acct-State",{"$f":"LEFT(Table_clallam_Oversight_ActiveFunds[[#This Row],[Fund]],5)","v":"041-1"}]
[null,"490-DNR","04H-1 Surface Mining Recl-State",{"$f":"LEFT(Table_clallam_Oversight_ActiveFunds[[#This Row],[Fund]],5)","v":"04H-1"}]
[null,"490-DNR","05H-1 Disaster Response-State",{"$f":"LEFT(Table_clallam_Oversight_ActiveFunds[[#This Row],[Fund]],5)","v":"05H-1"}]
[null,"490-DNR","06A-1 Salmon Recovery Acct-State",{"$f":"LEFT(Table_clallam_Oversight_ActiveFunds[[#This Row],[Fund]],5)","v":"06A-1"}]
[null,"490-DNR","07E-1 Con Harv Rev Account-State",{"$f":"LEFT(Table_clallam_Oversight_ActiveFunds[[#This Row],[Fund]],5)","v":"07E-1"}]
[null,"490-DNR","07E-6 Con Harv Rev Account-Non-Appr",{"$f":"LEFT(Table_clallam_Oversight_ActiveFunds[[#This Row],[Fund]],5)","v":"07E-6"}]
[null,"490-DNR","087-6 Park Land Trust Rvlg-Non-Appr",{"$f":"LEFT(Table_clallam_Oversight_ActiveFunds[[#This Row],[Fund]],5)","v":"087-6"}]
[null,"490-DNR","11H-1 Forest & Fish Suppt-State",{"$f":"LEFT(Table_clallam_Oversight_ActiveFunds[[#This Row],[Fund]],5)","v":"11H-1"}]
[null,"490-DNR","158-1 Aquatic Land Dredged-State",{"$f":"LEFT(Table_clallam_Oversight_ActiveFunds[[#This Row],[Fund]],5)","v":"158-1"}]
[null,"490-DNR","167-1 Nat Resources Conser-State",{"$f":"LEFT(Table_clallam_Oversight_ActiveFunds[[#This Row],[Fund]],5)","v":"167-1"}]
[null,"490-DNR","190-1 Forest Assessment-State",{"$f":"LEFT(Table_clallam_Oversight_ActiveFunds[[#This Row],[Fund]],5)","v":"190-1"}]
[null,"490-DNR","190-6 Forest Assessment-Non-Appr",{"$f":"LEFT(Table_clallam_Oversight_ActiveFunds[[#This Row],[Fund]],5)","v":"190-6"}]
[null,"490-DNR","193-1 ST Forest Nursery-State",{"$f":"LEFT(Table_clallam_Oversight_ActiveFunds[[#This Row],[Fund]],5)","v":"193-1"}]
[null,"490-DNR","193-6 ST Forest Nursery-Non-Appr",{"$f":"LEFT(Table_clallam_Oversight_ActiveFunds[[#This Row],[Fund]],5)","v":"193-6"}]
[null,"490-DNR","198-1 Access Road Rev Acct-State",{"$f":"LEFT(Table_clallam_Oversight_ActiveFunds[[#This Row],[Fund]],5)","v":"198-1"}]
[null,"490-DNR","198-6 Access Road Rev Acct-Non-Appr",{"$f":"LEFT(Table_clallam_Oversight_ActiveFunds[[#This Row],[Fund]],5)","v":"198-6"}]
[null,"490-DNR","19C-1 Forest Practices App-State",{"$f":"LEFT(Table_clallam_Oversight_ActiveFunds[[#This Row],[Fund]],5)","v":"19C-1"}]
[null,"490-DNR","216-1 Air Poll Contr Acct-State",{"$f":"LEFT(Table_clallam_Oversight_ActiveFunds[[#This Row],[Fund]],5)","v":"216-1"}]
[null,"490-DNR","21Q-1 Forest Hlth Rev Acct-State",{"$f":"LEFT(Table_clallam_Oversight_ActiveFunds[[#This Row],[Fund]],5)","v":"21Q-1"}]
[null,"490-DNR","21Q-6 Forest Hlth Rev Acct-Non-Appr",{"$f":"LEFT(Table_clallam_Oversight_ActiveFunds[[#This Row],[Fund]],5)","v":"21Q-6"}]
[null,"490-DNR","22P-1 Nat Rsrc Fed Lnds Rv-State",{"$f":"LEFT(Table_clallam_Oversight_ActiveFunds[[#This Row],[Fund]],5)","v":"22P-1"}]
[null,"490-DNR","22P-6 Nat Rsrc Fed Lnds Rv-Non-Appr",{"$f":"LEFT(Table_clallam_Oversight_ActiveFunds[[#This Row],[Fund]],5)","v":"22P-6"}]
[null,"490-DNR","23P-1 Model Toxics Oper-State",{"$f":"LEFT(Table_clallam_Oversight_ActiveFunds[[#This Row],[Fund]],5)","v":"23P-1"}]
[null,"490-DNR","25P-1 Wildfire Forest Comm-State",{"$f":"LEFT(Table_clallam_Oversight_ActiveFunds[[#This Row],[Fund]],5)","v":"25P-1"}]
[null,"490-DNR","268-1 NOVA Program Account-State",{"$f":"LEFT(Table_clallam_Oversight_ActiveFunds[[#This Row],[Fund]],5)","v":"268-1"}]
[null,"490-DNR","513-1 Derelict Vessel Rmv-State",{"$f":"LEFT(Table_clallam_Oversight_ActiveFunds[[#This Row],[Fund]],5)","v":"513-1"}]
[null,"490-DNR","566-1 Comm Forest Trust-State",{"$f":"LEFT(Table_clallam_Oversight_ActiveFunds[[#This Row],[Fund]],5)","v":"566-1"}]
[null,"490-DNR","830-1 Agric College Trst-State",{"$f":"LEFT(Table_clallam_Oversight_ActiveFunds[[#This Row],[Fund]],5)","v":"830-1"}]
[null,"495-Agriculture","001-1 General Fund-State",{"$f":"LEFT(Table_clallam_Oversight_ActiveFunds[[#This Row],[Fund]],5)","v":"001-1"}]
[null,"495-Agriculture","001-2 General Fund-Federal",{"$f":"LEFT(Table_clallam_Oversight_ActiveFunds[[#This Row],[Fund]],5)","v":"001-2"}]
[null,"495-Agriculture","001-7 General Fund-Local",{"$f":"LEFT(Table_clallam_Oversight_ActiveFunds[[#This Row],[Fund]],5)","v":"001-7"}]
[null,"495-Agriculture","001-X General Fund-CRF App",{"$f":"LEFT(Table_clallam_Oversight_ActiveFunds[[#This Row],[Fund]],5)","v":"001-X"}]
[null,"495-Agriculture","02R-1 Aquatic Lands Acct-State",{"$f":"LEFT(Table_clallam_Oversight_ActiveFunds[[#This Row],[Fund]],5)","v":"02R-1"}]
[null,"495-Agriculture","126-6 Agric Local Acct-Non-Appr",{"$f":"LEFT(Table_clallam_Oversight_ActiveFunds[[#This Row],[Fund]],5)","v":"126-6"}]
[null,"495-Agriculture","128-6 Grain Inspection-Non-Appr",{"$f":"LEFT(Table_clallam_Oversight_ActiveFunds[[#This Row],[Fund]],5)","v":"128-6"}]
[null,"495-Agriculture","131-6 Fair Account-Non-Appr",{"$f":"LEFT(Table_clallam_Oversight_ActiveFunds[[#This Row],[Fund]],5)","v":"131-6"}]
[null,"495-Agriculture","176-1 Water Quality Permit-State",{"$f":"LEFT(Table_clallam_Oversight_ActiveFunds[[#This Row],[Fund]],5)","v":"176-1"}]
[null,"495-Agriculture","21N-1 NE WA Wolf-Livestock - State",{"$f":"LEFT(Table_clallam_Oversight_ActiveFunds[[#This Row],[Fund]],5)","v":"21N-1"}]
[null,"495-Agriculture","23P-1 Model Toxics Oper-State",{"$f":"LEFT(Table_clallam_Oversight_ActiveFunds[[#This Row],[Fund]],5)","v":"23P-1"}]
[null,"495-Agriculture","24G-6 Hemp Regulatory Acct-Non-Appr",{"$f":"LEFT(Table_clallam_Oversight_ActiveFunds[[#This Row],[Fund]],5)","v":"24G-6"}]
[null,"495-Agriculture","315-1 Dedicated Cannabis-State",{"$f":"LEFT(Table_clallam_Oversight_ActiveFunds[[#This Row],[Fund]],5)","v":"315-1"}]
[null,"495-Agriculture","516-6 Fruit/Vegetable Insp-Non-Appr",{"$f":"LEFT(Table_clallam_Oversight_ActiveFunds[[#This Row],[Fund]],5)","v":"516-6"}]
[null,"495-Agriculture","706-2 COVID Fiscal Recover-Federal",{"$f":"LEFT(Table_clallam_Oversight_ActiveFunds[[#This Row],[Fund]],5)","v":"706-2"}]
[null,"495-Agriculture","823-6 Livestock Nutr Mgmt-Non-Appr",{"$f":"LEFT(Table_clallam_Oversight_ActiveFunds[[#This Row],[Fund]],5)","v":"823-6"}]
[null,"495-Agriculture","108-1 Motor Vehicle Acct-State",{"$f":"LEFT(Table_clallam_Oversight_ActiveFunds[[#This Row],[Fund]],5)","v":"108-1"}]
[null,"540-Employment Security","001-1 General Fund-State",{"$f":"LEFT(Table_clallam_Oversight_ActiveFunds[[#This Row],[Fund]],5)","v":"001-1"}]
[null,"540-Employment Security","001-2 General Fund-Federal",{"$f":"LEFT(Table_clallam_Oversight_ActiveFunds[[#This Row],[Fund]],5)","v":"001-2"}]
[null,"540-Employment Security","001-7 General Fund-Local",{"$f":"LEFT(Table_clallam_Oversight_ActiveFunds[[#This Row],[Fund]],5)","v":"001-7"}]
[null,"540-Employment Security","001-H General Fund-ARPA",{"$f":"LEFT(Table_clallam_Oversight_ActiveFunds[[#This Row],[Fund]],5)","v":"001-H"}]
[null,"540-Employment Security","001-X General Fund-CRF App",{"$f":"LEFT(Table_clallam_Oversight_ActiveFunds[[#This Row],[Fund]],5)","v":"001-X"}]
[null,"540-Employment Security","119-2 Unemploy Comp Admin-Federal",{"$f":"LEFT(Table_clallam_Oversight_ActiveFunds[[#This Row],[Fund]],5)","v":"119-2"}]
[null,"540-Employment Security","120-1 Admin Contingen Acct-State",{"$f":"LEFT(Table_clallam_Oversight_ActiveFunds[[#This Row],[Fund]],5)","v":"120-1"}]
[null,"540-Employment Security","134-1 Employment Service-State",{"$f":"LEFT(Table_clallam_Oversight_ActiveFunds[[#This Row],[Fund]],5)","v":"134-1"}]
[null,"540-Employment Security","16L-6 Accessible Community-Non-Appr",{"$f":"LEFT(Table_clallam_Oversight_ActiveFunds[[#This Row],[Fund]],5)","v":"16L-6"}]
[null,"540-Employment Security","22F-1 Fam Med Lv Insurance-State",{"$f":"LEFT(Table_clallam_Oversight_ActiveFunds[[#This Row],[Fund]],5)","v":"22F-1"}]
[null,"540-Employment Security","24J-1 Workforce Ed Invest-State",{"$f":"LEFT(Table_clallam_Oversight_ActiveFunds[[#This Row],[Fund]],5)","v":"24J-1"}]
[null,"540-Employment Security","25B-1 Unemp Ins Relief-State",{"$f":"LEFT(Table_clallam_Oversight_ActiveFunds[[#This Row],[Fund]],5)","v":"25B-1"}]
[null,"540-Employment Security","567-1 Long-Term Svcs & Spt - State",{"$f":"LEFT(Table_clallam_Oversight_ActiveFunds[[#This Row],[Fund]],5)","v":"567-1"}]
[null,"540-Employment Security","706-2 COVID Fiscal Recover-Federal",{"$f":"LEFT(Table_clallam_Oversight_ActiveFunds[[#This Row],[Fund]],5)","v":"706-2"}]
[null,"699-C T C S","001-1 General Fund-State",{"$f":"LEFT(Table_clallam_Oversight_ActiveFunds[[#This Row],[Fund]],5)","v":"001-1"}]
[null,"699-C T C S","060-1 Comm/Tech Cap Proj A-State",{"$f":"LEFT(Table_clallam_Oversight_ActiveFunds[[#This Row],[Fund]],5)","v":"060-1"}]
[null,"699-C T C S","08A-1 Education Legacy T A-State",{"$f":"LEFT(Table_clallam_Oversight_ActiveFunds[[#This Row],[Fund]],5)","v":"08A-1"}]
[null,"699-C T C S","11A-6 Employment Training-Non-Appr",{"$f":"LEFT(Table_clallam_Oversight_ActiveFunds[[#This Row],[Fund]],5)","v":"11A-6"}]
[null,"699-C T C S","145-6 HE Grants/Contract-Non-Appr",{"$f":"LEFT(Table_clallam_Oversight_ActiveFunds[[#This Row],[Fund]],5)","v":"145-6"}]
[null,"699-C T C S","148-6 HE Dedicated Local-Non-Appr",{"$f":"LEFT(Table_clallam_Oversight_ActiveFunds[[#This Row],[Fund]],5)","v":"148-6"}]
[null,"699-C T C S","149-6 HE Operating Fees-Non-Appr",{"$f":"LEFT(Table_clallam_Oversight_ActiveFunds[[#This Row],[Fund]],5)","v":"149-6"}]
[null,"699-C T C S","24J-1 Workforce Ed Invest-State",{"$f":"LEFT(Table_clallam_Oversight_ActiveFunds[[#This Row],[Fund]],5)","v":"24J-1"}]
[null,"699-C T C S","443-6 Data Proc-Hi Educ - Non-Appr",{"$f":"LEFT(Table_clallam_Oversight_ActiveFunds[[#This Row],[Fund]],5)","v":"443-6"}]
[null,"699-C T C S","561-6 Comm/Tech College In-Non-Appr",{"$f":"LEFT(Table_clallam_Oversight_ActiveFunds[[#This Row],[Fund]],5)","v":"561-6"}]